Workbook

Sheet Fluxo de Caixa
C1: Dezembro | D1: Janeiro | E1: Fevereiro | F1: Março | G1: Abril | H1: Maio | I1: Junho | J1: Julho | K1: Agosto | L1: Setembro | M1: Outubro | N1: Novembro | O1: Dezembro | P1: Janeiro | Q1: Fevereiro | R1: Março | S1: Abril | T1: Maio | U1: Junho | V1: Julho | W1: Agosto | X1: Setembro | Y1: Mês_23 | Z1: Mês_24 | AA1: Mês_25 | AB1: Mês_26 | AC1: Mês_27 | AD1: Mês_28 | AE1: Mês_29 | AF1: Mês_30 | AG1: Mês_31 | AH1: Mês_32 | AI1: Mês_33 | AJ1: Mês_34 | AK1: Mês_35 | AL1: Mês_36
B3: Dias | C3: 11 | D3: 30 | E3: 30 | F3: 30 | G3: 30 | H3: 30 | I3: 30 | J3: 30 | K3: 30 | L3: 30 | M3: 30 | N3: 30 | O3: 30 | P3: 30 | Q3: 30 | R3: 30 | S3: 30 | T3: 30 | U3: 30 | V3: 30 | W3: 30 | X3: 30 | Y3: 30 | Z3: 30 | AA3: 30 | AB3: 30 | AC3: 30 | AD3: 30 | AE3: 30 | AF3: 30 | AG3: 30 | AH3: 30 | AI3: 30 | AJ3: 30 | AK3: 30 | AL3: 30
B4: Pedidos Por dia | C4: 7 | D4: =C4+2 -> 9 | E4: =D4+2 -> 11 | F4: =E4+2 -> 13 | G4: =F4+2 -> 15 | H4: =G4+1 -> 16 | I4: =H4+1 -> 17 | J4: =I4+1 -> 18 | K4: =J4+1 -> 19 | L4: =K4+1 -> 20 | M4: =L4+1 -> 21 | N4: =M4+1 -> 22 | O4: =N4+1 -> 23 | P4: =O4+1 -> 24 | Q4: 24 | R4: 24 | S4: 24 | T4: 25 | U4: 25 | V4: 25 | W4: 25 | X4: 25 | Y4: 25 | Z4: 25 | AA4: 25 | AB4: 25 | AC4: 25 | AD4: 25 | AE4: 25 | AF4: 25 | AG4: 25 | AH4: 25 | AI4: 25 | AJ4: 25 | AK4: 25 | AL4: 25
B5: Pedidos | C5: =C3*C4 -> 77 | D5: =D3*D4 -> 270 | E5: =E3*E4 -> 330 | F5: =F3*F4 -> 390 | G5: =G3*G4 -> 450 | H5: =H3*H4 -> 480 | I5: =I3*I4 -> 510 | J5: =J3*J4 -> 540 | ... AL5: =AL3*AL4 -> 750
B6: Ticket Médio | C6: 52 | D6: =C6*1.1 -> 57.2 | E6: =D6*1.1 -> 62.92 | F6: =E6*1.1 -> 69.212 | G6: =F6*1.1 -> 76.1332 | H6: =G6*1.1 -> 83.74652 | I6: =H6*1.03 -> 86.258916 | J6: =I6*1.03 -> 88.846683 | K6: =J6*1.03 -> 91.512084 | L6: =K6*1.03 -> 94.257446 | M6: =L6*1.03 -> 97.085169 | N6: =M6*1.03 -> 99.997725 | O6: =N6*1.02 -> 101.99768 | P6: =O6*1.02 -> 104.03763 | Q6: =P6*1.01 -> 105.07801 | R6: =Q6*1.01 -> 106.12879 | S6: =R6*1.01 -> 107.19008 | T6: =S6*1.01 -> 108.26198 | U6: =T6*1.01 -> 109.3446 | V6: =U6*1.01 -> 110.43804 | W6: =V6*1.01 -> 111.54242 | X6: =W6*1.01 -> 112.65785 | ... AL6: =AK6*1.01 -> 129.49729
B8: Entradas | C8: =C5*C6 -> 4004 | D8: =D5*D6 -> 15444 | E8: =E5*E6 -> 20763.6 | F8: =F5*F6 -> 26992.68 | G8: =G5*G6 -> 34259.94 | H8: =H5*H6 -> 40198.33 | I8: =I5*I6 -> 43992.047 | J8: =J5*J6 -> 47977.209 | ... AL8: =AL5*AL6 -> 97122.968
B9: Ifood | C9: =C$8*$C$33 -> 620.62 | D9: =D$8*$C$33 -> 2393.82 | E9: =E$8*$C$33 -> 3218.358 | F9: =F$8*$C$33 -> 4183.8654 | G9: =G$8*$C$33 -> 5310.2907 | H9: =H$8*$C$33 -> 6230.7411 | I9: =I$8*$C$33 -> 6818.7673 | J9: =J$8*$C$33 -> 7436.4674 | ... AL9: =AL$8*$C$33 -> 15054.06
B10: Imposto DAS - 15,5% | C10: 56 | D10: 56 | E10: 56 | F10: 56 | G10: 56 | H10: 56 | I10: 56 | J10: 56 | K10: 56 | L10: 56 | M10: 56 | N10: 56 | O10: =O8*15.5% -> 10908.652 | P10: =P8*15.5% -> 11610.6 | Q10: =Q8*15.5% -> 11726.706 | R10: =R8*15.5% -> 11843.973 | S10: =S8*15.5% -> 11962.413 | T10: =T8*15.5% -> 12585.455 | U10: =U8*15.5% -> 12711.309 | V10: =V8*15.5% -> 12838.423 | ... AL10: =AL8*15.5% -> 15054.06
B12: Receita Líquida | C12: =C8-SUM(C9:C10) -> 3327.38 | D12: =D8-SUM(D9:D10) -> 12994.18 | E12: =E8-SUM(E9:E10) -> 17489.242 | F12: =F8-SUM(F9:F10) -> 22752.815 | G12: =G8-SUM(G9:G10) -> 28893.649 | H12: =H8-SUM(H9:H10) -> 33911.589 | I12: =I8-SUM(I9:I10) -> 37117.28 | J12: =J8-SUM(J9:J10) -> 40484.741 | ... AL12: =AL8-SUM(AL9:AL10) -> 67014.848
B14: Equipamentos | C14: 0 | D14: 0 | E14: =Equipamentos!$F$3 -> 248.9 | F14: =Equipamentos!$F$3 -> 248.9 | G14: =Equipamentos!$F$3 -> 248.9 | H14: =Equipamentos!$F$3 -> 248.9 | I14: =Equipamentos!$F$3 -> 248.9 | J14: =Equipamentos!$F$3 -> 248.9 | K14: =Equipamentos!$F$3 -> 248.9 | L14: =Equipamentos!$F$3 -> 248.9 | ... X14: =Equipamentos!$F$3 -> 248.9 | Y14: 0 | Z14: 0 | AA14: 0 | AB14: 0 | AC14: 0 | AD14: 0 | AE14: 0 | AF14: 0 | AG14: 0 | AH14: 0 | AI14: 0 | AJ14: 0 | AK14: 0 | AL14: 0
B15: Entregador | C15: 500 | D15: 1000 | E15: 1500 | F15: 2000 | G15: ='Entregador Próprio'!$I$6 -> 3212 | H15: ='Entregador Próprio'!$I$6 -> 3212 | I15: ='Entregador Próprio'!$I$6 -> 3212 | J15: ='Entregador Próprio'!$I$6 -> 3212 | K15: ='Entregador Próprio'!$I$6 -> 3212 | L15: ='Entregador Próprio'!$I$6 -> 3212 | M15: ='Entregador Próprio'!$I$6 -> 3212 | N15: ='Entregador Próprio'!$I$6 -> 3212 | ... R15: ='Entregador Próprio'!$I$6 -> 3212 | S15: ='Entregador Próprio'!$I$6*1.05 -> 3372.6 | T15: ='Entregador Próprio'!$I$6*1.05 -> 3372.6 | U15: ='Entregador Próprio'!$I$6*1.05 -> 3372.6 | V15: ='Entregador Próprio'!$I$6*1.05 -> 3372.6 | W15: ='Entregador Próprio'!$I$6*1.05 -> 3372.6 | X15: ='Entregador Próprio'!$I$6*1.05 -> 3372.6 | Y15: ='Entregador Próprio'!$I$6*1.05 -> 3372.6 | Z15: ='Entregador Próprio'!$I$6*1.05 -> 3372.6 | ... AD15: ='Entregador Próprio'!$I$6*1.05 -> 3372.6 | AE15: =AD15*1.05 -> 3541.23 | AF15: 4185.09 | AG15: 4185.09 | AH15: 4185.09 | AI15: 4185.09 | AJ15: 4185.09 | AK15: 4185.09 | AL15: 4185.09
B16: Utilities | C16: 0 | D16: =Utilities!$B$4 -> 130 | E16: =Utilities!$B$4 -> 130 | F16: =Utilities!$B$4 -> 130 | G16: =Utilities!$B$4 -> 130 | H16: =Utilities!$B$4 -> 130 | I16: =Utilities!$B$4 -> 130 | J16: =Utilities!$B$4 -> 130 | K16: =Utilities!$B$4 -> 130 | ... AL16: =Utilities!$B$4 -> 130
B17: Estrutura | C17: =Estrutura!D3 -> 0 | D17: 0 | E17: 0 | F17: 0 | G17: 0 | H17: 0 | I17: 0 | J17: 0 | K17: 0 | L17: 0 | M17: 0 | N17: 0 | O17: 0 | P17: 0 | Q17: 0 | R17: 0 | S17: 0 | T17: 0 | U17: 0 | V17: 0 | W17: 0 | X17: 0 | Y17: 0 | Z17: 0 | AA17: 0 | AB17: 0 | AC17: 0 | AD17: 0 | AE17: 0 | AF17: 0 | AG17: 0 | AH17: 0 | AI17: 0 | AJ17: 0 | AK17: 0 | AL17: 0
B18: Ocupação | C18: =Ocupação!$D$5 -> 0 | D18: =Ocupação!$D$5 -> 0 | E18: =Ocupação!$D$5 -> 0 | F18: =Ocupação!$D$5 -> 0 | G18: =Ocupação!$D$5 -> 0 | H18: =Ocupação!$D$5 -> 0 | I18: =Ocupação!$D$5 -> 0 | J18: =Ocupação!$D$5 -> 0 | ... AL18: =Ocupação!$D$5 -> 0
B19: Estoque | C19: 0 | D19: =Estoque_1!$F$80 -> 2002 | E19: ='Estoque_1 (2)'!$F$80 -> 7722 | F19: ='Estoque_1 (3)'!$F$80 -> 10381.8 | G19: ='Estoque_1 (4)'!$F$80 -> 13496.34 | H19: ='Estoque_1 (5)'!$F$80 -> 17129.97 | I19: ='Estoque_1 (6)'!$F$80 -> 20099.165 | J19: ='Estoque_1 (7)'!$F$80 -> 21996.023 | K19: ='Estoque_1 (8)'!$F$80 -> 23988.604 | L19: ='Estoque_1 (9)'!$F$80 -> 26080.944 | M19: ='Estoque_1 (10)'!$F$80 -> 28277.234 | N19: ='Estoque_1 (11)'!$F$80 -> 30581.828 | O19: ='Estoque_1 (12)'!$F$80 -> 32999.249 | P19: ='Estoque_1 (13)'!$F$80 -> 35189.199 | Q19: ='Estoque_1 (14)'!$F$80 -> 37453.548 | R19: ='Estoque_1 (15)'!$F$80 -> 37828.083 | S19: ='Estoque_1 (16)'!$F$80 -> 38206.364 | T19: ='Estoque_1 (17)'!$F$80 -> 38588.428 | U19: ='Estoque_1 (18)'!$F$80 -> 40598.242 | V19: ='Estoque_1 (19)'!$F$80 -> 41004.224 | W19: ='Estoque_1 (20)'!$F$80 -> 41414.266 | X19: ='Estoque_1 (21)'!$F$80 -> 41828.409 | Y19: ='Estoque_1 (22)'!$F$80 -> 42246.693 | Z19: ='Estoque_1 (23)'!$F$80 -> 42669.16 | AA19: ='Estoque_1 (24)'!$F$80 -> 43095.852 | AB19: ='Estoque_1 (25)'!$F$80 -> 43526.81 | AC19: ='Estoque_1 (26)'!$F$80 -> 43962.078 | AD19: ='Estoque_1 (27)'!$F$80 -> 44401.699 | AE19: ='Estoque_1 (28)'!$F$80 -> 44845.716 | AF19: ='Estoque_1 (29)'!$F$80 -> 45294.173 | AG19: ='Estoque_1 (30)'!$F$80 -> 45747.115 | AH19: ='Estoque_1 (31)'!$F$80 -> 46204.586 | AI19: ='Estoque_1 (32)'!$F$80 -> 46666.632 | AJ19: ='Estoque_1 (33)'!$F$80 -> 47133.298 | AK19: ='Estoque_1 (34)'!$F$80 -> 47604.631 | AL19: ='Estoque_1 (35)'!$F$80 -> 48080.677
B21: Total | C21: =SUM(C14:C19) -> 500 | D21: =SUM(D14:D19) -> 3132 | E21: =SUM(E14:E19) -> 9600.9 | F21: =SUM(F14:F19) -> 12760.7 | G21: =SUM(G14:G19) -> 17087.24 | H21: =SUM(H14:H19) -> 20720.87 | I21: =SUM(I14:I19) -> 23690.065 | J21: =SUM(J14:J19) -> 25586.923 | ... AL21: =SUM(AL14:AL19) -> 52395.767
B23: Retirada Sócio | C23: 0 | D23: 1600 | E23: 1600 | F23: 1600 | G23: 1600 | H23: 1600 | I23: 1600 | J23: 1600 | K23: 1600 | L23: 1600 | M23: 1600 | N23: 1600 | O23: 1800 | P23: 1800 | Q23: 1800 | R23: 1800 | S23: 1800 | T23: 1800 | U23: 1800 | V23: 1800 | W23: 1800 | X23: 1800 | Y23: 1900 | Z23: 2100 | AA23: 2200 | AB23: 2200 | AC23: 2200 | AD23: 2200 | AE23: 10000 | AF23: 10000 | AG23: 10000 | AH23: 10000 | AI23: 10000 | AJ23: 10000 | AK23: 10000 | AL23: 10000
B24: Quitação Crédito Pessoal | C24: 0 | D24: 0 | E24: 1667 | F24: 1667 | G24: 1667 | H24: 1667 | I24: 1667 | J24: 1667 | K24: 1667 | L24: 1667 | M24: 1667 | N24: 1667 | O24: 1667 | P24: 1667 | Q24: 1667 | R24: 1667 | S24: 1667 | T24: 1667 | U24: 1667 | V24: 1667 | W24: 1667 | X24: 1667 | Y24: 1667 | Z24: 1667 | AA24: 1667 | AB24: 1667 | AC24: 1667 | AD24: 1667 | AE24: 1667 | AF24: 1667 | AG24: 1667 | AH24: 1667
B25: Quitação Cartão de Crédito | C25: 0 | D25: 2600 | E25: 2600 | F25: 2600 | G25: 2600 | H25: 2600 | I25: 2600 | J25: 2600 | K25: 2600 | L25: 2600 | M25: 2600 | N25: 2600 | O25: 2600 | P25: 2600 | Q25: 2600 | R25: 2600 | S25: 2600 | T25: 2600 | U25: 2600 | V25: 2600 | W25: 2600 | X25: 2600 | Y25: 2600
B26: Pagamento Alba | C26: 0 | D26: 3000 | E26: 3000 | F26: 3500 | G26: 4000 | H26: 5000 | I26: 5000 | J26: 5000 | K26: 6500 | L26: 7000 | M26: 8000 | N26: 9000 | O26: 9000 | P26: 9500 | Q26: 9500 | R26: 9500 | S26: 9500 | T26: 9500 | U26: 10000 | V26: 10000 | W26: 10000 | X26: 10000 | Y26: 0 | Z26: 0 | AA26: 0 | AB26: 0 | AC26: 0 | AD26: 0 | AE26: 0 | AF26: 0 | AG26: 0 | AH26: 0 | AI26: 0 | AJ26: 0 | AK26: 0 | AL26: 0
B28: Fluxo | C28: =C12-C21-SUM(C23:C26) -> 2827.38 | D28: =C28-D21+D12-SUM(D23:D26) -> 5489.56 | E28: =D28-E21+E12-SUM(E23:E26) -> 4510.902 | F28: =E28-F21+F12-SUM(F23:F26) -> 5136.0166 | G28: =F28-G21+G12-SUM(G23:G26) -> 7075.4259 | H28: =G28-H21+H12-SUM(H23:H26) -> 9399.1444 | I28: =H28-I21+I12-SUM(I23:I26) -> 11959.359 | J28: =I28-J21+J12-SUM(J23:J26) -> 15990.177 | K28: =J28-K21+K12-SUM(K23:K26) -> 20064.468 | ... AL28: =AK28-AL21+AL12-SUM(AL23:AL26) -> 84598.003
E29: 3410.36
E30: =E29-E25 -> 810.36
B31: Variável
B32: Ifood sem Entregador | C32: 0.265
B33: Ifood com Entregador | C33: =12%+3.5% -> 0.155

Sheet Equipamentos
A1: Equipamento | B1: Valor | C1: Qtd | D1: Pagamento | E1: Total | F1: Mensal | G1: Consumo (Kw/h) | H1: Utilização
A2: Cervejeira | B2: 2489 | C2: 1 | D2: 10 | E2: =B2*C2 -> 2489 | F2: =E2/D2 -> 248.9 | G2: 40 | H2: 49.1136 | I2: 1.22784
E3: =SUM(E2:E2) -> 2489 | F3: =SUM(F2:F2) -> 248.9

Sheet Entregador Próprio
B2: Segunda | C2: Terça | D2: Quarta | E2: Quinta | F2: Sexta | G2: Sábado | H2: Domingo
A3: Horário Funcionamento | B3: 8 | C3: 8 | D3: 8 | E3: 9 | F3: 12 | G3: 14 | H3: 14 | I3: =SUM(B3:H3) -> 73
A4: Custo Motoboy | B4: =B3*13 -> 104 | C4: =C3*13 -> 104 | D4: =D3*13 -> 104 | E4: =E3*13 -> 117 | F4: =F3*13 -> 156 | G4: =G3*13 -> 182 | H4: =H3*13 -> 182 | I4: =I3*11 -> 803 | M4: 954
M5: =44 -> 44
I6: =I4*4 -> 3212 | M6: =M5*4 -> 176
M7: =M4/M6 -> 5.4204545

Sheet Utilities
A1: Serviço | B1: Valor Mensal | C1: Qtd | D1: Pagamento | E1: Anual
A2: Ifood | B2: 130 | C2: 1 | D2: 12 | E2: =D2*B2 -> 1560
B4: =SUM(B2:B3) -> 130

Sheet Estrutura
A1: Equipamento | B1: Valor | C1: Forma Pagamento | D1: Valor Mensal | E1: Caixa
D3: =SUM(D2:D2) -> 0

Sheet Ocupação
A1: Despesa | B1: Valor | C1: Parcelas | D1: Mensal
D5: =SUM(D2) -> 0

Sheet Estoque_1
A1: Categoria | B1: Bebida | C1: Tamanho | D1: Quantidade | E1: Valor Unitário | F1: Total | G1: Preço Venda | H1: Total
A2: Cerveja | B2: Heineken | C2: Long | D2: 26 | E2: 3.7179 | F2: =E2*D2 -> 96.6654 | G2: =E2*$D$78 -> 7.4358 | H2: =G2*D2 -> 193.3308
A3: Cerveja | B3: Heineken | C3: Lata | D3: 26 | E3: 3.3939 | F3: =E3*D3 -> 88.2414 | G3: =E3*$D$78 -> 6.7878 | H3: =G3*D3 -> 176.4828
A4: Cerveja | B4: Budweiser | C4: Long | D4: 26 | E4: 2.6649 | F4: =E4*D4 -> 69.2874 | G4: =E4*$D$78 -> 5.3298 | H4: =G4*D4 -> 138.5748
A5: Cerveja | B5: Budweiser | C5: Lata | D5: 26 | E5: 2.6649 | F5: =E5*D5 -> 69.2874 | G5: =E5*$D$78 -> 5.3298 | H5: =G5*D5 -> 138.5748
A6: Cerveja | B6: Antarctica | C6: Lata | D6: 26 | E6: 2.1789 | F6: =E6*D6 -> 56.6514 | G6: =E6*$D$78 -> 4.3578 | H6: =G6*D6 -> 113.3028
A7: Cerveja | B7: Antarctica | C7: Latão | D7: 26 | E7: 2.9079 | F7: =E7*D7 -> 75.6054 | G7: =E7*$D$78 -> 5.8158 | H7: =G7*D7 -> 151.2108
A8: Cerveja | B8: Brahma | C8: Lata | D8: 26 | E8: 1.8549 | F8: =E8*D8 -> 48.2274 | G8: =E8*$D$78 -> 3.7098 | H8: =G8*D8 -> 96.4548
A9: Cerveja | B9: Brahma | C9: Latão | D9: 26 | E9: 2.9079 | F9: =E9*D9 -> 75.6054 | G9: =E9*$D$78 -> 5.8158 | H9: =G9*D9 -> 151.2108
A10: Cerveja | B10: Stella | C10: Long | D10: 26 | E10: 2.8269 | F10: =E10*D10 -> 73.4994 | G10: =E10*$D$78 -> 5.6538 | H10: =G10*D10 -> 146.9988
A11: Cerveja | B11: Stella | C11: Lata | D11: 26 | E11: 2.2599 | F11: =E11*D11 -> 58.7574 | G11: =E11*$D$78 -> 4.5198 | H11: =G11*D11 -> 117.5148
A12: Refrigerante | B12: Coca | C12: Lata | D12: 26 | E12: 2.2599 | F12: =E12*D12 -> 58.7574 | G12: =E12*$D$78 -> 4.5198 | H12: =G12*D12 -> 117.5148
A13: Refrigerante | B13: Sprite | C13: Lata | D13: 12 | E13: 2.0979 | F13: =E13*D13 -> 25.1748 | G13: =E13*$D$78 -> 4.1958 | H13: =G13*D13 -> 50.3496
... A75: Snack | B75: Barra de Chocolate | C75: Barra | D75: 5 | E75: 2.835 | F75: =E75*D75 -> 14.175 | G75: =E75*$D$78 -> 5.67 | H75: =G75*D75 -> 28.35
D77: Markup | F77: =SUM(F2:F76) -> 2234.7252 | H77: =SUM(H2:H75) -> 4469.4504
D78: 2 | F78: =H78/$D$78 -> -232.7252 | H78: ='Fluxo de Caixa'!C8-H77 -> -465.4504
F80: =SUM(F77:F78) -> 2002 | H80: =SUM(H77:H78) -> 4004

Sheet Estoque_1 (2)
A1: Categoria | B1: Bebida | C1: Tamanho | D1: Quantidade | E1: Valor Unitário | F1: Total | G1: Preço Venda | H1: Total
A2: Cerveja | B2: Heineken | C2: Long | D2: 26 | E2: 3.7179 | F2: =E2*D2 -> 96.6654 | G2: =E2*$D$78 -> 7.4358 | H2: =G2*D2 -> 193.3308
A3: Cerveja | B3: Heineken | C3: Lata | D3: 26 | E3: 3.3939 | F3: =E3*D3 -> 88.2414 | G3: =E3*$D$78 -> 6.7878 | H3: =G3*D3 -> 176.4828
A4: Cerveja | B4: Budweiser | C4: Long | D4: 26 | E4: 2.6649 | F4: =E4*D4 -> 69.2874 | G4: =E4*$D$78 -> 5.3298 | H4: =G4*D4 -> 138.5748
A5: Cerveja | B5: Budweiser | C5: Lata | D5: 26 | E5: 2.6649 | F5: =E5*D5 -> 69.2874 | G5: =E5*$D$78 -> 5.3298 | H5: =G5*D5 -> 138.5748
A6: Cerveja | B6: Antarctica | C6: Lata | D6: 26 | E6: 2.1789 | F6: =E6*D6 -> 56.6514 | G6: =E6*$D$78 -> 4.3578 | H6: =G6*D6 -> 113.3028
A7: Cerveja | B7: Antarctica | C7: Latão | D7: 26 | E7: 2.9079 | F7: =E7*D7 -> 75.6054 | G7: =E7*$D$78 -> 5.8158 | H7: =G7*D7 -> 151.2108
A8: Cerveja | B8: Brahma | C8: Lata | D8: 26 | E8: 1.8549 | F8: =E8*D8 -> 48.2274 | G8: =E8*$D$78 -> 3.7098 | H8: =G8*D8 -> 96.4548
A9: Cerveja | B9: Brahma | C9: Latão | D9: 26 | E9: 2.9079 | F9: =E9*D9 -> 75.6054 | G9: =E9*$D$78 -> 5.8158 | H9: =G9*D9 -> 151.2108
A10: Cerveja | B10: Stella | C10: Long | D10: 26 | E10: 2.8269 | F10: =E10*D10 -> 73.4994 | G10: =E10*$D$78 -> 5.6538 | H10: =G10*D10 -> 146.9988
A11: Cerveja | B11: Stella | C11: Lata | D11: 26 | E11: 2.2599 | F11: =E11*D11 -> 58.7574 | G11: =E11*$D$78 -> 4.5198 | H11: =G11*D11 -> 117.5148
A12: Refrigerante | B12: Coca | C12: Lata | D12: 26 | E12: 2.2599 | F12: =E12*D12 -> 58.7574 | G12: =E12*$D$78 -> 4.5198 | H12: =G12*D12 -> 117.5148
A13: Refrigerante | B13: Sprite | C13: Lata | D13: 12 | E13: 2.0979 | F13: =E13*D13 -> 25.1748 | G13: =E13*$D$78 -> 4.1958 | H13: =G13*D13 -> 50.3496
... A75: Snack | B75: Barra de Chocolate | C75: Barra | D75: 5 | E75: 2.835 | F75: =E75*D75 -> 14.175 | G75: =E75*$D$78 -> 5.67 | H75: =G75*D75 -> 28.35
D77: Markup | F77: =SUM(F2:F76) -> 2234.7252 | H77: =SUM(H2:H75) -> 4469.4504
D78: 2 | F78: =H78/$D$78 -> 5487.2748 | H78: ='Fluxo de Caixa'!D8-H77 -> 10974.55
F80: =SUM(F77:F78) -> 7722 | H80: =SUM(H77:H78) -> 15444

Sheet Estoque_1 (3)
A1: Categoria | B1: Bebida | C1: Tamanho | D1: Quantidade | E1: Valor Unitário | F1: Total | G1: Preço Venda | H1: Total
A2: Cerveja | B2: Heineken | C2: Long | D2: 26 | E2: 3.7179 | F2: =E2*D2 -> 96.6654 | G2: =E2*$D$78 -> 7.4358 | H2: =G2*D2 -> 193.3308
A3: Cerveja | B3: Heineken | C3: Lata | D3: 26 | E3: 3.3939 | F3: =E3*D3 -> 88.2414 | G3: =E3*$D$78 -> 6.7878 | H3: =G3*D3 -> 176.4828
A4: Cerveja | B4: Budweiser | C4: Long | D4: 26 | E4: 2.6649 | F4: =E4*D4 -> 69.2874 | G4: =E4*$D$78 -> 5.3298 | H4: =G4*D4 -> 138.5748
A5: Cerveja | B5: Budweiser | C5: Lata | D5: 26 | E5: 2.6649 | F5: =E5*D5 -> 69.2874 | G5: =E5*$D$78 -> 5.3298 | H5: =G5*D5 -> 138.5748
A6: Cerveja | B6: Antarctica | C6: Lata | D6: 26 | E6: 2.1789 | F6: =E6*D6 -> 56.6514 | G6: =E6*$D$78 -> 4.3578 | H6: =G6*D6 -> 113.3028
A7: Cerveja | B7: Antarctica | C7: Latão | D7: 26 | E7: 2.9079 | F7: =E7*D7 -> 75.6054 | G7: =E7*$D$78 -> 5.8158 | H7: =G7*D7 -> 151.2108
A8: Cerveja | B8: Brahma | C8: Lata | D8: 26 | E8: 1.8549 | F8: =E8*D8 -> 48.2274 | G8: =E8*$D$78 -> 3.7098 | H8: =G8*D8 -> 96.4548
A9: Cerveja | B9: Brahma | C9: Latão | D9: 26 | E9: 2.9079 | F9: =E9*D9 -> 75.6054 | G9: =E9*$D$78 -> 5.8158 | H9: =G9*D9 -> 151.2108
A10: Cerveja | B10: Stella | C10: Long | D10: 26 | E10: 2.8269 | F10: =E10*D10 -> 73.4994 | G10: =E10*$D$78 -> 5.6538 | H10: =G10*D10 -> 146.9988
A11: Cerveja | B11: Stella | C11: Lata | D11: 26 | E11: 2.2599 | F11: =E11*D11 -> 58.7574 | G11: =E11*$D$78 -> 4.5198 | H11: =G11*D11 -> 117.5148
A12: Refrigerante | B12: Coca | C12: Lata | D12: 26 | E12: 2.2599 | F12: =E12*D12 -> 58.7574 | G12: =E12*$D$78 -> 4.5198 | H12: =G12*D12 -> 117.5148
A13: Refrigerante | B13: Sprite | C13: Lata | D13: 12 | E13: 2.0979 | F13: =E13*D13 -> 25.1748 | G13: =E13*$D$78 -> 4.1958 | H13: =G13*D13 -> 50.3496
... A75: Snack | B75: Barra de Chocolate | C75: Barra | D75: 5 | E75: 2.835 | F75: =E75*D75 -> 14.175 | G75: =E75*$D$78 -> 5.67 | H75: =G75*D75 -> 28.35
D77: Markup | F77: =SUM(F2:F76) -> 2234.7252 | H77: =SUM(H2:H75) -> 4469.4504
D78: 2 | F78: =H78/$D$78 -> 8147.0748 | H78: ='Fluxo de Caixa'!E8-H77 -> 16294.15
F80: =SUM(F77:F78) -> 10381.8 | H80: =SUM(H77:H78) -> 20763.6

Sheet Estoque_1 (4)
A1: Categoria | B1: Bebida | C1: Tamanho | D1: Quantidade | E1: Valor Unitário | F1: Total | G1: Preço Venda | H1: Total
A2: Cerveja | B2: Heineken | C2: Long | D2: 26 | E2: 3.7179 | F2: =E2*D2 -> 96.6654 | G2: =E2*$D$78 -> 7.4358 | H2: =G2*D2 -> 193.3308
A3: Cerveja | B3: Heineken | C3: Lata | D3: 26 | E3: 3.3939 | F3: =E3*D3 -> 88.2414 | G3: =E3*$D$78 -> 6.7878 | H3: =G3*D3 -> 176.4828
A4: Cerveja | B4: Budweiser | C4: Long | D4: 26 | E4: 2.6649 | F4: =E4*D4 -> 69.2874 | G4: =E4*$D$78 -> 5.3298 | H4: =G4*D4 -> 138.5748
A5: Cerveja | B5: Budweiser | C5: Lata | D5: 26 | E5: 2.6649 | F5: =E5*D5 -> 69.2874 | G5: =E5*$D$78 -> 5.3298 | H5: =G5*D5 -> 138.5748
A6: Cerveja | B6: Antarctica | C6: Lata | D6: 26 | E6: 2.1789 | F6: =E6*D6 -> 56.6514 | G6: =E6*$D$78 -> 4.3578 | H6: =G6*D6 -> 113.3028
A7: Cerveja | B7: Antarctica | C7: Latão | D7: 26 | E7: 2.9079 | F7: =E7*D7 -> 75.6054 | G7: =E7*$D$78 -> 5.8158 | H7: =G7*D7 -> 151.2108
A8: Cerveja | B8: Brahma | C8: Lata | D8: 26 | E8: 1.8549 | F8: =E8*D8 -> 48.2274 | G8: =E8*$D$78 -> 3.7098 | H8: =G8*D8 -> 96.4548
A9: Cerveja | B9: Brahma | C9: Latão | D9: 26 | E9: 2.9079 | F9: =E9*D9 -> 75.6054 | G9: =E9*$D$78 -> 5.8158 | H9: =G9*D9 -> 151.2108
A10: Cerveja | B10: Stella | C10: Long | D10: 26 | E10: 2.8269 | F10: =E10*D10 -> 73.4994 | G10: =E10*$D$78 -> 5.6538 | H10: =G10*D10 -> 146.9988
A11: Cerveja | B11: Stella | C11: Lata | D11: 26 | E11: 2.2599 | F11: =E11*D11 -> 58.7574 | G11: =E11*$D$78 -> 4.5198 | H11: =G11*D11 -> 117.5148
A12: Refrigerante | B12: Coca | C12: Lata | D12: 26 | E12: 2.2599 | F12: =E12*D12 -> 58.7574 | G12: =E12*$D$78 -> 4.5198 | H12: =G12*D12 -> 117.5148
A13: Refrigerante | B13: Sprite | C13: Lata | D13: 12 | E13: 2.0979 | F13: =E13*D13 -> 25.1748 | G13: =E13*$D$78 -> 4.1958 | H13: =G13*D13 -> 50.3496
... A75: Snack | B75: Barra de Chocolate | C75: Barra | D75: 5 | E75: 2.835 | F75: =E75*D75 -> 14.175 | G75: =E75*$D$78 -> 5.67 | H75: =G75*D75 -> 28.35
D77: Markup | F77: =SUM(F2:F76) -> 2234.7252 | H77: =SUM(H2:H75) -> 4469.4504
D78: 2 | F78: =H78/$D$78 -> 11261.615 | H78: ='Fluxo de Caixa'!F8-H77 -> 22523.23
F80: =SUM(F77:F78) -> 13496.34 | H80: =SUM(H77:H78) -> 26992.68

Sheet Estoque_1 (5)
A1: Categoria | B1: Bebida | C1: Tamanho | D1: Quantidade | E1: Valor Unitário | F1: Total | G1: Preço Venda | H1: Total
A2: Cerveja | B2: Heineken | C2: Long | D2: 26 | E2: 3.7179 | F2: =E2*D2 -> 96.6654 | G2: =E2*$D$78 -> 7.4358 | H2: =G2*D2 -> 193.3308
A3: Cerveja | B3: Heineken | C3: Lata | D3: 26 | E3: 3.3939 | F3: =E3*D3 -> 88.2414 | G3: =E3*$D$78 -> 6.7878 | H3: =G3*D3 -> 176.4828
A4: Cerveja | B4: Budweiser | C4: Long | D4: 26 | E4: 2.6649 | F4: =E4*D4 -> 69.2874 | G4: =E4*$D$78 -> 5.3298 | H4: =G4*D4 -> 138.5748
A5: Cerveja | B5: Budweiser | C5: Lata | D5: 26 | E5: 2.6649 | F5: =E5*D5 -> 69.2874 | G5: =E5*$D$78 -> 5.3298 | H5: =G5*D5 -> 138.5748
A6: Cerveja | B6: Antarctica | C6: Lata | D6: 26 | E6: 2.1789 | F6: =E6*D6 -> 56.6514 | G6: =E6*$D$78 -> 4.3578 | H6: =G6*D6 -> 113.3028
A7: Cerveja | B7: Antarctica | C7: Latão | D7: 26 | E7: 2.9079 | F7: =E7*D7 -> 75.6054 | G7: =E7*$D$78 -> 5.8158 | H7: =G7*D7 -> 151.2108
A8: Cerveja | B8: Brahma | C8: Lata | D8: 26 | E8: 1.8549 | F8: =E8*D8 -> 48.2274 | G8: =E8*$D$78 -> 3.7098 | H8: =G8*D8 -> 96.4548
A9: Cerveja | B9: Brahma | C9: Latão | D9: 26 | E9: 2.9079 | F9: =E9*D9 -> 75.6054 | G9: =E9*$D$78 -> 5.8158 | H9: =G9*D9 -> 151.2108
A10: Cerveja | B10: Stella | C10: Long | D10: 26 | E10: 2.8269 | F10: =E10*D10 -> 73.4994 | G10: =E10*$D$78 -> 5.6538 | H10: =G10*D10 -> 146.9988
A11: Cerveja | B11: Stella | C11: Lata | D11: 26 | E11: 2.2599 | F11: =E11*D11 -> 58.7574 | G11: =E11*$D$78 -> 4.5198 | H11: =G11*D11 -> 117.5148
A12: Refrigerante | B12: Coca | C12: Lata | D12: 26 | E12: 2.2599 | F12: =E12*D12 -> 58.7574 | G12: =E12*$D$78 -> 4.5198 | H12: =G12*D12 -> 117.5148
A13: Refrigerante | B13: Sprite | C13: Lata | D13: 12 | E13: 2.0979 | F13: =E13*D13 -> 25.1748 | G13: =E13*$D$78 -> 4.1958 | H13: =G13*D13 -> 50.3496
... A75: Snack | B75: Barra de Chocolate | C75: Barra | D75: 5 | E75: 2.835 | F75: =E75*D75 -> 14.175 | G75: =E75*$D$78 -> 5.67 | H75: =G75*D75 -> 28.35
D77: Markup | F77: =SUM(F2:F76) -> 2234.7252 | H77: =SUM(H2:H75) -> 4469.4504
D78: 2 | F78: =H78/$D$78 -> 14895.245 | H78: ='Fluxo de Caixa'!G8-H77 -> 29790.49
F80: =SUM(F77:F78) -> 17129.97 | H80: =SUM(H77:H78) -> 34259.94

Sheet Estoque_1 (6)
A1: Categoria | B1: Bebida | C1: Tamanho | D1: Quantidade | E1: Valor Unitário | F1: Total | G1: Preço Venda | H1: Total
A2: Cerveja | B2: Heineken | C2: Long | D2: 26 | E2: 3.7179 | F2: =E2*D2 -> 96.6654 | G2: =E2*$D$78 -> 7.4358 | H2: =G2*D2 -> 193.3308
A3: Cerveja | B3: Heineken | C3: Lata | D3: 26 | E3: 3.3939 | F3: =E3*D3 -> 88.2414 | G3: =E3*$D$78 -> 6.7878 | H3: =G3*D3 -> 176.4828
A4: Cerveja | B4: Budweiser | C4: Long | D4: 26 | E4: 2.6649 | F4: =E4*D4 -> 69.2874 | G4: =E4*$D$78 -> 5.3298 | H4: =G4*D4 -> 138.5748
A5: Cerveja | B5: Budweiser | C5: Lata | D5: 26 | E5: 2.6649 | F5: =E5*D5 -> 69.2874 | G5: =E5*$D$78 -> 5.3298 | H5: =G5*D5 -> 138.5748
A6: Cerveja | B6: Antarctica | C6: Lata | D6: 26 | E6: 2.1789 | F6: =E6*D6 -> 56.6514 | G6: =E6*$D$78 -> 4.3578 | H6: =G6*D6 -> 113.3028
A7: Cerveja | B7: Antarctica | C7: Latão | D7: 26 | E7: 2.9079 | F7: =E7*D7 -> 75.6054 | G7: =E7*$D$78 -> 5.8158 | H7: =G7*D7 -> 151.2108
A8: Cerveja | B8: Brahma | C8: Lata | D8: 26 | E8: 1.8549 | F8: =E8*D8 -> 48.2274 | G8: =E8*$D$78 -> 3.7098 | H8: =G8*D8 -> 96.4548
A9: Cerveja | B9: Brahma | C9: Latão | D9: 26 | E9: 2.9079 | F9: =E9*D9 -> 75.6054 | G9: =E9*$D$78 -> 5.8158 | H9: =G9*D9 -> 151.2108
A10: Cerveja | B10: Stella | C10: Long | D10: 26 | E10: 2.8269 | F10: =E10*D10 -> 73.4994 | G10: =E10*$D$78 -> 5.6538 | H10: =G10*D10 -> 146.9988
A11: Cerveja | B11: Stella | C11: Lata | D11: 26 | E11: 2.2599 | F11: =E11*D11 -> 58.7574 | G11: =E11*$D$78 -> 4.5198 | H11: =G11*D11 -> 117.5148
A12: Refrigerante | B12: Coca | C12: Lata | D12: 26 | E12: 2.2599 | F12: =E12*D12 -> 58.7574 | G12: =E12*$D$78 -> 4.5198 | H12: =G12*D12 -> 117.5148
A13: Refrigerante | B13: Sprite | C13: Lata | D13: 12 | E13: 2.0979 | F13: =E13*D13 -> 25.1748 | G13: =E13*$D$78 -> 4.1958 | H13: =G13*D13 -> 50.3496
... A75: Snack | B75: Barra de Chocolate | C75: Barra | D75: 5 | E75: 2.835 | F75: =E75*D75 -> 14.175 | G75: =E75*$D$78 -> 5.67 | H75: =G75*D75 -> 28.35
D77: Markup | F77: =SUM(F2:F76) -> 2234.7252 | H77: =SUM(H2:H75) -> 4469.4504
D78: 2 | F78: =H78/$D$78 -> 17864.44 | H78: ='Fluxo de Caixa'!H8-H77 -> 35728.879
F80: =SUM(F77:F78) -> 20099.165 | H80: =SUM(H77:H78) -> 40198.33

Sheet Estoque_1 (7)
A1: Categoria | B1: Bebida | C1: Tamanho | D1: Quantidade | E1: Valor Unitário | F1: Total | G1: Preço Venda | H1: Total
A2: Cerveja | B2: Heineken | C2: Long | D2: 26 | E2: 3.7179 | F2: =E2*D2 -> 96.6654 | G2: =E2*$D$78 -> 7.4358 | H2: =G2*D2 -> 193.3308
A3: Cerveja | B3: Heineken | C3: Lata | D3: 26 | E3: 3.3939 | F3: =E3*D3 -> 88.2414 | G3: =E3*$D$78 -> 6.7878 | H3: =G3*D3 -> 176.4828
A4: Cerveja | B4: Budweiser | C4: Long | D4: 26 | E4: 2.6649 | F4: =E4*D4 -> 69.2874 | G4: =E4*$D$78 -> 5.3298 | H4: =G4*D4 -> 138.5748
A5: Cerveja | B5: Budweiser | C5: Lata | D5: 26 | E5: 2.6649 | F5: =E5*D5 -> 69.2874 | G5: =E5*$D$78 -> 5.3298 | H5: =G5*D5 -> 138.5748
A6: Cerveja | B6: Antarctica | C6: Lata | D6: 26 | E6: 2.1789 | F6: =E6*D6 -> 56.6514 | G6: =E6*$D$78 -> 4.3578 | H6: =G6*D6 -> 113.3028
A7: Cerveja | B7: Antarctica | C7: Latão | D7: 26 | E7: 2.9079 | F7: =E7*D7 -> 75.6054 | G7: =E7*$D$78 -> 5.8158 | H7: =G7*D7 -> 151.2108
A8: Cerveja | B8: Brahma | C8: Lata | D8: 26 | E8: 1.8549 | F8: =E8*D8 -> 48.2274 | G8: =E8*$D$78 -> 3.7098 | H8: =G8*D8 -> 96.4548
A9: Cerveja | B9: Brahma | C9: Latão | D9: 26 | E9: 2.9079 | F9: =E9*D9 -> 75.6054 | G9: =E9*$D$78 -> 5.8158 | H9: =G9*D9 -> 151.2108
A10: Cerveja | B10: Stella | C10: Long | D10: 26 | E10: 2.8269 | F10: =E10*D10 -> 73.4994 | G10: =E10*$D$78 -> 5.6538 | H10: =G10*D10 -> 146.9988
A11: Cerveja | B11: Stella | C11: Lata | D11: 26 | E11: 2.2599 | F11: =E11*D11 -> 58.7574 | G11: =E11*$D$78 -> 4.5198 | H11: =G11*D11 -> 117.5148
A12: Refrigerante | B12: Coca | C12: Lata | D12: 26 | E12: 2.2599 | F12: =E12*D12 -> 58.7574 | G12: =E12*$D$78 -> 4.5198 | H12: =G12*D12 -> 117.5148
A13: Refrigerante | B13: Sprite | C13: Lata | D13: 12 | E13: 2.0979 | F13: =E13*D13 -> 25.1748 | G13: =E13*$D$78 -> 4.1958 | H13: =G13*D13 -> 50.3496
... A75: Snack | B75: Barra de Chocolate | C75: Barra | D75: 5 | E75: 2.835 | F75: =E75*D75 -> 14.175 | G75: =E75*$D$78 -> 5.67 | H75: =G75*D75 -> 28.35
D77: Markup | F77: =SUM(F2:F76) -> 2234.7252 | H77: =SUM(H2:H75) -> 4469.4504
D78: 2 | F78: =H78/$D$78 -> 19761.298 | H78: ='Fluxo de Caixa'!I8-H77 -> 39522.597
F80: =SUM(F77:F78) -> 21996.023 | H80: =SUM(H77:H78) -> 43992.047

Sheet Estoque_1 (8)
A1: Categoria | B1: Bebida | C1: Tamanho | D1: Quantidade | E1: Valor Unitário | F1: Total | G1: Preço Venda | H1: Total
A2: Cerveja | B2: Heineken | C2: Long | D2: 26 | E2: 3.7179 | F2: =E2*D2 -> 96.6654 | G2: =E2*$D$78 -> 7.4358 | H2: =G2*D2 -> 193.3308
A3: Cerveja | B3: Heineken | C3: Lata | D3: 26 | E3: 3.3939 | F3: =E3*D3 -> 88.2414 | G3: =E3*$D$78 -> 6.7878 | H3: =G3*D3 -> 176.4828
A4: Cerveja | B4: Budweiser | C4: Long | D4: 26 | E4: 2.6649 | F4: =E4*D4 -> 69.2874 | G4: =E4*$D$78 -> 5.3298 | H4: =G4*D4 -> 138.5748
A5: Cerveja | B5: Budweiser | C5: Lata | D5: 26 | E5: 2.6649 | F5: =E5*D5 -> 69.2874 | G5: =E5*$D$78 -> 5.3298 | H5: =G5*D5 -> 138.5748
A6: Cerveja | B6: Antarctica | C6: Lata | D6: 26 | E6: 2.1789 | F6: =E6*D6 -> 56.6514 | G6: =E6*$D$78 -> 4.3578 | H6: =G6*D6 -> 113.3028
A7: Cerveja | B7: Antarctica | C7: Latão | D7: 26 | E7: 2.9079 | F7: =E7*D7 -> 75.6054 | G7: =E7*$D$78 -> 5.8158 | H7: =G7*D7 -> 151.2108
A8: Cerveja | B8: Brahma | C8: Lata | D8: 26 | E8: 1.8549 | F8: =E8*D8 -> 48.2274 | G8: =E8*$D$78 -> 3.7098 | H8: =G8*D8 -> 96.4548
A9: Cerveja | B9: Brahma | C9: Latão | D9: 26 | E9: 2.9079 | F9: =E9*D9 -> 75.6054 | G9: =E9*$D$78 -> 5.8158 | H9: =G9*D9 -> 151.2108
A10: Cerveja | B10: Stella | C10: Long | D10: 26 | E10: 2.8269 | F10: =E10*D10 -> 73.4994 | G10: =E10*$D$78 -> 5.6538 | H10: =G10*D10 -> 146.9988
A11: Cerveja | B11: Stella | C11: Lata | D11: 26 | E11: 2.2599 | F11: =E11*D11 -> 58.7574 | G11: =E11*$D$78 -> 4.5198 | H11: =G11*D11 -> 117.5148
A12: Refrigerante | B12: Coca | C12: Lata | D12: 26 | E12: 2.2599 | F12: =E12*D12 -> 58.7574 | G12: =E12*$D$78 -> 4.5198 | H12: =G12*D12 -> 117.5148
A13: Refrigerante | B13: Sprite | C13: Lata | D13: 12 | E13: 2.0979 | F13: =E13*D13 -> 25.1748 | G13: =E13*$D$78 -> 4.1958 | H13: =G13*D13 -> 50.3496
... A75: Snack | B75: Barra de Chocolate | C75: Barra | D75: 5 | E75: 2.835 | F75: =E75*D75 -> 14.175 | G75: =E75*$D$78 -> 5.67 | H75: =G75*D75 -> 28.35
D77: Markup | F77: =SUM(F2:F76) -> 2234.7252 | H77: =SUM(H2:H75) -> 4469.4504
D78: 2 | F78: =H78/$D$78 -> 21753.879 | H78: ='Fluxo de Caixa'!J8-H77 -> 43507.758
F80: =SUM(F77:F78) -> 23988.604 | H80: =SUM(H77:H78) -> 47977.209

Sheet Estoque_1 (9)
A1: Categoria | B1: Bebida | C1: Tamanho | D1: Quantidade | E1: Valor Unitário | F1: Total | G1: Preço Venda | H1: Total
A2: Cerveja | B2: Heineken | C2: Long | D2: 26 | E2: 3.7179 | F2: =E2*D2 -> 96.6654 | G2: =E2*$D$78 -> 7.4358 | H2: =G2*D2 -> 193.3308
A3: Cerveja | B3: Heineken | C3: Lata | D3: 26 | E3: 3.3939 | F3: =E3*D3 -> 88.2414 | G3: =E3*$D$78 -> 6.7878 | H3: =G3*D3 -> 176.4828
A4: Cerveja | B4: Budweiser | C4: Long | D4: 26 | E4: 2.6649 | F4: =E4*D4 -> 69.2874 | G4: =E4*$D$78 -> 5.3298 | H4: =G4*D4 -> 138.5748
A5: Cerveja | B5: Budweiser | C5: Lata | D5: 26 | E5: 2.6649 | F5: =E5*D5 -> 69.2874 | G5: =E5*$D$78 -> 5.3298 | H5: =G5*D5 -> 138.5748
A6: Cerveja | B6: Antarctica | C6: Lata | D6: 26 | E6: 2.1789 | F6: =E6*D6 -> 56.6514 | G6: =E6*$D$78 -> 4.3578 | H6: =G6*D6 -> 113.3028
A7: Cerveja | B7: Antarctica | C7: Latão | D7: 26 | E7: 2.9079 | F7: =E7*D7 -> 75.6054 | G7: =E7*$D$78 -> 5.8158 | H7: =G7*D7 -> 151.2108
A8: Cerveja | B8: Brahma | C8: Lata | D8: 26 | E8: 1.8549 | F8: =E8*D8 -> 48.2274 | G8: =E8*$D$78 -> 3.7098 | H8: =G8*D8 -> 96.4548
A9: Cerveja | B9: Brahma | C9: Latão | D9: 26 | E9: 2.9079 | F9: =E9*D9 -> 75.6054 | G9: =E9*$D$78 -> 5.8158 | H9: =G9*D9 -> 151.2108
A10: Cerveja | B10: Stella | C10: Long | D10: 26 | E10: 2.8269 | F10: =E10*D10 -> 73.4994 | G10: =E10*$D$78 -> 5.6538 | H10: =G10*D10 -> 146.9988
A11: Cerveja | B11: Stella | C11: Lata | D11: 26 | E11: 2.2599 | F11: =E11*D11 -> 58.7574 | G11: =E11*$D$78 -> 4.5198 | H11: =G11*D11 -> 117.5148
A12: Refrigerante | B12: Coca | C12: Lata | D12: 26 | E12: 2.2599 | F12: =E12*D12 -> 58.7574 | G12: =E12*$D$78 -> 4.5198 | H12: =G12*D12 -> 117.5148
A13: Refrigerante | B13: Sprite | C13: Lata | D13: 12 | E13: 2.0979 | F13: =E13*D13 -> 25.1748 | G13: =E13*$D$78 -> 4.1958 | H13: =G13*D13 -> 50.3496
... A75: Snack | B75: Barra de Chocolate | C75: Barra | D75: 5 | E75: 2.835 | F75: =E75*D75 -> 14.175 | G75: =E75*$D$78 -> 5.67 | H75: =G75*D75 -> 28.35
D77: Markup | F77: =SUM(F2:F76) -> 2234.7252 | H77: =SUM(H2:H75) -> 4469.4504
D78: 2 | F78: =H78/$D$78 -> 23846.219 | H78: ='Fluxo de Caixa'!K8-H77 -> 47692.437
F80: =SUM(F77:F78) -> 26080.944 | H80: =SUM(H77:H78) -> 52161.888

Sheet Estoque_1 (10)
A1: Categoria | B1: Bebida | C1: Tamanho | D1: Quantidade | E1: Valor Unitário | F1: Total | G1: Preço Venda | H1: Total
A2: Cerveja | B2: Heineken | C2: Long | D2: 26 | E2: 3.7179 | F2: =E2*D2 -> 96.6654 | G2: =E2*$D$78 -> 7.4358 | H2: =G2*D2 -> 193.3308
A3: Cerveja | B3: Heineken | C3: Lata | D3: 26 | E3: 3.3939 | F3: =E3*D3 -> 88.2414 | G3: =E3*$D$78 -> 6.7878 | H3: =G3*D3 -> 176.4828
A4: Cerveja | B4: Budweiser | C4: Long | D4: 26 | E4: 2.6649 | F4: =E4*D4 -> 69.2874 | G4: =E4*$D$78 -> 5.3298 | H4: =G4*D4 -> 138.5748
A5: Cerveja | B5: Budweiser | C5: Lata | D5: 26 | E5: 2.6649 | F5: =E5*D5 -> 69.2874 | G5: =E5*$D$78 -> 5.3298 | H5: =G5*D5 -> 138.5748
A6: Cerveja | B6: Antarctica | C6: Lata | D6: 26 | E6: 2.1789 | F6: =E6*D6 -> 56.6514 | G6: =E6*$D$78 -> 4.3578 | H6: =G6*D6 -> 113.3028
A7: Cerveja | B7: Antarctica | C7: Latão | D7: 26 | E7: 2.9079 | F7: =E7*D7 -> 75.6054 | G7: =E7*$D$78 -> 5.8158 | H7: =G7*D7 -> 151.2108
A8: Cerveja | B8: Brahma | C8: Lata | D8: 26 | E8: 1.8549 | F8: =E8*D8 -> 48.2274 | G8: =E8*$D$78 -> 3.7098 | H8: =G8*D8 -> 96.4548
A9: Cerveja | B9: Brahma | C9: Latão | D9: 26 | E9: 2.9079 | F9: =E9*D9 -> 75.6054 | G9: =E9*$D$78 -> 5.8158 | H9: =G9*D9 -> 151.2108
A10: Cerveja | B10: Stella | C10: Long | D10: 26 | E10: 2.8269 | F10: =E10*D10 -> 73.4994 | G10: =E10*$D$78 -> 5.6538 | H10: =G10*D10 -> 146.9988
A11: Cerveja | B11: Stella | C11: Lata | D11: 26 | E11: 2.2599 | F11: =E11*D11 -> 58.7574 | G11: =E11*$D$78 -> 4.5198 | H11: =G11*D11 -> 117.5148
A12: Refrigerante | B12: Coca | C12: Lata | D12: 26 | E12: 2.2599 | F12: =E12*D12 -> 58.7574 | G12: =E12*$D$78 -> 4.5198 | H12: =G12*D12 -> 117.5148
A13: Refrigerante | B13: Sprite | C13: Lata | D13: 12 | E13: 2.0979 | F13: =E13*D13 -> 25.1748 | G13: =E13*$D$78 -> 4.1958 | H13: =G13*D13 -> 50.3496
... A75: Snack | B75: Barra de Chocolate | C75: Barra | D75: 5 | E75: 2.835 | F75: =E75*D75 -> 14.175 | G75: =E75*$D$78 -> 5.67 | H75: =G75*D75 -> 28.35
D77: Markup | F77: =SUM(F2:F76) -> 2234.7252 | H77: =SUM(H2:H75) -> 4469.4504
D78: 2 | F78: =H78/$D$78 -> 26042.509 | H78: ='Fluxo de Caixa'!L8-H77 -> 52085.017
F80: =SUM(F77:F78) -> 28277.234 | H80: =SUM(H77:H78) -> 56554.468

Sheet Estoque_1 (11)
A1: Categoria | B1: Bebida | C1: Tamanho | D1: Quantidade | E1: Valor Unitário | F1: Total | G1: Preço Venda | H1: Total
A2: Cerveja | B2: Heineken | C2: Long | D2: 26 | E2: 3.7179 | F2: =E2*D2 -> 96.6654 | G2: =E2*$D$78 -> 7.4358 | H2: =G2*D2 -> 193.3308
A3: Cerveja | B3: Heineken | C3: Lata | D3: 26 | E3: 3.3939 | F3: =E3*D3 -> 88.2414 | G3: =E3*$D$78 -> 6.7878 | H3: =G3*D3 -> 176.4828
A4: Cerveja | B4: Budweiser | C4: Long | D4: 26 | E4: 2.6649 | F4: =E4*D4 -> 69.2874 | G4: =E4*$D$78 -> 5.3298 | H4: =G4*D4 -> 138.5748
A5: Cerveja | B5: Budweiser | C5: Lata | D5: 26 | E5: 2.6649 | F5: =E5*D5 -> 69.2874 | G5: =E5*$D$78 -> 5.3298 | H5: =G5*D5 -> 138.5748
A6: Cerveja | B6: Antarctica | C6: Lata | D6: 26 | E6: 2.1789 | F6: =E6*D6 -> 56.6514 | G6: =E6*$D$78 -> 4.3578 | H6: =G6*D6 -> 113.3028
A7: Cerveja | B7: Antarctica | C7: Latão | D7: 26 | E7: 2.9079 | F7: =E7*D7 -> 75.6054 | G7: =E7*$D$78 -> 5.8158 | H7: =G7*D7 -> 151.2108
A8: Cerveja | B8: Brahma | C8: Lata | D8: 26 | E8: 1.8549 | F8: =E8*D8 -> 48.2274 | G8: =E8*$D$78 -> 3.7098 | H8: =G8*D8 -> 96.4548
A9: Cerveja | B9: Brahma | C9: Latão | D9: 26 | E9: 2.9079 | F9: =E9*D9 -> 75.6054 | G9: =E9*$D$78 -> 5.8158 | H9: =G9*D9 -> 151.2108
A10: Cerveja | B10: Stella | C10: Long | D10: 26 | E10: 2.8269 | F10: =E10*D10 -> 73.4994 | G10: =E10*$D$78 -> 5.6538 | H10: =G10*D10 -> 146.9988
A11: Cerveja | B11: Stella | C11: Lata | D11: 26 | E11: 2.2599 | F11: =E11*D11 -> 58.7574 | G11: =E11*$D$78 -> 4.5198 | H11: =G11*D11 -> 117.5148
A12: Refrigerante | B12: Coca | C12: Lata | D12: 26 | E12: 2.2599 | F12: =E12*D12 -> 58.7574 | G12: =E12*$D$78 -> 4.5198 | H12: =G12*D12 -> 117.5148
A13: Refrigerante | B13: Sprite | C13: Lata | D13: 12 | E13: 2.0979 | F13: =E13*D13 -> 25.1748 | G13: =E13*$D$78 -> 4.1958 | H13: =G13*D13 -> 50.3496
... A75: Snack | B75: Barra de Chocolate | C75: Barra | D75: 5 | E75: 2.835 | F75: =E75*D75 -> 14.175 | G75: =E75*$D$78 -> 5.67 | H75: =G75*D75 -> 28.35
D77: Markup | F77: =SUM(F2:F76) -> 2234.7252 | H77: =SUM(H2:H75) -> 4469.4504
D78: 2 | F78: =H78/$D$78 -> 28347.103 | H78: ='Fluxo de Caixa'!M8-H77 -> 56694.206
F80: =SUM(F77:F78) -> 30581.828 | H80: =SUM(H77:H78) -> 61163.657

Sheet Estoque_1 (12)
A1: Categoria | B1: Bebida | C1: Tamanho | D1: Quantidade | E1: Valor Unitário | F1: Total | G1: Preço Venda | H1: Total
A2: Cerveja | B2: Heineken | C2: Long | D2: 26 | E2: 3.7179 | F2: =E2*D2 -> 96.6654 | G2: =E2*$D$78 -> 7.4358 | H2: =G2*D2 -> 193.3308
A3: Cerveja | B3: Heineken | C3: Lata | D3: 26 | E3: 3.3939 | F3: =E3*D3 -> 88.2414 | G3: =E3*$D$78 -> 6.7878 | H3: =G3*D3 -> 176.4828
A4: Cerveja | B4: Budweiser | C4: Long | D4: 26 | E4: 2.6649 | F4: =E4*D4 -> 69.2874 | G4: =E4*$D$78 -> 5.3298 | H4: =G4*D4 -> 138.5748
A5: Cerveja | B5: Budweiser | C5: Lata | D5: 26 | E5: 2.6649 | F5: =E5*D5 -> 69.2874 | G5: =E5*$D$78 -> 5.3298 | H5: =G5*D5 -> 138.5748
A6: Cerveja | B6: Antarctica | C6: Lata | D6: 26 | E6: 2.1789 | F6: =E6*D6 -> 56.6514 | G6: =E6*$D$78 -> 4.3578 | H6: =G6*D6 -> 113.3028
A7: Cerveja | B7: Antarctica | C7: Latão | D7: 26 | E7: 2.9079 | F7: =E7*D7 -> 75.6054 | G7: =E7*$D$78 -> 5.8158 | H7: =G7*D7 -> 151.2108
A8: Cerveja | B8: Brahma | C8: Lata | D8: 26 | E8: 1.8549 | F8: =E8*D8 -> 48.2274 | G8: =E8*$D$78 -> 3.7098 | H8: =G8*D8 -> 96.4548
A9: Cerveja | B9: Brahma | C9: Latão | D9: 26 | E9: 2.9079 | F9: =E9*D9 -> 75.6054 | G9: =E9*$D$78 -> 5.8158 | H9: =G9*D9 -> 151.2108
A10: Cerveja | B10: Stella | C10: Long | D10: 26 | E10: 2.8269 | F10: =E10*D10 -> 73.4994 | G10: =E10*$D$78 -> 5.6538 | H10: =G10*D10 -> 146.9988
A11: Cerveja | B11: Stella | C11: Lata | D11: 26 | E11: 2.2599 | F11: =E11*D11 -> 58.7574 | G11: =E11*$D$78 -> 4.5198 | H11: =G11*D11 -> 117.5148
A12: Refrigerante | B12: Coca | C12: Lata | D12: 26 | E12: 2.2599 | F12: =E12*D12 -> 58.7574 | G12: =E12*$D$78 -> 4.5198 | H12: =G12*D12 -> 117.5148
A13: Refrigerante | B13: Sprite | C13: Lata | D13: 12 | E13: 2.0979 | F13: =E13*D13 -> 25.1748 | G13: =E13*$D$78 -> 4.1958 | H13: =G13*D13 -> 50.3496
... A75: Snack | B75: Barra de Chocolate | C75: Barra | D75: 5 | E75: 2.835 | F75: =E75*D75 -> 14.175 | G75: =E75*$D$78 -> 5.67 | H75: =G75*D75 -> 28.35
D77: Markup | F77: =SUM(F2:F76) -> 2234.7252 | H77: =SUM(H2:H75) -> 4469.4504
D78: 2 | F78: =H78/$D$78 -> 30764.524 | H78: ='Fluxo de Caixa'!N8-H77 -> 61529.048
F80: =SUM(F77:F78) -> 32999.249 | H80: =SUM(H77:H78) -> 65998.498

Sheet Estoque_1 (13)
A1: Categoria | B1: Bebida | C1: Tamanho | D1: Quantidade | E1: Valor Unitário | F1: Total | G1: Preço Venda | H1: Total
A2: Cerveja | B2: Heineken | C2: Long | D2: 26 | E2: 3.7179 | F2: =E2*D2 -> 96.6654 | G2: =E2*$D$78 -> 7.4358 | H2: =G2*D2 -> 193.3308
A3: Cerveja | B3: Heineken | C3: Lata | D3: 26 | E3: 3.3939 | F3: =E3*D3 -> 88.2414 | G3: =E3*$D$78 -> 6.7878 | H3: =G3*D3 -> 176.4828
A4: Cerveja | B4: Budweiser | C4: Long | D4: 26 | E4: 2.6649 | F4: =E4*D4 -> 69.2874 | G4: =E4*$D$78 -> 5.3298 | H4: =G4*D4 -> 138.5748
A5: Cerveja | B5: Budweiser | C5: Lata | D5: 26 | E5: 2.6649 | F5: =E5*D5 -> 69.2874 | G5: =E5*$D$78 -> 5.3298 | H5: =G5*D5 -> 138.5748
A6: Cerveja | B6: Antarctica | C6: Lata | D6: 26 | E6: 2.1789 | F6: =E6*D6 -> 56.6514 | G6: =E6*$D$78 -> 4.3578 | H6: =G6*D6 -> 113.3028
A7: Cerveja | B7: Antarctica | C7: Latão | D7: 26 | E7: 2.9079 | F7: =E7*D7 -> 75.6054 | G7: =E7*$D$78 -> 5.8158 | H7: =G7*D7 -> 151.2108
A8: Cerveja | B8: Brahma | C8: Lata | D8: 26 | E8: 1.8549 | F8: =E8*D8 -> 48.2274 | G8: =E8*$D$78 -> 3.7098 | H8: =G8*D8 -> 96.4548
A9: Cerveja | B9: Brahma | C9: Latão | D9: 26 | E9: 2.9079 | F9: =E9*D9 -> 75.6054 | G9: =E9*$D$78 -> 5.8158 | H9: =G9*D9 -> 151.2108
A10: Cerveja | B10: Stella | C10: Long | D10: 26 | E10: 2.8269 | F10: =E10*D10 -> 73.4994 | G10: =E10*$D$78 -> 5.6538 | H10: =G10*D10 -> 146.9988
A11: Cerveja | B11: Stella | C11: Lata | D11: 26 | E11: 2.2599 | F11: =E11*D11 -> 58.7574 | G11: =E11*$D$78 -> 4.5198 | H11: =G11*D11 -> 117.5148
A12: Refrigerante | B12: Coca | C12: Lata | D12: 26 | E12: 2.2599 | F12: =E12*D12 -> 58.7574 | G12: =E12*$D$78 -> 4.5198 | H12: =G12*D12 -> 117.5148
A13: Refrigerante | B13: Sprite | C13: Lata | D13: 12 | E13: 2.0979 | F13: =E13*D13 -> 25.1748 | G13: =E13*$D$78 -> 4.1958 | H13: =G13*D13 -> 50.3496
... A75: Snack | B75: Barra de Chocolate | C75: Barra | D75: 5 | E75: 2.835 | F75: =E75*D75 -> 14.175 | G75: =E75*$D$78 -> 5.67 | H75: =G75*D75 -> 28.35
D77: Markup | F77: =SUM(F2:F76) -> 2234.7252 | H77: =SUM(H2:H75) -> 4469.4504
D78: 2 | F78: =H78/$D$78 -> 32954.474 | H78: ='Fluxo de Caixa'!O8-H77 -> 65908.948
F80: =SUM(F77:F78) -> 35189.199 | H80: =SUM(H77:H78) -> 70378.399

Sheet Estoque_1 (14)
A1: Categoria | B1: Bebida | C1: Tamanho | D1: Quantidade | E1: Valor Unitário | F1: Total | G1: Preço Venda | H1: Total
A2: Cerveja | B2: Heineken | C2: Long | D2: 26 | E2: 3.7179 | F2: =E2*D2 -> 96.6654 | G2: =E2*$D$78 -> 7.4358 | H2: =G2*D2 -> 193.3308
A3: Cerveja | B3: Heineken | C3: Lata | D3: 26 | E3: 3.3939 | F3: =E3*D3 -> 88.2414 | G3: =E3*$D$78 -> 6.7878 | H3: =G3*D3 -> 176.4828
A4: Cerveja | B4: Budweiser | C4: Long | D4: 26 | E4: 2.6649 | F4: =E4*D4 -> 69.2874 | G4: =E4*$D$78 -> 5.3298 | H4: =G4*D4 -> 138.5748
A5: Cerveja | B5: Budweiser | C5: Lata | D5: 26 | E5: 2.6649 | F5: =E5*D5 -> 69.2874 | G5: =E5*$D$78 -> 5.3298 | H5: =G5*D5 -> 138.5748
A6: Cerveja | B6: Antarctica | C6: Lata | D6: 26 | E6: 2.1789 | F6: =E6*D6 -> 56.6514 | G6: =E6*$D$78 -> 4.3578 | H6: =G6*D6 -> 113.3028
A7: Cerveja | B7: Antarctica | C7: Latão | D7: 26 | E7: 2.9079 | F7: =E7*D7 -> 75.6054 | G7: =E7*$D$78 -> 5.8158 | H7: =G7*D7 -> 151.2108
A8: Cerveja | B8: Brahma | C8: Lata | D8: 26 | E8: 1.8549 | F8: =E8*D8 -> 48.2274 | G8: =E8*$D$78 -> 3.7098 | H8: =G8*D8 -> 96.4548
A9: Cerveja | B9: Brahma | C9: Latão | D9: 26 | E9: 2.9079 | F9: =E9*D9 -> 75.6054 | G9: =E9*$D$78 -> 5.8158 | H9: =G9*D9 -> 151.2108
A10: Cerveja | B10: Stella | C10: Long | D10: 26 | E10: 2.8269 | F10: =E10*D10 -> 73.4994 | G10: =E10*$D$78 -> 5.6538 | H10: =G10*D10 -> 146.9988
A11: Cerveja | B11: Stella | C11: Lata | D11: 26 | E11: 2.2599 | F11: =E11*D11 -> 58.7574 | G11: =E11*$D$78 -> 4.5198 | H11: =G11*D11 -> 117.5148
A12: Refrigerante | B12: Coca | C12: Lata | D12: 26 | E12: 2.2599 | F12: =E12*D12 -> 58.7574 | G12: =E12*$D$78 -> 4.5198 | H12: =G12*D12 -> 117.5148
A13: Refrigerante | B13: Sprite | C13: Lata | D13: 12 | E13: 2.0979 | F13: =E13*D13 -> 25.1748 | G13: =E13*$D$78 -> 4.1958 | H13: =G13*D13 -> 50.3496
... A75: Snack | B75: Barra de Chocolate | C75: Barra | D75: 5 | E75: 2.835 | F75: =E75*D75 -> 14.175 | G75: =E75*$D$78 -> 5.67 | H75: =G75*D75 -> 28.35
D77: Markup | F77: =SUM(F2:F76) -> 2234.7252 | H77: =SUM(H2:H75) -> 4469.4504
D78: 2 | F78: =H78/$D$78 -> 35218.823 | H78: ='Fluxo de Caixa'!P8-H77 -> 70437.645
F80: =SUM(F77:F78) -> 37453.548 | H80: =SUM(H77:H78) -> 74907.095

Sheet Estoque_1 (15)
A1: Categoria | B1: Bebida | C1: Tamanho | D1: Quantidade | E1: Valor Unitário | F1: Total | G1: Preço Venda | H1: Total
A2: Cerveja | B2: Heineken | C2: Long | D2: 26 | E2: 3.7179 | F2: =E2*D2 -> 96.6654 | G2: =E2*$D$78 -> 7.4358 | H2: =G2*D2 -> 193.3308
A3: Cerveja | B3: Heineken | C3: Lata | D3: 26 | E3: 3.3939 | F3: =E3*D3 -> 88.2414 | G3: =E3*$D$78 -> 6.7878 | H3: =G3*D3 -> 176.4828
A4: Cerveja | B4: Budweiser | C4: Long | D4: 26 | E4: 2.6649 | F4: =E4*D4 -> 69.2874 | G4: =E4*$D$78 -> 5.3298 | H4: =G4*D4 -> 138.5748
A5: Cerveja | B5: Budweiser | C5: Lata | D5: 26 | E5: 2.6649 | F5: =E5*D5 -> 69.2874 | G5: =E5*$D$78 -> 5.3298 | H5: =G5*D5 -> 138.5748
A6: Cerveja | B6: Antarctica | C6: Lata | D6: 26 | E6: 2.1789 | F6: =E6*D6 -> 56.6514 | G6: =E6*$D$78 -> 4.3578 | H6: =G6*D6 -> 113.3028
A7: Cerveja | B7: Antarctica | C7: Latão | D7: 26 | E7: 2.9079 | F7: =E7*D7 -> 75.6054 | G7: =E7*$D$78 -> 5.8158 | H7: =G7*D7 -> 151.2108
A8: Cerveja | B8: Brahma | C8: Lata | D8: 26 | E8: 1.8549 | F8: =E8*D8 -> 48.2274 | G8: =E8*$D$78 -> 3.7098 | H8: =G8*D8 -> 96.4548
A9: Cerveja | B9: Brahma | C9: Latão | D9: 26 | E9: 2.9079 | F9: =E9*D9 -> 75.6054 | G9: =E9*$D$78 -> 5.8158 | H9: =G9*D9 -> 151.2108
A10: Cerveja | B10: Stella | C10: Long | D10: 26 | E10: 2.8269 | F10: =E10*D10 -> 73.4994 | G10: =E10*$D$78 -> 5.6538 | H10: =G10*D10 -> 146.9988
A11: Cerveja | B11: Stella | C11: Lata | D11: 26 | E11: 2.2599 | F11: =E11*D11 -> 58.7574 | G11: =E11*$D$78 -> 4.5198 | H11: =G11*D11 -> 117.5148
A12: Refrigerante | B12: Coca | C12: Lata | D12: 26 | E12: 2.2599 | F12: =E12*D12 -> 58.7574 | G12: =E12*$D$78 -> 4.5198 | H12: =G12*D12 -> 117.5148
A13: Refrigerante | B13: Sprite | C13: Lata | D13: 12 | E13: 2.0979 | F13: =E13*D13 -> 25.1748 | G13: =E13*$D$78 -> 4.1958 | H13: =G13*D13 -> 50.3496
... A75: Snack | B75: Barra de Chocolate | C75: Barra | D75: 5 | E75: 2.835 | F75: =E75*D75 -> 14.175 | G75: =E75*$D$78 -> 5.67 | H75: =G75*D75 -> 28.35
D77: Markup | F77: =SUM(F2:F76) -> 2234.7252 | H77: =SUM(H2:H75) -> 4469.4504
D78: 2 | F78: =H78/$D$78 -> 35593.358 | H78: ='Fluxo de Caixa'!Q8-H77 -> 71186.716
F80: =SUM(F77:F78) -> 37828.083 | H80: =SUM(H77:H78) -> 75656.166

Sheet Estoque_1 (16)
A1: Categoria | B1: Bebida | C1: Tamanho | D1: Quantidade | E1: Valor Unitário | F1: Total | G1: Preço Venda | H1: Total
A2: Cerveja | B2: Heineken | C2: Long | D2: 26 | E2: 3.7179 | F2: =E2*D2 -> 96.6654 | G2: =E2*$D$78 -> 7.4358 | H2: =G2*D2 -> 193.3308
A3: Cerveja | B3: Heineken | C3: Lata | D3: 26 | E3: 3.3939 | F3: =E3*D3 -> 88.2414 | G3: =E3*$D$78 -> 6.7878 | H3: =G3*D3 -> 176.4828
A4: Cerveja | B4: Budweiser | C4: Long | D4: 26 | E4: 2.6649 | F4: =E4*D4 -> 69.2874 | G4: =E4*$D$78 -> 5.3298 | H4: =G4*D4 -> 138.5748
A5: Cerveja | B5: Budweiser | C5: Lata | D5: 26 | E5: 2.6649 | F5: =E5*D5 -> 69.2874 | G5: =E5*$D$78 -> 5.3298 | H5: =G5*D5 -> 138.5748
A6: Cerveja | B6: Antarctica | C6: Lata | D6: 26 | E6: 2.1789 | F6: =E6*D6 -> 56.6514 | G6: =E6*$D$78 -> 4.3578 | H6: =G6*D6 -> 113.3028
A7: Cerveja | B7: Antarctica | C7: Latão | D7: 26 | E7: 2.9079 | F7: =E7*D7 -> 75.6054 | G7: =E7*$D$78 -> 5.8158 | H7: =G7*D7 -> 151.2108
A8: Cerveja | B8: Brahma | C8: Lata | D8: 26 | E8: 1.8549 | F8: =E8*D8 -> 48.2274 | G8: =E8*$D$78 -> 3.7098 | H8: =G8*D8 -> 96.4548
A9: Cerveja | B9: Brahma | C9: Latão | D9: 26 | E9: 2.9079 | F9: =E9*D9 -> 75.6054 | G9: =E9*$D$78 -> 5.8158 | H9: =G9*D9 -> 151.2108
A10: Cerveja | B10: Stella | C10: Long | D10: 26 | E10: 2.8269 | F10: =E10*D10 -> 73.4994 | G10: =E10*$D$78 -> 5.6538 | H10: =G10*D10 -> 146.9988
A11: Cerveja | B11: Stella | C11: Lata | D11: 26 | E11: 2.2599 | F11: =E11*D11 -> 58.7574 | G11: =E11*$D$78 -> 4.5198 | H11: =G11*D11 -> 117.5148
A12: Refrigerante | B12: Coca | C12: Lata | D12: 26 | E12: 2.2599 | F12: =E12*D12 -> 58.7574 | G12: =E12*$D$78 -> 4.5198 | H12: =G12*D12 -> 117.5148
A13: Refrigerante | B13: Sprite | C13: Lata | D13: 12 | E13: 2.0979 | F13: =E13*D13 -> 25.1748 | G13: =E13*$D$78 -> 4.1958 | H13: =G13*D13 -> 50.3496
... A75: Snack | B75: Barra de Chocolate | C75: Barra | D75: 5 | E75: 2.835 | F75: =E75*D75 -> 14.175 | G75: =E75*$D$78 -> 5.67 | H75: =G75*D75 -> 28.35
D77: Markup | F77: =SUM(F2:F76) -> 2234.7252 | H77: =SUM(H2:H75) -> 4469.4504
D78: 2 | F78: =H78/$D$78 -> 35971.639 | H78: ='Fluxo de Caixa'!R8-H77 -> 71943.278
F80: =SUM(F77:F78) -> 38206.364 | H80: =SUM(H77:H78) -> 76412.728

Sheet Estoque_1 (17)
A1: Categoria | B1: Bebida | C1: Tamanho | D1: Quantidade | E1: Valor Unitário | F1: Total | G1: Preço Venda | H1: Total
A2: Cerveja | B2: Heineken | C2: Long | D2: 26 | E2: 3.7179 | F2: =E2*D2 -> 96.6654 | G2: =E2*$D$78 -> 7.4358 | H2: =G2*D2 -> 193.3308
A3: Cerveja | B3: Heineken | C3: Lata | D3: 26 | E3: 3.3939 | F3: =E3*D3 -> 88.2414 | G3: =E3*$D$78 -> 6.7878 | H3: =G3*D3 -> 176.4828
A4: Cerveja | B4: Budweiser | C4: Long | D4: 26 | E4: 2.6649 | F4: =E4*D4 -> 69.2874 | G4: =E4*$D$78 -> 5.3298 | H4: =G4*D4 -> 138.5748
A5: Cerveja | B5: Budweiser | C5: Lata | D5: 26 | E5: 2.6649 | F5: =E5*D5 -> 69.2874 | G5: =E5*$D$78 -> 5.3298 | H5: =G5*D5 -> 138.5748
A6: Cerveja | B6: Antarctica | C6: Lata | D6: 26 | E6: 2.1789 | F6: =E6*D6 -> 56.6514 | G6: =E6*$D$78 -> 4.3578 | H6: =G6*D6 -> 113.3028
A7: Cerveja | B7: Antarctica | C7: Latão | D7: 26 | E7: 2.9079 | F7: =E7*D7 -> 75.6054 | G7: =E7*$D$78 -> 5.8158 | H7: =G7*D7 -> 151.2108
A8: Cerveja | B8: Brahma | C8: Lata | D8: 26 | E8: 1.8549 | F8: =E8*D8 -> 48.2274 | G8: =E8*$D$78 -> 3.7098 | H8: =G8*D8 -> 96.4548
A9: Cerveja | B9: Brahma | C9: Latão | D9: 26 | E9: 2.9079 | F9: =E9*D9 -> 75.6054 | G9: =E9*$D$78 -> 5.8158 | H9: =G9*D9 -> 151.2108
A10: Cerveja | B10: Stella | C10: Long | D10: 26 | E10: 2.8269 | F10: =E10*D10 -> 73.4994 | G10: =E10*$D$78 -> 5.6538 | H10: =G10*D10 -> 146.9988
A11: Cerveja | B11: Stella | C11: Lata | D11: 26 | E11: 2.2599 | F11: =E11*D11 -> 58.7574 | G11: =E11*$D$78 -> 4.5198 | H11: =G11*D11 -> 117.5148
A12: Refrigerante | B12: Coca | C12: Lata | D12: 26 | E12: 2.2599 | F12: =E12*D12 -> 58.7574 | G12: =E12*$D$78 -> 4.5198 | H12: =G12*D12 -> 117.5148
A13: Refrigerante | B13: Sprite | C13: Lata | D13: 12 | E13: 2.0979 | F13: =E13*D13 -> 25.1748 | G13: =E13*$D$78 -> 4.1958 | H13: =G13*D13 -> 50.3496
... A75: Snack | B75: Barra de Chocolate | C75: Barra | D75: 5 | E75: 2.835 | F75: =E75*D75 -> 14.175 | G75: =E75*$D$78 -> 5.67 | H75: =G75*D75 -> 28.35
D77: Markup | F77: =SUM(F2:F76) -> 2234.7252 | H77: =SUM(H2:H75) -> 4469.4504
D78: 2 | F78: =H78/$D$78 -> 36353.702 | H78: ='Fluxo de Caixa'!S8-H77 -> 72707.405
F80: =SUM(F77:F78) -> 38588.428 | H80: =SUM(H77:H78) -> 77176.855

Sheet Estoque_1 (18)
A1: Categoria | B1: Bebida | C1: Tamanho | D1: Quantidade | E1: Valor Unitário | F1: Total | G1: Preço Venda | H1: Total
A2: Cerveja | B2: Heineken | C2: Long | D2: 26 | E2: 3.7179 | F2: =E2*D2 -> 96.6654 | G2: =E2*$D$78 -> 7.4358 | H2: =G2*D2 -> 193.3308
A3: Cerveja | B3: Heineken | C3: Lata | D3: 26 | E3: 3.3939 | F3: =E3*D3 -> 88.2414 | G3: =E3*$D$78 -> 6.7878 | H3: =G3*D3 -> 176.4828
A4: Cerveja | B4: Budweiser | C4: Long | D4: 26 | E4: 2.6649 | F4: =E4*D4 -> 69.2874 | G4: =E4*$D$78 -> 5.3298 | H4: =G4*D4 -> 138.5748
A5: Cerveja | B5: Budweiser | C5: Lata | D5: 26 | E5: 2.6649 | F5: =E5*D5 -> 69.2874 | G5: =E5*$D$78 -> 5.3298 | H5: =G5*D5 -> 138.5748
A6: Cerveja | B6: Antarctica | C6: Lata | D6: 26 | E6: 2.1789 | F6: =E6*D6 -> 56.6514 | G6: =E6*$D$78 -> 4.3578 | H6: =G6*D6 -> 113.3028
A7: Cerveja | B7: Antarctica | C7: Latão | D7: 26 | E7: 2.9079 | F7: =E7*D7 -> 75.6054 | G7: =E7*$D$78 -> 5.8158 | H7: =G7*D7 -> 151.2108
A8: Cerveja | B8: Brahma | C8: Lata | D8: 26 | E8: 1.8549 | F8: =E8*D8 -> 48.2274 | G8: =E8*$D$78 -> 3.7098 | H8: =G8*D8 -> 96.4548
A9: Cerveja | B9: Brahma | C9: Latão | D9: 26 | E9: 2.9079 | F9: =E9*D9 -> 75.6054 | G9: =E9*$D$78 -> 5.8158 | H9: =G9*D9 -> 151.2108
A10: Cerveja | B10: Stella | C10: Long | D10: 26 | E10: 2.8269 | F10: =E10*D10 -> 73.4994 | G10: =E10*$D$78 -> 5.6538 | H10: =G10*D10 -> 146.9988
A11: Cerveja | B11: Stella | C11: Lata | D11: 26 | E11: 2.2599 | F11: =E11*D11 -> 58.7574 | G11: =E11*$D$78 -> 4.5198 | H11: =G11*D11 -> 117.5148
A12: Refrigerante | B12: Coca | C12: Lata | D12: 26 | E12: 2.2599 | F12: =E12*D12 -> 58.7574 | G12: =E12*$D$78 -> 4.5198 | H12: =G12*D12 -> 117.5148
A13: Refrigerante | B13: Sprite | C13: Lata | D13: 12 | E13: 2.0979 | F13: =E13*D13 -> 25.1748 | G13: =E13*$D$78 -> 4.1958 | H13: =G13*D13 -> 50.3496
... A75: Snack | B75: Barra de Chocolate | C75: Barra | D75: 5 | E75: 2.835 | F75: =E75*D75 -> 14.175 | G75: =E75*$D$78 -> 5.67 | H75: =G75*D75 -> 28.35
D77: Markup | F77: =SUM(F2:F76) -> 2234.7252 | H77: =SUM(H2:H75) -> 4469.4504
D78: 2 | F78: =H78/$D$78 -> 38363.516 | H78: ='Fluxo de Caixa'!T8-H77 -> 76727.033
F80: =SUM(F77:F78) -> 40598.242 | H80: =SUM(H77:H78) -> 81196.483

Sheet Estoque_1 (19)
A1: Categoria | B1: Bebida | C1: Tamanho | D1: Quantidade | E1: Valor Unitário | F1: Total | G1: Preço Venda | H1: Total
A2: Cerveja | B2: Heineken | C2: Long | D2: 26 | E2: 3.7179 | F2: =E2*D2 -> 96.6654 | G2: =E2*$D$78 -> 7.4358 | H2: =G2*D2 -> 193.3308
A3: Cerveja | B3: Heineken | C3: Lata | D3: 26 | E3: 3.3939 | F3: =E3*D3 -> 88.2414 | G3: =E3*$D$78 -> 6.7878 | H3: =G3*D3 -> 176.4828
A4: Cerveja | B4: Budweiser | C4: Long | D4: 26 | E4: 2.6649 | F4: =E4*D4 -> 69.2874 | G4: =E4*$D$78 -> 5.3298 | H4: =G4*D4 -> 138.5748
A5: Cerveja | B5: Budweiser | C5: Lata | D5: 26 | E5: 2.6649 | F5: =E5*D5 -> 69.2874 | G5: =E5*$D$78 -> 5.3298 | H5: =G5*D5 -> 138.5748
A6: Cerveja | B6: Antarctica | C6: Lata | D6: 26 | E6: 2.1789 | F6: =E6*D6 -> 56.6514 | G6: =E6*$D$78 -> 4.3578 | H6: =G6*D6 -> 113.3028
A7: Cerveja | B7: Antarctica | C7: Latão | D7: 26 | E7: 2.9079 | F7: =E7*D7 -> 75.6054 | G7: =E7*$D$78 -> 5.8158 | H7: =G7*D7 -> 151.2108
A8: Cerveja | B8: Brahma | C8: Lata | D8: 26 | E8: 1.8549 | F8: =E8*D8 -> 48.2274 | G8: =E8*$D$78 -> 3.7098 | H8: =G8*D8 -> 96.4548
A9: Cerveja | B9: Brahma | C9: Latão | D9: 26 | E9: 2.9079 | F9: =E9*D9 -> 75.6054 | G9: =E9*$D$78 -> 5.8158 | H9: =G9*D9 -> 151.2108
A10: Cerveja | B10: Stella | C10: Long | D10: 26 | E10: 2.8269 | F10: =E10*D10 -> 73.4994 | G10: =E10*$D$78 -> 5.6538 | H10: =G10*D10 -> 146.9988
A11: Cerveja | B11: Stella | C11: Lata | D11: 26 | E11: 2.2599 | F11: =E11*D11 -> 58.7574 | G11: =E11*$D$78 -> 4.5198 | H11: =G11*D11 -> 117.5148
A12: Refrigerante | B12: Coca | C12: Lata | D12: 26 | E12: 2.2599 | F12: =E12*D12 -> 58.7574 | G12: =E12*$D$78 -> 4.5198 | H12: =G12*D12 -> 117.5148
A13: Refrigerante | B13: Sprite | C13: Lata | D13: 12 | E13: 2.0979 | F13: =E13*D13 -> 25.1748 | G13: =E13*$D$78 -> 4.1958 | H13: =G13*D13 -> 50.3496
... A75: Snack | B75: Barra de Chocolate | C75: Barra | D75: 5 | E75: 2.835 | F75: =E75*D75 -> 14.175 | G75: =E75*$D$78 -> 5.67 | H75: =G75*D75 -> 28.35
D77: Markup | F77: =SUM(F2:F76) -> 2234.7252 | H77: =SUM(H2:H75) -> 4469.4504
D78: 2 | F78: =H78/$D$78 -> 38769.499 | H78: ='Fluxo de Caixa'!U8-H77 -> 77538.998
F80: =SUM(F77:F78) -> 41004.224 | H80: =SUM(H77:H78) -> 82008.448

Sheet Estoque_1 (20)
A1: Categoria | B1: Bebida | C1: Tamanho | D1: Quantidade | E1: Valor Unitário | F1: Total | G1: Preço Venda | H1: Total
A2: Cerveja | B2: Heineken | C2: Long | D2: 26 | E2: 3.7179 | F2: =E2*D2 -> 96.6654 | G2: =E2*$D$78 -> 7.4358 | H2: =G2*D2 -> 193.3308
A3: Cerveja | B3: Heineken | C3: Lata | D3: 26 | E3: 3.3939 | F3: =E3*D3 -> 88.2414 | G3: =E3*$D$78 -> 6.7878 | H3: =G3*D3 -> 176.4828
A4: Cerveja | B4: Budweiser | C4: Long | D4: 26 | E4: 2.6649 | F4: =E4*D4 -> 69.2874 | G4: =E4*$D$78 -> 5.3298 | H4: =G4*D4 -> 138.5748
A5: Cerveja | B5: Budweiser | C5: Lata | D5: 26 | E5: 2.6649 | F5: =E5*D5 -> 69.2874 | G5: =E5*$D$78 -> 5.3298 | H5: =G5*D5 -> 138.5748
A6: Cerveja | B6: Antarctica | C6: Lata | D6: 26 | E6: 2.1789 | F6: =E6*D6 -> 56.6514 | G6: =E6*$D$78 -> 4.3578 | H6: =G6*D6 -> 113.3028
A7: Cerveja | B7: Antarctica | C7: Latão | D7: 26 | E7: 2.9079 | F7: =E7*D7 -> 75.6054 | G7: =E7*$D$78 -> 5.8158 | H7: =G7*D7 -> 151.2108
A8: Cerveja | B8: Brahma | C8: Lata | D8: 26 | E8: 1.8549 | F8: =E8*D8 -> 48.2274 | G8: =E8*$D$78 -> 3.7098 | H8: =G8*D8 -> 96.4548
A9: Cerveja | B9: Brahma | C9: Latão | D9: 26 | E9: 2.9079 | F9: =E9*D9 -> 75.6054 | G9: =E9*$D$78 -> 5.8158 | H9: =G9*D9 -> 151.2108
A10: Cerveja | B10: Stella | C10: Long | D10: 26 | E10: 2.8269 | F10: =E10*D10 -> 73.4994 | G10: =E10*$D$78 -> 5.6538 | H10: =G10*D10 -> 146.9988
A11: Cerveja | B11: Stella | C11: Lata | D11: 26 | E11: 2.2599 | F11: =E11*D11 -> 58.7574 | G11: =E11*$D$78 -> 4.5198 | H11: =G11*D11 -> 117.5148
A12: Refrigerante | B12: Coca | C12: Lata | D12: 26 | E12: 2.2599 | F12: =E12*D12 -> 58.7574 | G12: =E12*$D$78 -> 4.5198 | H12: =G12*D12 -> 117.5148
A13: Refrigerante | B13: Sprite | C13: Lata | D13: 12 | E13: 2.0979 | F13: =E13*D13 -> 25.1748 | G13: =E13*$D$78 -> 4.1958 | H13: =G13*D13 -> 50.3496
... A75: Snack | B75: Barra de Chocolate | C75: Barra | D75: 5 | E75: 2.835 | F75: =E75*D75 -> 14.175 | G75: =E75*$D$78 -> 5.67 | H75: =G75*D75 -> 28.35
D77: Markup | F77: =SUM(F2:F76) -> 2234.7252 | H77: =SUM(H2:H75) -> 4469.4504
D78: 2 | F78: =H78/$D$78 -> 39179.541 | H78: ='Fluxo de Caixa'!V8-H77 -> 78359.082
F80: =SUM(F77:F78) -> 41414.266 | H80: =SUM(H77:H78) -> 82828.533

Sheet Estoque_1 (21)
A1: Categoria | B1: Bebida | C1: Tamanho | D1: Quantidade | E1: Valor Unitário | F1: Total | G1: Preço Venda | H1: Total
A2: Cerveja | B2: Heineken | C2: Long | D2: 26 | E2: 3.7179 | F2: =E2*D2 -> 96.6654 | G2: =E2*$D$78 -> 7.4358 | H2: =G2*D2 -> 193.3308
A3: Cerveja | B3: Heineken | C3: Lata | D3: 26 | E3: 3.3939 | F3: =E3*D3 -> 88.2414 | G3: =E3*$D$78 -> 6.7878 | H3: =G3*D3 -> 176.4828
A4: Cerveja | B4: Budweiser | C4: Long | D4: 26 | E4: 2.6649 | F4: =E4*D4 -> 69.2874 | G4: =E4*$D$78 -> 5.3298 | H4: =G4*D4 -> 138.5748
A5: Cerveja | B5: Budweiser | C5: Lata | D5: 26 | E5: 2.6649 | F5: =E5*D5 -> 69.2874 | G5: =E5*$D$78 -> 5.3298 | H5: =G5*D5 -> 138.5748
A6: Cerveja | B6: Antarctica | C6: Lata | D6: 26 | E6: 2.1789 | F6: =E6*D6 -> 56.6514 | G6: =E6*$D$78 -> 4.3578 | H6: =G6*D6 -> 113.3028
A7: Cerveja | B7: Antarctica | C7: Latão | D7: 26 | E7: 2.9079 | F7: =E7*D7 -> 75.6054 | G7: =E7*$D$78 -> 5.8158 | H7: =G7*D7 -> 151.2108
A8: Cerveja | B8: Brahma | C8: Lata | D8: 26 | E8: 1.8549 | F8: =E8*D8 -> 48.2274 | G8: =E8*$D$78 -> 3.7098 | H8: =G8*D8 -> 96.4548
A9: Cerveja | B9: Brahma | C9: Latão | D9: 26 | E9: 2.9079 | F9: =E9*D9 -> 75.6054 | G9: =E9*$D$78 -> 5.8158 | H9: =G9*D9 -> 151.2108
A10: Cerveja | B10: Stella | C10: Long | D10: 26 | E10: 2.8269 | F10: =E10*D10 -> 73.4994 | G10: =E10*$D$78 -> 5.6538 | H10: =G10*D10 -> 146.9988
A11: Cerveja | B11: Stella | C11: Lata | D11: 26 | E11: 2.2599 | F11: =E11*D11 -> 58.7574 | G11: =E11*$D$78 -> 4.5198 | H11: =G11*D11 -> 117.5148
A12: Refrigerante | B12: Coca | C12: Lata | D12: 26 | E12: 2.2599 | F12: =E12*D12 -> 58.7574 | G12: =E12*$D$78 -> 4.5198 | H12: =G12*D12 -> 117.5148
A13: Refrigerante | B13: Sprite | C13: Lata | D13: 12 | E13: 2.0979 | F13: =E13*D13 -> 25.1748 | G13: =E13*$D$78 -> 4.1958 | H13: =G13*D13 -> 50.3496
... A75: Snack | B75: Barra de Chocolate | C75: Barra | D75: 5 | E75: 2.835 | F75: =E75*D75 -> 14.175 | G75: =E75*$D$78 -> 5.67 | H75: =G75*D75 -> 28.35
D77: Markup | F77: =SUM(F2:F76) -> 2234.7252 | H77: =SUM(H2:H75) -> 4469.4504
D78: 2 | F78: =H78/$D$78 -> 39593.684 | H78: ='Fluxo de Caixa'!W8-H77 -> 79187.367
F80: =SUM(F77:F78) -> 41828.409 | H80: =SUM(H77:H78) -> 83656.818

Sheet Estoque_1 (22)
A1: Categoria | B1: Bebida | C1: Tamanho | D1: Quantidade | E1: Valor Unitário | F1: Total | G1: Preço Venda | H1: Total
A2: Cerveja | B2: Heineken | C2: Long | D2: 26 | E2: 3.7179 | F2: =E2*D2 -> 96.6654 | G2: =E2*$D$78 -> 7.4358 | H2: =G2*D2 -> 193.3308
A3: Cerveja | B3: Heineken | C3: Lata | D3: 26 | E3: 3.3939 | F3: =E3*D3 -> 88.2414 | G3: =E3*$D$78 -> 6.7878 | H3: =G3*D3 -> 176.4828
A4: Cerveja | B4: Budweiser | C4: Long | D4: 26 | E4: 2.6649 | F4: =E4*D4 -> 69.2874 | G4: =E4*$D$78 -> 5.3298 | H4: =G4*D4 -> 138.5748
A5: Cerveja | B5: Budweiser | C5: Lata | D5: 26 | E5: 2.6649 | F5: =E5*D5 -> 69.2874 | G5: =E5*$D$78 -> 5.3298 | H5: =G5*D5 -> 138.5748
A6: Cerveja | B6: Antarctica | C6: Lata | D6: 26 | E6: 2.1789 | F6: =E6*D6 -> 56.6514 | G6: =E6*$D$78 -> 4.3578 | H6: =G6*D6 -> 113.3028
A7: Cerveja | B7: Antarctica | C7: Latão | D7: 26 | E7: 2.9079 | F7: =E7*D7 -> 75.6054 | G7: =E7*$D$78 -> 5.8158 | H7: =G7*D7 -> 151.2108
A8: Cerveja | B8: Brahma | C8: Lata | D8: 26 | E8: 1.8549 | F8: =E8*D8 -> 48.2274 | G8: =E8*$D$78 -> 3.7098 | H8: =G8*D8 -> 96.4548
A9: Cerveja | B9: Brahma | C9: Latão | D9: 26 | E9: 2.9079 | F9: =E9*D9 -> 75.6054 | G9: =E9*$D$78 -> 5.8158 | H9: =G9*D9 -> 151.2108
A10: Cerveja | B10: Stella | C10: Long | D10: 26 | E10: 2.8269 | F10: =E10*D10 -> 73.4994 | G10: =E10*$D$78 -> 5.6538 | H10: =G10*D10 -> 146.9988
A11: Cerveja | B11: Stella | C11: Lata | D11: 26 | E11: 2.2599 | F11: =E11*D11 -> 58.7574 | G11: =E11*$D$78 -> 4.5198 | H11: =G11*D11 -> 117.5148
A12: Refrigerante | B12: Coca | C12: Lata | D12: 26 | E12: 2.2599 | F12: =E12*D12 -> 58.7574 | G12: =E12*$D$78 -> 4.5198 | H12: =G12*D12 -> 117.5148
A13: Refrigerante | B13: Sprite | C13: Lata | D13: 12 | E13: 2.0979 | F13: =E13*D13 -> 25.1748 | G13: =E13*$D$78 -> 4.1958 | H13: =G13*D13 -> 50.3496
... A75: Snack | B75: Barra de Chocolate | C75: Barra | D75: 5 | E75: 2.835 | F75: =E75*D75 -> 14.175 | G75: =E75*$D$78 -> 5.67 | H75: =G75*D75 -> 28.35
D77: Markup | F77: =SUM(F2:F76) -> 2234.7252 | H77: =SUM(H2:H75) -> 4469.4504
D78: 2 | F78: =H78/$D$78 -> 40011.968 | H78: ='Fluxo de Caixa'!X8-H77 -> 80023.936
F80: =SUM(F77:F78) -> 42246.693 | H80: =SUM(H77:H78) -> 84493.386

Sheet Estoque_1 (23)
A1: Categoria | B1: Bebida | C1: Tamanho | D1: Quantidade | E1: Valor Unitário | F1: Total | G1: Preço Venda | H1: Total
A2: Cerveja | B2: Heineken | C2: Long | D2: 26 | E2: 3.7179 | F2: =E2*D2 -> 96.6654 | G2: =E2*$D$78 -> 7.4358 | H2: =G2*D2 -> 193.3308
A3: Cerveja | B3: Heineken | C3: Lata | D3: 26 | E3: 3.3939 | F3: =E3*D3 -> 88.2414 | G3: =E3*$D$78 -> 6.7878 | H3: =G3*D3 -> 176.4828
A4: Cerveja | B4: Budweiser | C4: Long | D4: 26 | E4: 2.6649 | F4: =E4*D4 -> 69.2874 | G4: =E4*$D$78 -> 5.3298 | H4: =G4*D4 -> 138.5748
