Workbook

Sheet Email
A5: Desafio Studio Funcional - Ricardo e equipe, bom dia. Escrevo, pois preciso da ajuda de vocês. Pretendo expandir um conceito de Studio Funcional, acredito no potencial, mas quero ir devagar... Resolvi captar recursos junto a um investidor, mas não sei como demonstrar a ele os números de minha projeção.... nem tenho muita segurança de que o modelo é de fato interessante. Me ajuda, por favor!! Bom, vamos lá: Pretendo abrir primeiramente apenas uma unidade de Studio Funcional em São Paulo. O custo de ocupação é de cerca de R$ 8 mil reais por mês, somando aluguel + IPTU + condomínio. Ah esse valor inclui limpeza e manutenção. O investimento inicial em compra de equipamentos dessa unidade é de R$ 200 mil, sendo R$ 100 mil em móveis e mais R$ 100 mil em equipamentos. A unidade vai precisar de duas recepcionistas, com salário líquido de R$ 1.800 cada. Considere 30% de encargos no modelo de contratação que estou desenhando. Teremos 6 profissionais começando a atender “de largada” já na abertura do Studio (mês 1), sendo que a todo e qualquer momento teremos 2 profissionais, “treinadores juniores”, sendo treinados. Com o giro de profissionais esses treinadores vão mudando de posição, alguns entram e alguns saem. No giro sempre teremos 6 treinadores atendendo e 2 sendo treinados, esses últimos nunca geram receita ao Studio. Dos 6 profissionais, considerar dois “supervisores” e quatro “treinadores plenos”. Quanto à receita, estou, a princípio, definindo o valor em R$ 95,00 por cada atendimento, mas aqui a sua ajuda é importante para ver se faz sentido mesmo. Sobre o crescimento dos atendimentos: Considerar que os atendimentos acrescem 5% ao mês (mês 1: 5%, mês 2: 10%, mês 3: 15%...) até atingir 100% do potencial máximo do Studio e da região. Sendo o potencial máximo cada treinador atendendo 4 pessoas por dia. ricardogiacomomaluf.com.br Agora vamos às perguntas: 1. Ah, outra coisa, quanto essa unidade teria de rentabilidade mensal se cada um dos profissionais atendesse 4 pessoas em média por dia, na maturidade? 2. Como deve ser comportar o meu caixa ao longo dos primeiros 6 meses? Não se preocupe com custo de treinamento, darei eu mesmo. 3. Olha, se possível calcula quantos atendimentos eu teria de fazer em um mês de maturidade para “empatar”, ou seja, qual seria o ponto de equilíbrio? Muito obrigado, sua resposta será importante para avaliarmos a atratividade desse projeto! Valeu, um forte abraço e obrigado. Empresário. Para fins de simplificação: 1) depreciação em 10 anos linear para todos os itens de CAPEX; 2) desconsiderar carga tributária nesse primeiro momento;
A8: Informações adicionais:
A10: · Quanto aos impostos, considere 21% sobre a Receita Bruta com pagamento no mês subsequente (inclui todos os impostos);
A12: o participação de percentual da receita aos treinadores (pleno e supervisores) relativo aos seus atendimentos no Studio, da seguinte forma:
A13: ü “Treinador Pleno” 20% de participação das receitas de seus atendimentos;
A14: ü “Supervisor” 40% de participação das receitas de seus atendimentos.
A15: o O percentual de participação se aplica à receita bruta de cada atendimento, ou seja, antes da dedução de impostos.
A16: o Considerar remuneração fixa igua a todos os treinadores de R$ 3.000.
A18: Considerar que a capacidade total (100%) pode ser:
A19: o Cenário otimista: 18 pessoas por dia por treinador;
A20: o Cenário intermediário: 12 pessoas por dia por treinador;
A21: o Cenário conservador: 8 pessoas por dia por treinador.
... A31: Recepcionistas - 28 dias para pagamento

Sheet Inputs
C1: Qtdade | D1: Valor unitário | E1: unidade medida | F1: Total
B2: Custo Ocupação
B3: Aluguel, Iptu, Condomínio | C3: 1 | D3: 8000 | E3: R$ Mês | F3: =C3*D3 -> 8000
B5: Capex
B6: Móveis | C6: 1 | D6: 100000 | E6: R$ | F6: =D6/120 -> 833.33333
B7: Equipamentos | C7: 1 | D7: 100000 | E7: R$ | F7: =D7/120 -> 833.33333
D8: =SUM(D6:D7) -> 200000 | F8: =SUM(F6:F7) -> 1666.6667
B9: Depreciação | E9: R$ Mês | F9: =F8*0.1 -> 166.66667
B11: Despesas
B12: Recepcionista 1 | C12: 2 | D12: 1800 | E12: R$ mês | F12: =C12*D12 -> 3600
B13: Encargos | F13: =F12*0.3 -> 1080
B14: Total | F14: =F12+F13 -> 4680
B16: Custos Treinadores
B17: Júnior | C17: 2 | D17: 3000 | E17: R$ mês | F17: =C17*D17 -> 6000
B18: Plenos | C18: 4 | D18: 3000 | E18: R$ mês | F18: =C18*D18 -> 12000
B19: Supervisor | C19: 2 | D19: 3000 | E19: R$ mês | F19: =C19*D19 -> 6000
B21: Participação %
B23: Júnior
B24: Plenos | C24: 0.2
B25: Supervisor | C25: 0.4
B30: Receita
B31: Júnior | C31: 0 | D31: 95 | E31: R$ dia | F31: =C31*D31 -> 0
B32: Plenos | C32: 4 | D32: 95 | E32: R$ dia | F32: =C32*D32 -> 380
B33: Supervisor | C33: 4 | D33: 95 | E33: R$ dia | F33: =C33*D33 -> 380
B35: Atendimento Máximo Treinador | F35: 8
B38: Impostos Receita | C38: 0.21
B43: Dias mês | C43: 22
B44: Crescimento mensal | C44: 0.05
B46: Descasamento
B47: Atendimentos | C47: 50
B48: Impostos | C48: 30
B49: Treinadores - Remuneração Fixa | C49: 30
B50: Treinadores - Remuneração variável | C50: 60
B51: Ocupação | C51: 30
B52: Recepcionistas | C52: 28

Sheet Cálculos
E2: 1 | F2: 2 | G2: 3 | H2: 4 | I2: 5 | J2: 6 | K2: 7 | L2: 8 | M2: 9 | N2: 10 | O2: 11 | P2: 12 | Q2: 13 | R2: 14 | S2: 15 | T2: 16 | U2: 17 | V2: 18 | W2: 19 | X2: 20 | Y2: 21 | Z2: 22 | AA2: 23 | AB2: 24
B3: Receitas
B5: Crescimento % | C5: =Inputs!C44 -> 0.05 | E5: =$C$5 -> 0.05 | F5: =$C$5 -> 0.05 | G5: =$C$5 -> 0.05 | H5: =$C$5 -> 0.05 | I5: =$C$5 -> 0.05 | J5: =$C$5 -> 0.05 | K5: =$C$5 -> 0.05 | L5: =$C$5 -> 0.05 | ... AB5: =$C$5 -> 0.05
B6: Crescimento % acumulado | E6: =E5 -> 0.05 | F6: =F5+E6 -> 0.1 | G6: =G5+F6 -> 0.15 | H6: =H5+G6 -> 0.2 | I6: =I5+H6 -> 0.25 | J6: =J5+I6 -> 0.3 | K6: =K5+J6 -> 0.35 | L6: =L5+K6 -> 0.4 | M6: =M5+L6 -> 0.45 | ... AB6: =AB5+AA6 -> 1.2
B7: Flag | E7: =N(E6>=1) -> 0 | F7: =N(F6>=1) -> 0 | G7: =N(G6>=1) -> 0 | H7: =N(H6>=1) -> 0 | I7: =N(I6>=1) -> 0 | J7: =N(J6>=1) -> 0 | K7: =N(K6>=1) -> 0 | L7: =N(L6>=1) -> 0 | ... AB7: =N(AB6>=1) -> 1
E8: =IF(E7<1,E6,1) -> 0.05 | F8: =IF(F7<1,F6,1) -> 0.1 | G8: =IF(G7<1,G6,1) -> 0.15 | H8: =IF(H7<1,H6,1) -> 0.2 | I8: =IF(I7<1,I6,1) -> 0.25 | J8: =IF(J7<1,J6,1) -> 0.3 | K8: =IF(K7<1,K6,1) -> 0.35 | L8: =IF(L7<1,L6,1) -> 0.4 | ... AB8: =IF(AB7<1,AB6,1) -> 1
B13: Atendimento Treinador | C13: =Inputs!F35 -> 8 | E13: =$C13*E$8 -> 0.4 | F13: =$C13*F$8 -> 0.8 | G13: =$C13*G$8 -> 1.2 | H13: =$C13*H$8 -> 1.6 | I13: =$C13*I$8 -> 2 | J13: =$C13*J$8 -> 2.4 | K13: =$C13*K$8 -> 2.8 | L13: =$C13*L$8 -> 3.2 | ... AB13: =$C13*AB$8 -> 8
B14: Arredondado | E14: =ROUNDDOWN(E13,0) -> 0 | F14: =ROUNDDOWN(F13,0) -> 0 | G14: =ROUNDDOWN(G13,0) -> 1 | H14: =ROUNDDOWN(H13,0) -> 1 | I14: =ROUNDDOWN(I13,0) -> 2 | J14: =ROUNDDOWN(J13,0) -> 2 | K14: =ROUNDDOWN(K13,0) -> 2 | L14: =ROUNDDOWN(L13,0) -> 3 | ... AB14: =ROUNDDOWN(AB13,0) -> 8
B17: Atendimento por dia
B18: Júnior | C18: 0 | E18: =$C18*E$14 -> 0 | F18: =$C18*F$14 -> 0 | G18: =$C18*G$14 -> 0 | H18: =$C18*H$14 -> 0 | I18: =$C18*I$14 -> 0 | J18: =$C18*J$14 -> 0 | K18: =$C18*K$14 -> 0 | L18: =$C18*L$14 -> 0 | ... AB18: =$C18*AB$14 -> 0
B19: Plenos | C19: 4 | E19: =$C19*E$14 -> 0 | F19: =$C19*F$14 -> 0 | G19: =$C19*G$14 -> 4 | H19: =$C19*H$14 -> 4 | I19: =$C19*I$14 -> 8 | J19: =$C19*J$14 -> 8 | K19: =$C19*K$14 -> 8 | L19: =$C19*L$14 -> 12 | ... AB19: =$C19*AB$14 -> 32
B20: Supervisor | C20: 2 | E20: =$C20*E$14 -> 0 | F20: =$C20*F$14 -> 0 | G20: =$C20*G$14 -> 2 | H20: =$C20*H$14 -> 2 | I20: =$C20*I$14 -> 4 | J20: =$C20*J$14 -> 4 | K20: =$C20*K$14 -> 4 | L20: =$C20*L$14 -> 6 | ... AB20: =$C20*AB$14 -> 16
B21: Total | C21: =SUM(C18:C20) -> 6 | E21: =SUM(E18:E20) -> 0 | F21: =SUM(F18:F20) -> 0 | G21: =SUM(G18:G20) -> 6 | H21: =SUM(H18:H20) -> 6 | I21: =SUM(I18:I20) -> 12 | J21: =SUM(J18:J20) -> 12 | K21: =SUM(K18:K20) -> 12 | L21: =SUM(L18:L20) -> 18 | ... AB21: =SUM(AB18:AB20) -> 48
B23: Valor Atendimento | C23: =Inputs!D31 -> 95
B26: Receita por Treinador - dia
B27: Júnior | C27: =Inputs!D31 -> 95 | E27: =E18*$C27 -> 0 | F27: =F18*$C27 -> 0 | G27: =G18*$C27 -> 0 | H27: =H18*$C27 -> 0 | I27: =I18*$C27 -> 0 | J27: =J18*$C27 -> 0 | K27: =K18*$C27 -> 0 | L27: =L18*$C27 -> 0 | ... AB27: =AB18*$C27 -> 0
B28: Plenos | C28: =Inputs!D32 -> 95 | E28: =E19*$C28 -> 0 | F28: =F19*$C28 -> 0 | G28: =G19*$C28 -> 380 | H28: =H19*$C28 -> 380 | I28: =I19*$C28 -> 760 | J28: =J19*$C28 -> 760 | K28: =K19*$C28 -> 760 | L28: =L19*$C28 -> 1140 | ... AB28: =AB19*$C28 -> 3040
B29: Supervisor | C29: =Inputs!D33 -> 95 | E29: =E20*$C29 -> 0 | F29: =F20*$C29 -> 0 | G29: =G20*$C29 -> 190 | H29: =H20*$C29 -> 190 | I29: =I20*$C29 -> 380 | J29: =J20*$C29 -> 380 | K29: =K20*$C29 -> 380 | L29: =L20*$C29 -> 570 | ... AB29: =AB20*$C29 -> 1520
B30: Total | C30: =SUM(C27:C29) -> 285 | E30: =SUM(E27:E29) -> 0 | F30: =SUM(F27:F29) -> 0 | G30: =SUM(G27:G29) -> 570 | H30: =SUM(H27:H29) -> 570 | I30: =SUM(I27:I29) -> 1140 | J30: =SUM(J27:J29) -> 1140 | K30: =SUM(K27:K29) -> 1140 | L30: =SUM(L27:L29) -> 1710 | ... AB30: =SUM(AB27:AB29) -> 4560
B33: Receita por Treinador - mês
B34: Júnior | C34: =Inputs!$C$43 -> 22 | E34: =E27*$C$34 -> 0 | F34: =F27*$C$34 -> 0 | G34: =G27*$C$34 -> 0 | H34: =H27*$C$34 -> 0 | I34: =I27*$C$34 -> 0 | J34: =J27*$C$34 -> 0 | K34: =K27*$C$34 -> 0 | L34: =L27*$C$34 -> 0 | ... AB34: =AB27*$C$34 -> 0
B35: Plenos | C35: =Inputs!$C$43 -> 22 | E35: =E28*$C$34 -> 0 | F35: =F28*$C$34 -> 0 | G35: =G28*$C$34 -> 8360 | H35: =H28*$C$34 -> 8360 | I35: =I28*$C$34 -> 16720 | J35: =J28*$C$34 -> 16720 | K35: =K28*$C$34 -> 16720 | L35: =L28*$C$34 -> 25080 | ... AB35: =AB28*$C$34 -> 66880
B36: Supervisor | C36: =Inputs!$C$43 -> 22 | E36: =E29*$C$34 -> 0 | F36: =F29*$C$34 -> 0 | G36: =G29*$C$34 -> 4180 | H36: =H29*$C$34 -> 4180 | I36: =I29*$C$34 -> 8360 | J36: =J29*$C$34 -> 8360 | K36: =K29*$C$34 -> 8360 | L36: =L29*$C$34 -> 12540 | ... AB36: =AB29*$C$34 -> 33440
B37: Total
B41: Dias Mês | C41: =Inputs!C43 -> 22 | E41: =$C41*E$21 -> 0 | F41: =$C41*F$21 -> 0 | G41: =$C41*G$21 -> 132 | H41: =$C41*H$21 -> 132 | I41: =$C41*I$21 -> 264 | J41: =$C41*J$21 -> 264 | K41: =$C41*K$21 -> 264 | L41: =$C41*L$21 -> 396 | ... AB41: =$C41*AB$21 -> 1056
B42: Valor Atendimento | E42: =SUM(E34:E36) -> 0 | F42: =SUM(F34:F36) -> 0 | G42: =SUM(G34:G36) -> 12540 | H42: =SUM(H34:H36) -> 12540 | I42: =SUM(I34:I36) -> 25080 | J42: =SUM(J34:J36) -> 25080 | K42: =SUM(K34:K36) -> 25080 | L42: =SUM(L34:L36) -> 37620 | ... AB42: =SUM(AB34:AB36) -> 100320
B44: Impostos Receita
B46: Alíquota | C46: =Inputs!C38 -> 0.21 | E46: =E42*$C$46 -> 0 | F46: =F42*$C$46 -> 0 | G46: =G42*$C$46 -> 2633.4 | H46: =H42*$C$46 -> 2633.4 | I46: =I42*$C$46 -> 5266.8 | J46: =J42*$C$46 -> 5266.8 | K46: =K42*$C$46 -> 5266.8 | L46: =L42*$C$46 -> 7900.2 | ... AB46: =AB42*$C$46 -> 21067.2
B50: Custos
B52: Salário por funcionário
B53: Júnior | C53: =Inputs!D17 -> 3000 | E53: =$C$53 -> 3000 | F53: =$C$53 -> 3000 | G53: =$C$53 -> 3000 | H53: =$C$53 -> 3000 | I53: =$C$53 -> 3000 | J53: =$C$53 -> 3000 | K53: =$C$53 -> 3000 | L53: =$C$53 -> 3000 | ... AB53: =$C$53 -> 3000
B54: Plenos | C54: =Inputs!D18 -> 3000 | E54: =$C$54 -> 3000 | F54: =$C$54 -> 3000 | G54: =$C$54 -> 3000 | H54: =$C$54 -> 3000 | I54: =$C$54 -> 3000 | J54: =$C$54 -> 3000 | K54: =$C$54 -> 3000 | L54: =$C$54 -> 3000 | ... AB54: =$C$54 -> 3000
B55: Supervisor | C55: =Inputs!D19 -> 3000 | E55: =$C$55 -> 3000 | F55: =$C$55 -> 3000 | G55: =$C$55 -> 3000 | H55: =$C$55 -> 3000 | I55: =$C$55 -> 3000 | J55: =$C$55 -> 3000 | K55: =$C$55 -> 3000 | L55: =$C$55 -> 3000 | ... AB55: =$C$55 -> 3000
B56: Total | C56: =SUM(C53:C55) -> 9000 | E56: =SUM(E53:E55) -> 9000 | F56: =SUM(F53:F55) -> 9000 | G56: =SUM(G53:G55) -> 9000 | H56: =SUM(H53:H55) -> 9000 | I56: =SUM(I53:I55) -> 9000 | J56: =SUM(J53:J55) -> 9000 | K56: =SUM(K53:K55) -> 9000 | L56: =SUM(L53:L55) -> 9000 | ... AB56: =SUM(AB53:AB55) -> 9000
B57: Salário Total
B58: Júnior | C58: =Inputs!C17 -> 2 | E58: =$C58*E53 -> 6000 | F58: =$C58*F53 -> 6000 | G58: =$C58*G53 -> 6000 | H58: =$C58*H53 -> 6000 | I58: =$C58*I53 -> 6000 | J58: =$C58*J53 -> 6000 | K58: =$C58*K53 -> 6000 | L58: =$C58*L53 -> 6000 | ... AB58: =$C58*AB53 -> 6000
B59: Plenos | C59: =Inputs!C18 -> 4 | E59: =$C59*E54 -> 12000 | F59: =$C59*F54 -> 12000 | G59: =$C59*G54 -> 12000 | H59: =$C59*H54 -> 12000 | I59: =$C59*I54 -> 12000 | J59: =$C59*J54 -> 12000 | K59: =$C59*K54 -> 12000 | L59: =$C59*L54 -> 12000 | ... AB59: =$C59*AB54 -> 12000
B60: Supervisor | C60: =Inputs!C19 -> 2 | E60: =$C60*E55 -> 6000 | F60: =$C60*F55 -> 6000 | G60: =$C60*G55 -> 6000 | H60: =$C60*H55 -> 6000 | I60: =$C60*I55 -> 6000 | J60: =$C60*J55 -> 6000 | K60: =$C60*K55 -> 6000 | L60: =$C60*L55 -> 6000 | ... AB60: =$C60*AB55 -> 6000
B61: Total | C61: =SUM(C58:C60) -> 8 | E61: =SUM(E58:E60) -> 24000 | F61: =SUM(F58:F60) -> 24000 | G61: =SUM(G58:G60) -> 24000 | H61: =SUM(H58:H60) -> 24000 | I61: =SUM(I58:I60) -> 24000 | J61: =SUM(J58:J60) -> 24000 | K61: =SUM(K58:K60) -> 24000 | L61: =SUM(L58:L60) -> 24000 | ... AB61: =SUM(AB58:AB60) -> 24000
B63: Participação
...

Sheet apoio_dashboard
C2: 1 | D2: 2 | E2: 3 | F2: 4 | G2: 5 | H2: 6 | I2: 7 | J2: 8 | K2: 9 | L2: 10 | M2: 11 | N2: 12 | O2: 13 | P2: 14 | Q2: 15 | R2: 16 | S2: 17 | T2: 18 | U2: 19 | V2: 20 | W2: 21 | X2: 22 | Y2: 23 | Z2: 24
B3: Receita Líquida | C3: =Cálculos!E90 -> 0 | D3: =Cálculos!F90 -> 0 | E3: =Cálculos!G90 -> 9906.6 | F3: =Cálculos!H90 -> 9906.6 | G3: =Cálculos!I90 -> 19813.2 | H3: =Cálculos!J90 -> 19813.2 | I3: =Cálculos!K90 -> 19813.2 | J3: =Cálculos!L90 -> 29719.8 | ... Z3: =Cálculos!AB90 -> 79252.8
B4: EBITDA | C4: =Cálculos!E95+Cálculos!E71 -> -36680 | D4: =Cálculos!F95+Cálculos!F71 -> -36680 | E4: =Cálculos!G95+Cálculos!G71 -> -30117.4 | F4: =Cálculos!H95+Cálculos!H71 -> -30117.4 | G4: =Cálculos!I95+Cálculos!I71 -> -23554.8 | H4: =Cálculos!J95+Cálculos!J71 -> -23554.8 | I4: =Cálculos!K95+Cálculos!K71 -> -23554.8 | J4: =Cálculos!L95+Cálculos!L71 -> -16992.2 | ... Z4: =Cálculos!AB95+Cálculos!AB71 -> 15820.8
B5: Lucro | C5: =Cálculos!E97 -> -38346.667 | D5: =Cálculos!F97 -> -38346.667 | E5: =Cálculos!G97 -> -31784.067 | F5: =Cálculos!H97 -> -31784.067 | G5: =Cálculos!I97 -> -25221.467 | H5: =Cálculos!J97 -> -25221.467 | I5: =Cálculos!K97 -> -25221.467 | J5: =Cálculos!L97 -> -18658.867 | ... Z5: =Cálculos!AB97 -> 14154.133
B6: Caixa | C6: =Cálculos!E136 -> -204680 | D6: =Cálculos!F136 -> -36680 | E6: =Cálculos!G136 -> -36680 | F6: =Cálculos!H136 -> -39313.4 | G6: =Cálculos!I136 -> -30117.4 | H6: =Cálculos!J136 -> -32750.8 | I6: =Cálculos!K136 -> -23554.8 | J6: =Cálculos!L136 -> -23554.8 | ... Z6: =Cálculos!AB136 -> 15820.8
B7: Caixa Acumulado | C7: =C6 -> -204680 | D7: =D6+C7 -> -241360 | E7: =E6+D7 -> -278040 | F7: =F6+E7 -> -317353.4 | G7: =G6+F7 -> -347470.8 | H7: =H6+G7 -> -380221.6 | I7: =I6+H7 -> -403776.4 | J7: =J6+I7 -> -427331.2 | K7: =K6+J7 -> -453519.4 | ... Z7: =Z6+Y7 -> -465628
B9: Receita Líquida
B10: Mês | C10: =SUMIF(C2:Z2,Dashboard!E2,apoio_dashboard!C3:Z3) -> 0
B11: Acumulado | C11: =SUMIF(C2:Z2,"<="&Dashboard!E2,apoio_dashboard!C3:Z3) -> 0
B13: EBITDA
B14: Mês | C14: =SUMIF(C2:Z2,Dashboard!E2,apoio_dashboard!C4:Z4) -> -36680
B15: Acumulado | C15: =SUMIF(C2:Z2,"<="&Dashboard!E2,apoio_dashboard!C4:Z4) -> -36680
B17: Lucro
B18: Mês | C18: =SUMIF(C2:Z2,Dashboard!E2,apoio_dashboard!C5:Z5) -> -38346.667
B19: Acumulado | C19: =SUMIF(C2:Z2,"<="&Dashboard!E2,apoio_dashboard!C5:Z5) -> -38346.667
B21: Caixa
B22: Mês | C22: =SUMIF(C2:Z2,Dashboard!E2,apoio_dashboard!C6:Z6) -> -204680
B23: Acumulado | C23: =SUMIF(C2:Z2,"<="&Dashboard!E2,apoio_dashboard!C6:Z6) -> -204680
B26: Gráfico
B27: Receita Bruta | C27: =Cálculos!E88 -> 0 | D27: =Cálculos!F88 -> 0 | E27: =Cálculos!G88 -> 12540 | F27: =Cálculos!H88 -> 12540 | G27: =Cálculos!I88 -> 25080 | H27: =Cálculos!J88 -> 25080 | I27: =Cálculos!K88 -> 25080 | J27: =Cálculos!L88 -> 37620 | ... Z27: =Cálculos!AB88 -> 100320
B28: Lucro Líquido | C28: =Cálculos!E97 -> -38346.667 | D28: =Cálculos!F97 -> -38346.667 | E28: =Cálculos!G97 -> -31784.067 | F28: =Cálculos!H97 -> -31784.067 | G28: =Cálculos!I97 -> -25221.467 | H28: =Cálculos!J97 -> -25221.467 | I28: =Cálculos!K97 -> -25221.467 | J28: =Cálculos!L97 -> -18658.867 | ... Z28: =Cálculos!AB97 -> 14154.133
B29: Lucratividade | C29: =IF(C27>0,C28/C27,0) -> 0 | D29: =IF(D27>0,D28/D27,0) -> 0 | E29: =IF(E27>0,E28/E27,0) -> -2.5346146 | F29: =IF(F27>0,F28/F27,0) -> -2.5346146 | G29: =IF(G27>0,G28/G27,0) -> -1.0056406 | H29: =IF(H27>0,H28/H27,0) -> -1.0056406 | I29: =IF(I27>0,I28/I27,0) -> -1.0056406 | J29: =IF(J27>0,J28/J27,0) -> -0.49598263 | ... Z29: =IF(Z27>0,Z28/Z27,0) -> 0.14108985

Sheet Dashboard
D2: Período | E2: 1
