Workbook

Sheet Planejamento Físico-Financeiro
A1: Ano | B1: 2022 | AF1: Total Geral
A2: Trimestre | B2: T3 | F2: T4
A3: Mês | B3: Setembro | F3: Outubro | P3: Novembro | X3: Dezembro
A4: Serviço // Semana | B4: Semana 38 | D4: Semana 39 | F4: Semana 40 | H4: Semana 41 | J4: Semana 42 | L4: Semana 43 | N4: Semana 44 | P4: Semana 45 | R4: Semana 46 | T4: Semana 47 | V4: Semana 48 | X4: Semana 49 | Z4: Semana 50 | AB4: Semana 51 | AD4: Semana 52
B5: Meta | C5: Realizado | D5: Meta | E5: Realizado | F5: Meta | G5: Realizado | H5: Meta | I5: Realizado | J5: Meta | K5: Realizado | L5: Meta | M5: Realizado | N5: Meta | O5: Realizado | P5: Meta | Q5: Realizado | R5: Meta | S5: Realizado | T5: Meta | U5: Realizado | V5: Meta | W5: Realizado | X5: Meta | Y5: Realizado | Z5: Meta | AA5: Realizado | AB5: Meta | AC5: Realizado | AD5: Meta | AE5: Realizado
A6: Serviços Preliminares | B6: =SUM(B8,B10) -> 15569.07 | C6: =SUM(C8,C10) -> 0 | D6: =SUM(D8,D10) -> 17187.99 | E6: =SUM(E8,E10) -> 0 | F6: =SUM(F8,F10) -> 17187.99 | G6: =SUM(G8,G10) -> 0 | H6: =SUM(H8,H10) -> 13750.39 | I6: =SUM(I8,I10) -> 0 | ... AE6: =SUM(AE8,AE10) -> 0 | AF6: =AD6+AB6+Z6+X6+V6+T6+R6+P6+N6+L6+J6+H6+F6+D6+B6 -> 205614.78
B7: =B6/$AF6 -> 0.075719605 | C7: =C6/$AF6 -> 0 | D7: =D6/$AF6 -> 0.083593164 | E7: =E6/$AF6 -> 0 | F7: =F6/$AF6 -> 0.083593164 | G7: =G6/$AF6 -> 0 | H7: =H6/$AF6 -> 0.066874521 | I7: =I6/$AF6 -> 0 | ... AF7: =AF6/$AF6 -> 1
A8: Projetos | B8: 2428.39 | C8: =C9*$AF8 -> 0 | D8: 4047.31 | E8: =E9*$AF8 -> 0 | F8: 4047.31 | G8: =G9*$AF8 -> 0 | H8: 3237.85 | I8: =I9*$AF8 -> 0 | J8: 0 | K8: =K9*$AF8 -> 0 | L8: 0 | M8: =M9*$AF8 -> 0 | N8: 0 | O8: =O9*$AF8 -> 0 | P8: 0 | Q8: =Q9*$AF8 -> 0 | R8: 0 | S8: =S9*$AF8 -> 0 | T8: 0 | U8: =U9*$AF8 -> 0 | V8: 0 | W8: =W9*$AF8 -> 0 | X8: 0 | Y8: =Y9*$AF8 -> 0 | Z8: 0 | AA8: =AA9*$AF8 -> 0 | AB8: 0 | AC8: =AC9*$AF8 -> 0 | AD8: 0 | AE8: =AE9*$AF8 -> 0 | AF8: =AD8+AB8+Z8+X8+V8+T8+R8+P8+N8+L8+J8+H8+F8+D8+B8 -> 13760.86
B9: =B8/$AF8 -> 0.1764708 | D9: =D8/$AF8 -> 0.29411752 | F9: =F8/$AF8 -> 0.29411752 | H9: =H8/$AF8 -> 0.23529416 | J9: =J8/$AF8 -> 0 | L9: =L8/$AF8 -> 0 | N9: =N8/$AF8 -> 0 | P9: =P8/$AF8 -> 0 | R9: =R8/$AF8 -> 0 | T9: =T8/$AF8 -> 0 | V9: =V8/$AF8 -> 0 | X9: =X8/$AF8 -> 0 | Z9: =Z8/$AF8 -> 0 | AB9: =AB8/$AF8 -> 0 | AD9: =AD8/$AF8 -> 0
A10: Adminstração de Obra | B10: 13140.68 | C10: =C11*$AF10 -> 0 | D10: 13140.68 | E10: =E11*$AF10 -> 0 | F10: 13140.68 | G10: =G11*$AF10 -> 0 | H10: 10512.54 | I10: =I11*$AF10 -> 0 | J10: 13140.68 | K10: =K11*$AF10 -> 0 | L10: 13140.68 | M10: =M11*$AF10 -> 0 | N10: 13140.68 | O10: =O11*$AF10 -> 0 | P10: 13140.68 | Q10: =Q11*$AF10 -> 0 | R10: 10512.54 | S10: =S11*$AF10 -> 0 | T10: 13140.68 | U10: =U11*$AF10 -> 0 | V10: 13140.68 | W10: =W11*$AF10 -> 0 | X10: 13140.68 | Y10: =Y11*$AF10 -> 0 | Z10: 13140.68 | AA10: =AA11*$AF10 -> 0 | AB10: 13140.68 | AC10: =AC11*$AF10 -> 0 | AD10: 13140.68 | AE10: =AE11*$AF10 -> 0 | AF10: =AD10+AB10+Z10+X10+V10+T10+R10+P10+N10+L10+J10+H10+F10+D10+B10 -> 191853.92
B11: =B10/$AF10 -> 0.068493154 | D11: =D10/$AF10 -> 0.068493154 | F11: =F10/$AF10 -> 0.068493154 | H11: =H10/$AF10 -> 0.054794502 | J11: =J10/$AF10 -> 0.068493154 | L11: =L10/$AF10 -> 0.068493154 | N11: =N10/$AF10 -> 0.068493154 | P11: =P10/$AF10 -> 0.068493154 | R11: =R10/$AF10 -> 0.054794502 | T11: =T10/$AF10 -> 0.068493154 | V11: =V10/$AF10 -> 0.068493154 | X11: =X10/$AF10 -> 0.068493154 | Z11: =Z10/$AF10 -> 0.068493154 | AB11: =AB10/$AF10 -> 0.068493154 | AD11: =AD10/$AF10 -> 0.068493154
A12: Fechamento dos Vãos dos Portões | B12: =SUM(B14,B16,B18,B20) -> 375.26 | C12: =SUM(C14,C16,C18,C20) -> 0 | D12: =SUM(D14,D16,D18,D20) -> 1155.96 | E12: =SUM(E14,E16,E18,E20) -> 0 | F12: =SUM(F14,F16,F18,F20) -> 0 | G12: =SUM(G14,G16,G18,G20) -> 0 | H12: =SUM(H14,H16,H18,H20) -> 0 | I12: =SUM(I14,I16,I18,I20) -> 0 | ... AE12: =SUM(AE14,AE16,AE18,AE20) -> 0 | AF12: =AD12+AB12+Z12+X12+V12+T12+R12+P12+N12+L12+J12+H12+F12+D12+B12 -> 1531.22
B13: =B12/$AF12 -> 0.24507256 | C13: =C12/$AF12 -> 0 | D13: =D12/$AF12 -> 0.75492744 | E13: =E12/$AF12 -> 0 | F13: =F12/$AF12 -> 0 | G13: =G12/$AF12 -> 0 | H13: =H12/$AF12 -> 0 | I13: =I12/$AF12 -> 0 | ... AF13: =AF12/$AF12 -> 1
A14: Remoção dos portões | B14: 76.93 | C14: =C15*$AF14 -> 0 | D14: 0 | E14: =E15*$AF14 -> 0 | F14: 0 | G14: =G15*$AF14 -> 0 | H14: 0 | I14: =I15*$AF14 -> 0 | J14: 0 | K14: =K15*$AF14 -> 0 | L14: 0 | M14: =M15*$AF14 -> 0 | N14: 0 | O14: =O15*$AF14 -> 0 | P14: 0 | Q14: =Q15*$AF14 -> 0 | R14: 0 | S14: =S15*$AF14 -> 0 | T14: 0 | U14: =U15*$AF14 -> 0 | V14: 0 | W14: =W15*$AF14 -> 0 | X14: 0 | Y14: =Y15*$AF14 -> 0 | Z14: 0 | AA14: =AA15*$AF14 -> 0 | AB14: 0 | AC14: =AC15*$AF14 -> 0 | AD14: 0 | AE14: =AE15*$AF14 -> 0 | AF14: =AD14+AB14+Z14+X14+V14+T14+R14+P14+N14+L14+J14+H14+F14+D14+B14 -> 76.93
B15: =B14/$AF14 -> 1 | D15: =D14/$AF14 -> 0 | F15: =F14/$AF14 -> 0 | H15: =H14/$AF14 -> 0 | J15: =J14/$AF14 -> 0 | L15: =L14/$AF14 -> 0 | N15: =N14/$AF14 -> 0 | P15: =P14/$AF14 -> 0 | R15: =R14/$AF14 -> 0 | T15: =T14/$AF14 -> 0 | V15: =V14/$AF14 -> 0 | X15: =X14/$AF14 -> 0 | Z15: =Z14/$AF14 -> 0 | AB15: =AB14/$AF14 -> 0 | AD15: =AD14/$AF14 -> 0
A16: Execução de Alvenaria | B16: 298.33 | C16: =C17*$AF16 -> 0 | D16: 0 | E16: =E17*$AF16 -> 0 | F16: 0 | G16: =G17*$AF16 -> 0 | H16: 0 | I16: =I17*$AF16 -> 0 | J16: 0 | K16: =K17*$AF16 -> 0 | L16: 0 | M16: =M17*$AF16 -> 0 | N16: 0 | O16: =O17*$AF16 -> 0 | P16: 0 | Q16: =Q17*$AF16 -> 0 | R16: 0 | S16: =S17*$AF16 -> 0 | T16: 0 | U16: =U17*$AF16 -> 0 | V16: 0 | W16: =W17*$AF16 -> 0 | X16: 0 | Y16: =Y17*$AF16 -> 0 | Z16: 0 | AA16: =AA17*$AF16 -> 0 | AB16: 0 | AC16: =AC17*$AF16 -> 0 | AD16: 0 | AE16: =AE17*$AF16 -> 0 | AF16: =AD16+AB16+Z16+X16+V16+T16+R16+P16+N16+L16+J16+H16+F16+D16+B16 -> 298.33
B17: =B16/$AF16 -> 1 | D17: =D16/$AF16 -> 0 | F17: =F16/$AF16 -> 0 | H17: =H16/$AF16 -> 0 | J17: =J16/$AF16 -> 0 | L17: =L16/$AF16 -> 0 | N17: =N16/$AF16 -> 0 | P17: =P16/$AF16 -> 0 | R17: =R16/$AF16 -> 0 | T17: =T16/$AF16 -> 0 | V17: =V16/$AF16 -> 0 | X17: =X16/$AF16 -> 0 | Z17: =Z16/$AF16 -> 0 | AB17: =AB16/$AF16 -> 0 | AD17: =AD16/$AF16 -> 0
A18: Chapisco em Estruturas de Concreto | B18: 0 | C18: =C19*$AF18 -> 0 | D18: 150.67 | E18: =E19*$AF18 -> 0 | F18: 0 | G18: =G19*$AF18 -> 0 | H18: 0 | I18: =I19*$AF18 -> 0 | J18: 0 | K18: =K19*$AF18 -> 0 | L18: 0 | M18: =M19*$AF18 -> 0 | N18: 0 | O18: =O19*$AF18 -> 0 | P18: 0 | Q18: =Q19*$AF18 -> 0 | R18: 0 | S18: =S19*$AF18 -> 0 | T18: 0 | U18: =U19*$AF18 -> 0 | V18: 0 | W18: =W19*$AF18 -> 0 | X18: 0 | Y18: =Y19*$AF18 -> 0 | Z18: 0 | AA18: =AA19*$AF18 -> 0 | AB18: 0 | AC18: =AC19*$AF18 -> 0 | AD18: 0 | AE18: =AE19*$AF18 -> 0 | AF18: =AD18+AB18+Z18+X18+V18+T18+R18+P18+N18+L18+J18+H18+F18+D18+B18 -> 150.67
B19: =B18/$AF18 -> 0 | D19: =D18/$AF18 -> 1 | F19: =F18/$AF18 -> 0 | H19: =H18/$AF18 -> 0 | J19: =J18/$AF18 -> 0 | L19: =L18/$AF18 -> 0 | N19: =N18/$AF18 -> 0 | P19: =P18/$AF18 -> 0 | R19: =R18/$AF18 -> 0 | T19: =T18/$AF18 -> 0 | V19: =V18/$AF18 -> 0 | X19: =X18/$AF18 -> 0 | Z19: =Z18/$AF18 -> 0 | AB19: =AB18/$AF18 -> 0 | AD19: =AD18/$AF18 -> 0
A20: Reboco em Parede | B20: 0 | C20: =C21*$AF20 -> 0 | D20: 1005.29 | E20: =E21*$AF20 -> 0 | F20: 0 | G20: =G21*$AF20 -> 0 | H20: 0 | I20: =I21*$AF20 -> 0 | J20: 0 | K20: =K21*$AF20 -> 0 | L20: 0 | M20: =M21*$AF20 -> 0 | N20: 0 | O20: =O21*$AF20 -> 0 | P20: 0 | Q20: =Q21*$AF20 -> 0 | R20: 0 | S20: =S21*$AF20 -> 0 | T20: 0 | U20: =U21*$AF20 -> 0 | V20: 0 | W20: =W21*$AF20 -> 0 | X20: 0 | Y20: =Y21*$AF20 -> 0 | Z20: 0 | AA20: =AA21*$AF20 -> 0 | AB20: 0 | AC20: =AC21*$AF20 -> 0 | AD20: 0 | AE20: =AE21*$AF20 -> 0 | AF20: =AD20+AB20+Z20+X20+V20+T20+R20+P20+N20+L20+J20+H20+F20+D20+B20 -> 1005.29
B21: =B20/$AF20 -> 0 | D21: =D20/$AF20 -> 1 | F21: =F20/$AF20 -> 0 | H21: =H20/$AF20 -> 0 | J21: =J20/$AF20 -> 0 | L21: =L20/$AF20 -> 0 | N21: =N20/$AF20 -> 0 | P21: =P20/$AF20 -> 0 | R21: =R20/$AF20 -> 0 | T21: =T20/$AF20 -> 0 | V21: =V20/$AF20 -> 0 | X21: =X20/$AF20 -> 0 | Z21: =Z20/$AF20 -> 0 | AB21: =AB20/$AF20 -> 0 | AD21: =AD20/$AF20 -> 0
A22: Manutenção do Piso | B22: =SUM(B24,B26,B28,B30,B32) -> 0 | C22: =SUM(C24,C26,C28,C30,C32) -> 0 | D22: =SUM(D24,D26,D28,D30,D32) -> 16031.12 | E22: =SUM(E24,E26,E28,E30,E32) -> 0 | F22: =SUM(F24,F26,F28,F30,F32) -> 25143.33 | G22: =SUM(G24,G26,G28,G30,G32) -> 0 | H22: =SUM(H24,H26,H28,H30,H32) -> 26111.49 | I22: =SUM(I24,I26,I28,I30,I32) -> 0 | ... AE22: =SUM(AE24,AE26,AE28,AE30,AE32) -> 0 | AF22: =AD22+AB22+Z22+X22+V22+T22+R22+P22+N22+L22+J22+H22+F22+D22+B22 -> 82319.83
B23: =B22/$AF22 -> 0 | C23: =C22/$AF22 -> 0 | D23: =D22/$AF22 -> 0.1947419 | E23: =E22/$AF22 -> 0 | F23: =F22/$AF22 -> 0.30543467 | G23: =G22/$AF22 -> 0 | H23: =H22/$AF22 -> 0.31719563 | I23: =I22/$AF22 -> 0 | ... AF23: =AF22/$AF22 -> 1
A24: Demolição de Guia para Concreto | B24: 0 | C24: =C25*$AF24 -> 0 | D24: 14209.34 | E24: =E25*$AF24 -> 0 | F24: 0 | G24: =G25*$AF24 -> 0 | H24: 0 | I24: =I25*$AF24 -> 0 | J24: 0 | K24: =K25*$AF24 -> 0 | L24: 0 | M24: =M25*$AF24 -> 0 | N24: 0 | O24: =O25*$AF24 -> 0 | P24: 0 | Q24: =Q25*$AF24 -> 0 | R24: 0 | S24: =S25*$AF24 -> 0 | T24: 0 | U24: =U25*$AF24 -> 0 | V24: 0 | W24: =W25*$AF24 -> 0 | X24: 0 | Y24: =Y25*$AF24 -> 0 | Z24: 0 | AA24: =AA25*$AF24 -> 0 | AB24: 0 | AC24: =AC25*$AF24 -> 0 | AD24: 0 | AE24: =AE25*$AF24 -> 0 | AF24: =AD24+AB24+Z24+X24+V24+T24+R24+P24+N24+L24+J24+H24+F24+D24+B24 -> 14209.34
B25: =B24/$AF24 -> 0 | D25: =D24/$AF24 -> 1 | F25: =F24/$AF24 -> 0 | H25: =H24/$AF24 -> 0 | J25: =J24/$AF24 -> 0 | L25: =L24/$AF24 -> 0 | N25: =N24/$AF24 -> 0 | P25: =P24/$AF24 -> 0 | R25: =R24/$AF24 -> 0 | T25: =T24/$AF24 -> 0 | V25: =V24/$AF24 -> 0 | X25: =X24/$AF24 -> 0 | Z25: =Z24/$AF24 -> 0 | AB25: =AB24/$AF24 -> 0 | AD25: =AD24/$AF24 -> 0
A26: Demolição de Piso Intertravado | B26: 0 | C26: =C27*$AF26 -> 0 | D26: 770 | E26: =E27*$AF26 -> 0 | F26: 0 | G26: =G27*$AF26 -> 0 | H26: 0 | I26: =I27*$AF26 -> 0 | J26: 0 | K26: =K27*$AF26 -> 0 | L26: 0 | M26: =M27*$AF26 -> 0 | N26: 0 | O26: =O27*$AF26 -> 0 | P26: 0 | Q26: =Q27*$AF26 -> 0 | R26: 0 | S26: =S27*$AF26 -> 0 | T26: 0 | U26: =U27*$AF26 -> 0 | V26: 0 | W26: =W27*$AF26 -> 0 | X26: 0 | Y26: =Y27*$AF26 -> 0 | Z26: 0 | AA26: =AA27*$AF26 -> 0 | AB26: 0 | AC26: =AC27*$AF26 -> 0 | AD26: 0 | AE26: =AE27*$AF26 -> 0 | AF26: =AD26+AB26+Z26+X26+V26+T26+R26+P26+N26+L26+J26+H26+F26+D26+B26 -> 770
B27: =B26/$AF26 -> 0 | D27: =D26/$AF26 -> 1 | F27: =F26/$AF26 -> 0 | H27: =H26/$AF26 -> 0 | J27: =J26/$AF26 -> 0 | L27: =L26/$AF26 -> 0 | N27: =N26/$AF26 -> 0 | P27: =P26/$AF26 -> 0 | R27: =R26/$AF26 -> 0 | T27: =T26/$AF26 -> 0 | V27: =V26/$AF26 -> 0 | X27: =X26/$AF26 -> 0 | Z27: =Z26/$AF26 -> 0 | AB27: =AB26/$AF26 -> 0 | AD27: =AD26/$AF26 -> 0
A28: Montagem de Fôrma p/ Radiê | B28: 0 | C28: =C29*$AF28 -> 0 | D28: 1051.78 | E28: =E29*$AF28 -> 0 | F28: 350.59 | G28: =G29*$AF28 -> 0 | H28: 0 | I28: =I29*$AF28 -> 0 | J28: 0 | K28: =K29*$AF28 -> 0 | L28: 0 | M28: =M29*$AF28 -> 0 | N28: 0 | O28: =O29*$AF28 -> 0 | P28: 0 | Q28: =Q29*$AF28 -> 0 | R28: 0 | S28: =S29*$AF28 -> 0 | T28: 0 | U28: =U29*$AF28 -> 0 | V28: 0 | W28: =W29*$AF28 -> 0 | X28: 0 | Y28: =Y29*$AF28 -> 0 | Z28: 0 | AA28: =AA29*$AF28 -> 0 | AB28: 0 | AC28: =AC29*$AF28 -> 0 | AD28: 0 | AE28: =AE29*$AF28 -> 0 | AF28: =AD28+AB28+Z28+X28+V28+T28+R28+P28+N28+L28+J28+H28+F28+D28+B28 -> 1402.37
B29: =B28/$AF28 -> 0 | D29: =D28/$AF28 -> 0.75000178 | F29: =F28/$AF28 -> 0.24999822 | H29: =H28/$AF28 -> 0 | J29: =J28/$AF28 -> 0 | L29: =L28/$AF28 -> 0 | N29: =N28/$AF28 -> 0 | P29: =P28/$AF28 -> 0 | R29: =R28/$AF28 -> 0 | T29: =T28/$AF28 -> 0 | V29: =V28/$AF28 -> 0 | X29: =X28/$AF28 -> 0 | Z29: =Z28/$AF28 -> 0 | AB29: =AB28/$AF28 -> 0 | AD29: =AD28/$AF28 -> 0
A30: Armação para Radiê | B30: 0 | C30: =C31*$AF30 -> 0 | D30: 0 | E30: =E31*$AF30 -> 0 | F30: 24792.74 | G30: =G31*$AF30 -> 0 | H30: 18594.55 | I30: =I31*$AF30 -> 0 | J30: 0 | K30: =K31*$AF30 -> 0 | L30: 0 | M30: =M31*$AF30 -> 0 | N30: 0 | O30: =O31*$AF30 -> 0 | P30: 0 | Q30: =Q31*$AF30 -> 0 | R30: 0 | S30: =S31*$AF30 -> 0 | T30: 0 | U30: =U31*$AF30 -> 0 | V30: 0 | W30: =W31*$AF30 -> 0 | X30: 0 | Y30: =Y31*$AF30 -> 0 | Z30: 0 | AA30: =AA31*$AF30 -> 0 | AB30: 0 | AC30: =AC31*$AF30 -> 0 | AD30: 0 | AE30: =AE31*$AF30 -> 0 | AF30: =AD30+AB30+Z30+X30+V30+T30+R30+P30+N30+L30+J30+H30+F30+D30+B30 -> 43387.29
B31: =B30/$AF30 -> 0 | D31: =D30/$AF30 -> 0 | F31: =F30/$AF30 -> 0.57142864 | H31: =H30/$AF30 -> 0.42857136 | J31: =J30/$AF30 -> 0 | L31: =L30/$AF30 -> 0 | N31: =N30/$AF30 -> 0 | P31: =P30/$AF30 -> 0 | R31: =R30/$AF30 -> 0 | T31: =T30/$AF30 -> 0 | V31: =V30/$AF30 -> 0 | X31: =X30/$AF30 -> 0 | Z31: =Z30/$AF30 -> 0 | AB31: =AB30/$AF30 -> 0 | AD31: =AD30/$AF30 -> 0
A32: Concretagem de Radiê | B32: 0 | C32: =C33*$AF32 -> 0 | D32: 0 | E32: =E33*$AF32 -> 0 | F32: 0 | G32: =G33*$AF32 -> 0 | H32: 7516.94 | I32: =I33*$AF32 -> 0 | J32: 15033.89 | K32: =K33*$AF32 -> 0 | L32: 0 | M32: =M33*$AF32 -> 0 | N32: 0 | O32: =O33*$AF32 -> 0 | P32: 0 | Q32: =Q33*$AF32 -> 0 | R32: 0 | S32: =S33*$AF32 -> 0 | T32: 0 | U32: =U33*$AF32 -> 0 | V32: 0 | W32: =W33*$AF32 -> 0 | X32: 0 | Y32: =Y33*$AF32 -> 0 | Z32: 0 | AA32: =AA33*$AF32 -> 0 | AB32: 0 | AC32: =AC33*$AF32 -> 0 | AD32: 0 | AE32: =AE33*$AF32 -> 0 | AF32: =AD32+AB32+Z32+X32+V32+T32+R32+P32+N32+L32+J32+H32+F32+D32+B32 -> 22550.83
B33: =B32/$AF32 -> 0 | D33: =D32/$AF32 -> 0 | F33: =F32/$AF32 -> 0 | H33: =H32/$AF32 -> 0.33333319 | J33: =J32/$AF32 -> 0.66666681 | L33: =L32/$AF32 -> 0 | N33: =N32/$AF32 -> 0 | P33: =P32/$AF32 -> 0 | R33: =R32/$AF32 -> 0 | T33: =T32/$AF32 -> 0 | V33: =V32/$AF32 -> 0 | X33: =X32/$AF32 -> 0 | Z33: =Z32/$AF32 -> 0 | AB33: =AB32/$AF32 -> 0 | AD33: =AD32/$AF32 -> 0
A34: Instalações | B34: =SUM(B36,B46) -> 0 | C34: =SUM(C36,C46) -> 0 | D34: =SUM(D36,D46) -> 0 | E34: =SUM(E36,E46) -> 0 | F34: =SUM(F36,F46) -> 0 | G34: =SUM(G36,G46) -> 0 | H34: =SUM(H36,H46) -> 0 | I34: =SUM(I36,I46) -> 0 | ... AE34: =SUM(AE36,AE46) -> 0 | AF34: =AD34+AB34+Z34+X34+V34+T34+R34+P34+N34+L34+J34+H34+F34+D34+B34 -> 60589.27
B35: =B34/$AF34 -> 0 | C35: =C34/$AF34 -> 0 | D35: =D34/$AF34 -> 0 | E35: =E34/$AF34 -> 0 | F35: =F34/$AF34 -> 0 | G35: =G34/$AF34 -> 0 | H35: =H34/$AF34 -> 0 | I35: =I34/$AF34 -> 0 | ... AF35: =AF34/$AF34 -> 1
A36: Eletrica | B36: =SUM(B38,B40,B42,B44) -> 0 | C36: =SUM(C38,C40,C42,C44) -> 0 | D36: =SUM(D38,D40,D42,D44) -> 0 | E36: =SUM(E38,E40,E42,E44) -> 0 | F36: =SUM(F38,F40,F42,F44) -> 0 | G36: =SUM(G38,G40,G42,G44) -> 0 | H36: =SUM(H38,H40,H42,H44) -> 0 | I36: =SUM(I38,I40,I42,I44) -> 0 | ... AE36: =SUM(AE38,AE40,AE42,AE44) -> 0 | AF36: =AD36+AB36+Z36+X36+V36+T36+R36+P36+N36+L36+J36+H36+F36+D36+B36 -> 27920.99
B37: =B36/$AF36 -> 0 | C37: =C36/$AF36 -> 0 | D37: =D36/$AF36 -> 0 | E37: =E36/$AF36 -> 0 | F37: =F36/$AF36 -> 0 | G37: =G36/$AF36 -> 0 | H37: =H36/$AF36 -> 0 | I37: =I36/$AF36 -> 0 | ... AF37: =AF36/$AF36 -> 1
A38: Instalação de Eletrodutos | B38: 0 | C38: =C39*$AF38 -> 0 | D38: 0 | E38: =E39*$AF38 -> 0 | F38: 0 | G38: =G39*$AF38 -> 0 | H38: 0 | I38: =I39*$AF38 -> 0 | J38: 19212.2 | K38: =K39*$AF38 -> 0 | L38: 0 | M38: =M39*$AF38 -> 0 | N38: 0 | O38: =O39*$AF38 -> 0 | P38: 0 | Q38: =Q39*$AF38 -> 0 | R38: 0 | S38: =S39*$AF38 -> 0 | T38: 0 | U38: =U39*$AF38 -> 0 | V38: 0 | W38: =W39*$AF38 -> 0 | X38: 0 | Y38: =Y39*$AF38 -> 0 | Z38: 0 | AA38: =AA39*$AF38 -> 0 | AB38: 0 | AC38: =AC39*$AF38 -> 0 | AD38: 0 | AE38: =AE39*$AF38 -> 0 | AF38: =AD38+AB38+Z38+X38+V38+T38+R38+P38+N38+L38+J38+H38+F38+D38+B38 -> 19212.2
B39: =B38/$AF38 -> 0 | D39: =D38/$AF38 -> 0 | F39: =F38/$AF38 -> 0 | H39: =H38/$AF38 -> 0 | J39: =J38/$AF38 -> 1 | L39: =L38/$AF38 -> 0 | N39: =N38/$AF38 -> 0 | P39: =P38/$AF38 -> 0 | R39: =R38/$AF38 -> 0 | T39: =T38/$AF38 -> 0 | V39: =V38/$AF38 -> 0 | X39: =X38/$AF38 -> 0 | Z39: =Z38/$AF38 -> 0 | AB39: =AB38/$AF38 -> 0 | AD39: =AD38/$AF38 -> 0
A40: Passagem de Cabos | B40: 0 | C40: =C41*$AF40 -> 0 | D40: 0 | E40: =E41*$AF40 -> 0 | F40: 0 | G40: =G41*$AF40 -> 0 | H40: 0 | I40: =I41*$AF40 -> 0 | J40: 0 | K40: =K41*$AF40 -> 0 | L40: 4322.93 | M40: =M41*$AF40 -> 0 | N40: 0 | O40: =O41*$AF40 -> 0 | P40: 0 | Q40: =Q41*$AF40 -> 0 | R40: 0 | S40: =S41*$AF40 -> 0 | T40: 0 | U40: =U41*$AF40 -> 0 | V40: 0 | W40: =W41*$AF40 -> 0 | X40: 0 | Y40: =Y41*$AF40 -> 0 | Z40: 0 | AA40: =AA41*$AF40 -> 0 | AB40: 0 | AC40: =AC41*$AF40 -> 0 | AD40: 0 | AE40: =AE41*$AF40 -> 0 | AF40: =AD40+AB40+Z40+X40+V40+T40+R40+P40+N40+L40+J40+H40+F40+D40+B40 -> 4322.93
...

Sheet Grafico Semanal Financeiro
A92: Total Financeiro Semanal Previsto | B92: ='Planejamento Físico-Financeiro'!B120 -> 15944.33 | D92: ='Planejamento Físico-Financeiro'!D120 -> 35816.1 | F92: ='Planejamento Físico-Financeiro'!F120 -> 43048.8 | H92: ='Planejamento Físico-Financeiro'!H120 -> 43938.41 | J92: ='Planejamento Físico-Financeiro'!J120 -> 56119.51 | L92: ='Planejamento Físico-Financeiro'!L120 -> 28673.41 | N92: ='Planejamento Físico-Financeiro'!N120 -> 23783.83 | P92: ='Planejamento Físico-Financeiro'!P120 -> 36517.74 | R92: ='Planejamento Físico-Financeiro'!R120 -> 53645.77 | T92: ='Planejamento Físico-Financeiro'!T120 -> 73897.42 | V92: ='Planejamento Físico-Financeiro'!V120 -> 68755.86 | X92: ='Planejamento Físico-Financeiro'!X120 -> 31538.94 | Z92: ='Planejamento Físico-Financeiro'!Z120 -> 26360.38 | AB92: ='Planejamento Físico-Financeiro'!AB120 -> 27766.21 | AD92: ='Planejamento Físico-Financeiro'!AD120 -> 19742.34
A93: Total Financeiro Semanal Realizado | B93: ='Planejamento Físico-Financeiro'!C120 -> 0 | D93: ='Planejamento Físico-Financeiro'!E120 -> 0 | F93: ='Planejamento Físico-Financeiro'!G120 -> 0 | H93: ='Planejamento Físico-Financeiro'!I120 -> 0 | J93: ='Planejamento Físico-Financeiro'!K120 -> 0 | L93: ='Planejamento Físico-Financeiro'!M120 -> 0 | N93: ='Planejamento Físico-Financeiro'!O120 -> 0 | P93: ='Planejamento Físico-Financeiro'!Q120 -> 0 | R93: ='Planejamento Físico-Financeiro'!S120 -> 0 | T93: ='Planejamento Físico-Financeiro'!U120 -> 0 | V93: ='Planejamento Físico-Financeiro'!W120 -> 0 | X93: ='Planejamento Físico-Financeiro'!Y120 -> 32668.28 | Z93: ='Planejamento Físico-Financeiro'!AA120 -> 0 | AB93: ='Planejamento Físico-Financeiro'!AC120 -> 0 | AD93: ='Planejamento Físico-Financeiro'!AE120 -> 145139.91

Sheet Gráfico Semanal Físico
