Workbook

Sheet Planejamento Físico-Financeiro
A1: Ano | B1: 2022 | AF1: Total Geral
A2: Trimestre | B2: T3 | F2: T4
A3: Mês | B3: Setembro | F3: Outubro | P3: Novembro | X3: Dezembro
A4: Serviço // Semana | B4: Semana 38 | D4: Semana 39 | F4: Semana 40 | H4: Semana 41 | J4: Semana 42 | L4: Semana 43 | N4: Semana 44 | P4: Semana 45 | R4: Semana 46 | T4: Semana 47 | V4: Semana 48 | X4: Semana 49 | Z4: Semana 50 | AB4: Semana 51 | AD4: Semana 52
B5: Meta | C5: Realizado | D5: Meta | E5: Realizado | F5: Meta | G5: Realizado | H5: Meta | I5: Realizado | J5: Meta | K5: Realizado | L5: Meta | M5: Realizado | N5: Meta | O5: Realizado | P5: Meta | Q5: Realizado | R5: Meta | S5: Realizado | T5: Meta | U5: Realizado | V5: Meta | W5: Realizado | X5: Meta | Y5: Realizado | Z5: Meta | AA5: Realizado | AB5: Meta | AC5: Realizado | AD5: Meta | AE5: Realizado
A6: Serviços Preliminares | B6: =SUM(B8,B10) -> 15569.07 | C6: =SUM(C8,C10) -> 0 | D6: =SUM(D8,D10) -> 17187.99 | E6: =SUM(E8,E10) -> 0 | F6: =SUM(F8,F10) -> 17187.99 | G6: =SUM(G8,G10) -> 0 | H6: =SUM(H8,H10) -> 13750.39 | I6: =SUM(I8,I10) -> 0 | ... AE6: =SUM(AE8,AE10) -> 0 | AF6: =AD6+AB6+Z6+X6+V6+T6+R6+P6+N6+L6+J6+H6+F6+D6+B6 -> 205614.78
B7: =B6/$AF6 -> 0.075719605 | C7: =C6/$AF6 -> 0 | D7: =D6/$AF6 -> 0.083593164 | E7: =E6/$AF6 -> 0 | F7: =F6/$AF6 -> 0.083593164 | G7: =G6/$AF6 -> 0 | H7: =H6/$AF6 -> 0.066874521 | I7: =I6/$AF6 -> 0 | ... AF7: =AF6/$AF6 -> 1
A8: Projetos | B8: 2428.39 | C8: =C9*$AF8 -> 0 | D8: 4047.31 | E8: =E9*$AF8 -> 0 | F8: 4047.31 | G8: =G9*$AF8 -> 0 | H8: 3237.85 | I8: =I9*$AF8 -> 0 | J8: 0 | K8: =K9*$AF8 -> 0 | L8: 0 | M8: =M9*$AF8 -> 0 | N8: 0 | O8: =O9*$AF8 -> 0 | P8: 0 | Q8: =Q9*$AF8 -> 0 | R8: 0 | S8: =S9*$AF8 -> 0 | T8: 0 | U8: =U9*$AF8 -> 0 | V8: 0 | W8: =W9*$AF8 -> 0 | X8: 0 | Y8: =Y9*$AF8 -> 0 | Z8: 0 | AA8: =AA9*$AF8 -> 0 | AB8: 0 | AC8: =AC9*$AF8 -> 0 | AD8: 0 | AE8: =AE9*$AF8 -> 0 | AF8: =AD8+AB8+Z8+X8+V8+T8+R8+P8+N8+L8+J8+H8+F8+D8+B8 -> 13760.86
B9: =B8/$AF8 -> 0.1764708 | D9: =D8/$AF8 -> 0.29411752 | F9: =F8/$AF8 -> 0.29411752 | H9: =H8/$AF8 -> 0.23529416 | J9: =J8/$AF8 -> 0 | L9: =L8/$AF8 -> 0 | N9: =N8/$AF8 -> 0 | P9: =P8/$AF8 -> 0 | R9: =R8/$AF8 -> 0 | T9: =T8/$AF8 -> 0 | V9: =V8/$AF8 -> 0 | X9: =X8/$AF8 -> 0 | Z9: =Z8/$AF8 -> 0 | AB9: =AB8/$AF8 -> 0 | AD9: =AD8/$AF8 -> 0
A10: Adminstração de Obra | B10: 13140.68 | C10: =C11*$AF10 -> 0 | D10: 13140.68 | E10: =E11*$AF10 -> 0 | F10: 13140.68 | G10: =G11*$AF10 -> 0 | H10: 10512.54 | I10: =I11*$AF10 -> 0 | J10: 13140.68 | K10: =K11*$AF10 -> 0 | L10: 13140.68 | M10: =M11*$AF10 -> 0 | N10: 13140.68 | O10: =O11*$AF10 -> 0 | P10: 13140.68 | Q10: =Q11*$AF10 -> 0 | R10: 10512.54 | S10: =S11*$AF10 -> 0 | T10: 13140.68 | U10: =U11*$AF10 -> 0 | V10: 13140.68 | W10: =W11*$AF10 -> 0 | X10: 13140.68 | Y10: =Y11*$AF10 -> 0 | Z10: 13140.68 | AA10: =AA11*$AF10 -> 0 | AB10: 13140.68 | AC10: =AC11*$AF10 -> 0 | AD10: 13140.68 | AE10: =AE11*$AF10 -> 0 | AF10: =AD10+AB10+Z10+X10+V10+T10+R10+P10+N10+L10+J10+H10+F10+D10+B10 -> 191853.92
B11: =B10/$AF10 -> 0.068493154 | D11: =D10/$AF10 -> 0.068493154 | F11: =F10/$AF10 -> 0.068493154 | H11: =H10/$AF10 -> 0.054794502 | J11: =J10/$AF10 -> 0.068493154 | L11: =L10/$AF10 -> 0.068493154 | N11: =N10/$AF10 -> 0.068493154 | P11: =P10/$AF10 -> 0.068493154 | R11: =R10/$AF10 -> 0.054794502 | T11: =T10/$AF10 -> 0.068493154 | V11: =V10/$AF10 -> 0.068493154 | X11: =X10/$AF10 -> 0.068493154 | Z11: =Z10/$AF10 -> 0.068493154 | AB11: =AB10/$AF10 -> 0.068493154 | AD11: =AD10/$AF10 -> 0.068493154
A12: Fechamento dos Vãos dos Portões | B12: =SUM(B14,B16,B18,B20) -> 375.26 | C12: =SUM(C14,C16,C18,C20) -> 0 | D12: =SUM(D14,D16,D18,D20) -> 1155.96 | E12: =SUM(E14,E16,E18,E20) -> 0 | F12: =SUM(F14,F16,F18,F20) -> 0 | G12: =SUM(G14,G16,G18,G20) -> 0 | H12: =SUM(H14,H16,H18,H20) -> 0 | I12: =SUM(I14,I16,I18,I20) -> 0 | ... AE12: =SUM(AE14,AE16,AE18,AE20) -> 0 | AF12: =AD12+AB12+Z12+X12+V12+T12+R12+P12+N12+L12+J12+H12+F12+D12+B12 -> 1531.22
B13: =B12/$AF12 -> 0.24507256 | C13: =C12/$AF12 -> 0 | D13: =D12/$AF12 -> 0.75492744 | E13: =E12/$AF12 -> 0 | F13: =F12/$AF12 -> 0 | G13: =G12/$AF12 -> 0 | H13: =H12/$AF12 -> 0 | I13: =I12/$AF12 -> 0 | ... AF13: =AF12/$AF12 -> 1
A14: Remoção dos portões | B14: 76.93 | C14: =C15*$AF14 -> 0 | D14: 0 | E14: =E15*$AF14 -> 0 | F14: 0 | G14: =G15*$AF14 -> 0 | H14: 0 | I14: =I15*$AF14 -> 0 | J14: 0 | K14: =K15*$AF14 -> 0 | L14: 0 | M14: =M15*$AF14 -> 0 | N14: 0 | O14: =O15*$AF14 -> 0 | P14: 0 | Q14: =Q15*$AF14 -> 0 | R14: 0 | S14: =S15*$AF14 -> 0 | T14: 0 | U14: =U15*$AF14 -> 0 | V14: 0 | W14: =W15*$AF14 -> 0 | X14: 0 | Y14: =Y15*$AF14 -> 0 | Z14: 0 | AA14: =AA15*$AF14 -> 0 | AB14: 0 | AC14: =AC15*$AF14 -> 0 | AD14: 0 | AE14: =AE15*$AF14 -> 0 | AF14: =AD14+AB14+Z14+X14+V14+T14+R14+P14+N14+L14+J14+H14+F14+D14+B14 -> 76.93
B15: =B14/$AF14 -> 1 | D15: =D14/$AF14 -> 0 | F15: =F14/$AF14 -> 0 | H15: =H14/$AF14 -> 0 | J15: =J14/$AF14 -> 0 | L15: =L14/$AF14 -> 0 | N15: =N14/$AF14 -> 0 | P15: =P14/$AF14 -> 0 | R15: =R14/$AF14 -> 0 | T15: =T14/$AF14 -> 0 | V15: =V14/$AF14 -> 0 | X15: =X14/$AF14 -> 0 | Z15: =Z14/$AF14 -> 0 | AB15: =AB14/$AF14 -> 0 | AD15: =AD14/$AF14 -> 0
A16: Execução de Alvenaria | B16: 298.33 | C16: =C17*$AF16 -> 0 | D16: 0 | E16: =E17*$AF16 -> 0 | F16: 0 | G16: =G17*$AF16 -> 0 | H16: 0 | I16: =I17*$AF16 -> 0 | J16: 0 | K16: =K17*$AF16 -> 0 | L16: 0 | M16: =M17*$AF16 -> 0 | N16: 0 | O16: =O17*$AF16 -> 0 | P16: 0 | Q16: =Q17*$AF16 -> 0 | R16: 0 | S16: =S17*$AF16 -> 0 | T16: 0 | U16: =U17*$AF16 -> 0 | V16: 0 | W16: =W17*$AF16 -> 0 | X16: 0 | Y16: =Y17*$AF16 -> 0 | Z16: 0 | AA16: =AA17*$AF16 -> 0 | AB16: 0 | AC16: =AC17*$AF16 -> 0 | AD16: 0 | AE16: =AE17*$AF16 -> 0 | AF16: =AD16+AB16+Z16+X16+V16+T16+R16+P16+N16+L16+J16+H16+F16+D16+B16 -> 298.33
B17: =B16/$AF16 -> 1 | D17: =D16/$AF16 -> 0 | F17: =F16/$AF16 -> 0 | H17: =H16/$AF16 -> 0 | J17: =J16/$AF16 -> 0 | L17: =L16/$AF16 -> 0 | N17: =N16/$AF16 -> 0 | P17: =P16/$AF16 -> 0 | R17: =R16/$AF16 -> 0 | T17: =T16/$AF16 -> 0 | V17: =V16/$AF16 -> 0 | X17: =X16/$AF16 -> 0 | Z17: =Z16/$AF16 -> 0 | AB17: =AB16/$AF16 -> 0 | AD17: =AD16/$AF16 -> 0
A18: Chapisco em Estruturas de Concreto | B18: 0 | C18: =C19*$AF18 -> 0 | D18: 150.67 | E18: =E19*$AF18 -> 0 | F18: 0 | G18: =G19*$AF18 -> 0 | H18: 0 | I18: =I19*$AF18 -> 0 | J18: 0 | K18: =K19*$AF18 -> 0 | L18: 0 | M18: =M19*$AF18 -> 0 | N18: 0 | O18: =O19*$AF18 -> 0 | P18: 0 | Q18: =Q19*$AF18 -> 0 | R18: 0 | S18: =S19*$AF18 -> 0 | T18: 0 | U18: =U19*$AF18 -> 0 | V18: 0 | W18: =W19*$AF18 -> 0 | X18: 0 | Y18: =Y19*$AF18 -> 0 | Z18: 0 | AA18: =AA19*$AF18 -> 0 | AB18: 0 | AC18: =AC19*$AF18 -> 0 | AD18: 0 | AE18: =AE19*$AF18 -> 0 | AF18: =AD18+AB18+Z18+X18+V18+T18+R18+P18+N18+L18+J18+H18+F18+D18+B18 -> 150.67
B19: =B18/$AF18 -> 0 | D19: =D18/$AF18 -> 1 | F19: =F18/$AF18 -> 0 | H19: =H18/$AF18 -> 0 | J19: =J18/$AF18 -> 0 | L19: =L18/$AF18 -> 0 | N19: =N18/$AF18 -> 0 | P19: =P18/$AF18 -> 0 | R19: =R18/$AF18 -> 0 | T19: =T18/$AF18 -> 0 | V19: =V18/$AF18 -> 0 | X19: =X18/$AF18 -> 0 | Z19: =Z18/$AF18 -> 0 | AB19: =AB18/$AF18 -> 0 | AD19: =AD18/$AF18 -> 0
A20: Reboco em Parede | B20: 0 | C20: =C21*$AF20 -> 0 | D20: 1005.29 | E20: =E21*$AF20 -> 0 | F20: 0 | G20: =G21*$AF20 -> 0 | H20: 0 | I20: =I21*$AF20 -> 0 | J20: 0 | K20: =K21*$AF20 -> 0 | L20: 0 | M20: =M21*$AF20 -> 0 | N20: 0 | O20: =O21*$AF20 -> 0 | P20: 0 | Q20: =Q21*$AF20 -> 0 | R20: 0 | S20: =S21*$AF20 -> 0 | T20: 0 | U20: =U21*$AF20 -> 0 | V20: 0 | W20: =W21*$AF20 -> 0 | X20: 0 | Y20: =Y21*$AF20 -> 0 | Z20: 0 | AA20: =AA21*$AF20 -> 0 | AB20: 0 | AC20: =AC21*$AF20 -> 0 | AD20: 0 | AE20: =AE21*$AF20 -> 0 | AF20: =AD20+AB20+Z20+X20+V20+T20+R20+P20+N20+L20+J20+H20+F20+D20+B20 -> 1005.29
B21: =B20/$AF20 -> 0 | D21: =D20/$AF20 -> 1 | F21: =F20/$AF20 -> 0 | H21: =H20/$AF20 -> 0 | J21: =J20/$AF20 -> 0 | L21: =L20/$AF20 -> 0 | N21: =N20/$AF20 -> 0 | P21: =P20/$AF20 -> 0 | R21: =R20/$AF20 -> 0 | T21: =T20/$AF20 -> 0 | V21: =V20/$AF20 -> 0 | X21: =X20/$AF20 -> 0 | Z21: =Z20/$AF20 -> 0 | AB21: =AB20/$AF20 -> 0 | AD21: =AD20/$AF20 -> 0
A22: Manutenção do Piso | B22: =SUM(B24,B26,B28,B30,B32) -> 0 | C22: =SUM(C24,C26,C28,C30,C32) -> 0 | D22: =SUM(D24,D26,D28,D30,D32) -> 16031.12 | E22: =SUM(E24,E26,E28,E30,E32) -> 0 | F22: =SUM(F24,F26,F28,F30,F32) -> 25143.33 | G22: =SUM(G24,G26,G28,G30,G32) -> 0 | H22: =SUM(H24,H26,H28,H30,H32) -> 26111.49 | I22: =SUM(I24,I26,I28,I30,I32) -> 0 | ... AE22: =SUM(AE24,AE26,AE28,AE30,AE32) -> 0 | AF22: =AD22+AB22+Z22+X22+V22+T22+R22+P22+N22+L22+J22+H22+F22+D22+B22 -> 82319.83
B23: =B22/$AF22 -> 0 | C23: =C22/$AF22 -> 0 | D23: =D22/$AF22 -> 0.1947419 | E23: =E22/$AF22 -> 0 | F23: =F22/$AF22 -> 0.30543467 | G23: =G22/$AF22 -> 0 | H23: =H22/$AF22 -> 0.31719563 | I23: =I22/$AF22 -> 0 | ... AF23: =AF22/$AF22 -> 1
A24: Demolição de Guia para Concreto | B24: 0 | C24: =C25*$AF24 -> 0 | D24: 14209.34 | E24: =E25*$AF24 -> 0 | F24: 0 | G24: =G25*$AF24 -> 0 | H24: 0 | I24: =I25*$AF24 -> 0 | J24: 0 | K24: =K25*$AF24 -> 0 | L24: 0 | M24: =M25*$AF24 -> 0 | N24: 0 | O24: =O25*$AF24 -> 0 | P24: 0 | Q24: =Q25*$AF24 -> 0 | R24: 0 | S24: =S25*$AF24 -> 0 | T24: 0 | U24: =U25*$AF24 -> 0 | V24: 0 | W24: =W25*$AF24 -> 0 | X24: 0 | Y24: =Y25*$AF24 -> 0 | Z24: 0 | AA24: =AA25*$AF24 -> 0 | AB24: 0 | AC24: =AC25*$AF24 -> 0 | AD24: 0 | AE24: =AE25*$AF24 -> 0 | AF24: =AD24+AB24+Z24+X24+V24+T24+R24+P24+N24+L24+J24+H24+F24+D24+B24 -> 14209.34
B25: =B24/$AF24 -> 0 | D25: =D24/$AF24 -> 1 | F25: =F24/$AF24 -> 0 | H25: =H24/$AF24 -> 0 | J25: =J24/$AF24 -> 0 | L25: =L24/$AF24 -> 0 | N25: =N24/$AF24 -> 0 | P25: =P24/$AF24 -> 0 | R25: =R24/$AF24 -> 0 | T25: =T24/$AF24 -> 0 | V25: =V24/$AF24 -> 0 | X25: =X24/$AF24 -> 0 | Z25: =Z24/$AF24 -> 0 | AB25: =AB24/$AF24 -> 0 | AD25: =AD24/$AF24 -> 0
A26: Demolição de Piso Intertravado | B26: 0 | C26: =C27*$AF26 -> 0 | D26: 770 | E26: =E27*$AF26 -> 0 | F26: 0 | G26: =G27*$AF26 -> 0 | H26: 0 | I26: =I27*$AF26 -> 0 | J26: 0 | K26: =K27*$AF26 -> 0 | L26: 0 | M26: =M27*$AF26 -> 0 | N26: 0 | O26: =O27*$AF26 -> 0 | P26: 0 | Q26: =Q27*$AF26 -> 0 | R26: 0 | S26: =S27*$AF26 -> 0 | T26: 0 | U26: =U27*$AF26 -> 0 | V26: 0 | W26: =W27*$AF26 -> 0 | X26: 0 | Y26: =Y27*$AF26 -> 0 | Z26: 0 | AA26: =AA27*$AF26 -> 0 | AB26: 0 | AC26: =AC27*$AF26 -> 0 | AD26: 0 | AE26: =AE27*$AF26 -> 0 | AF26: =AD26+AB26+Z26+X26+V26+T26+R26+P26+N26+L26+J26+H26+F26+D26+B26 -> 770
B27: =B26/$AF26 -> 0 | D27: =D26/$AF26 -> 1 | F27: =F26/$AF26 -> 0 | H27: =H26/$AF26 -> 0 | J27: =J26/$AF26 -> 0 | L27: =L26/$AF26 -> 0 | N27: =N26/$AF26 -> 0 | P27: =P26/$AF26 -> 0 | R27: =R26/$AF26 -> 0 | T27: =T26/$AF26 -> 0 | V27: =V26/$AF26 -> 0 | X27: =X26/$AF26 -> 0 | Z27: =Z26/$AF26 -> 0 | AB27: =AB26/$AF26 -> 0 | AD27: =AD26/$AF26 -> 0
A28: Montagem de Fôrma p/ Radiê | B28: 0 | C28: =C29*$AF28 -> 0 | D28: 1051.78 | E28: =E29*$AF28 -> 0 | F28: 350.59 | G28: =G29*$AF28 -> 0 | H28: 0 | I28: =I29*$AF28 -> 0 | J28: 0 | K28: =K29*$AF28 -> 0 | L28: 0 | M28: =M29*$AF28 -> 0 | N28: 0 | O28: =O29*$AF28 -> 0 | P28: 0 | Q28: =Q29*$AF28 -> 0 | R28: 0 | S28: =S29*$AF28 -> 0 | T28: 0 | U28: =U29*$AF28 -> 0 | V28: 0 | W28: =W29*$AF28 -> 0 | X28: 0 | Y28: =Y29*$AF28 -> 0 | Z28: 0 | AA28: =AA29*$AF28 -> 0 | AB28: 0 | AC28: =AC29*$AF28 -> 0 | AD28: 0 | AE28: =AE29*$AF28 -> 0 | AF28: =AD28+AB28+Z28+X28+V28+T28+R28+P28+N28+L28+J28+H28+F28+D28+B28 -> 1402.37
B29: =B28/$AF28 -> 0 | D29: =D28/$AF28 -> 0.75000178 | F29: =F28/$AF28 -> 0.24999822 | H29: =H28/$AF28 -> 0 | J29: =J28/$AF28 -> 0 | L29: =L28/$AF28 -> 0 | N29: =N28/$AF28 -> 0 | P29: =P28/$AF28 -> 0 | R29: =R28/$AF28 -> 0 | T29: =T28/$AF28 -> 0 | V29: =V28/$AF28 -> 0 | X29: =X28/$AF28 -> 0 | Z29: =Z28/$AF28 -> 0 | AB29: =AB28/$AF28 -> 0 | AD29: =AD28/$AF28 -> 0
A30: Armação para Radiê | B30: 0 | C30: =C31*$AF30 -> 0 | D30: 0 | E30: =E31*$AF30 -> 0 | F30: 24792.74 | G30: =G31*$AF30 -> 0 | H30: 18594.55 | I30: =I31*$AF30 -> 0 | J30: 0 | K30: =K31*$AF30 -> 0 | L30: 0 | M30: =M31*$AF30 -> 0 | N30: 0 | O30: =O31*$AF30 -> 0 | P30: 0 | Q30: =Q31*$AF30 -> 0 | R30: 0 | S30: =S31*$AF30 -> 0 | T30: 0 | U30: =U31*$AF30 -> 0 | V30: 0 | W30: =W31*$AF30 -> 0 | X30: 0 | Y30: =Y31*$AF30 -> 0 | Z30: 0 | AA30: =AA31*$AF30 -> 0 | AB30: 0 | AC30: =AC31*$AF30 -> 0 | AD30: 0 | AE30: =AE31*$AF30 -> 0 | AF30: =AD30+AB30+Z30+X30+V30+T30+R30+P30+N30+L30+J30+H30+F30+D30+B30 -> 43387.29
B31: =B30/$AF30 -> 0 | D31: =D30/$AF30 -> 0 | F31: =F30/$AF30 -> 0.57142864 | H31: =H30/$AF30 -> 0.42857136 | J31: =J30/$AF30 -> 0 | L31: =L30/$AF30 -> 0 | N31: =N30/$AF30 -> 0 | P31: =P30/$AF30 -> 0 | R31: =R30/$AF30 -> 0 | T31: =T30/$AF30 -> 0 | V31: =V30/$AF30 -> 0 | X31: =X30/$AF30 -> 0 | Z31: =Z30/$AF30 -> 0 | AB31: =AB30/$AF30 -> 0 | AD31: =AD30/$AF30 -> 0
A32: Concretagem de Radiê | B32: 0 | C32: =C33*$AF32 -> 0 | D32: 0 | E32: =E33*$AF32 -> 0 | F32: 0 | G32: =G33*$AF32 -> 0 | H32: 7516.94 | I32: =I33*$AF32 -> 0 | J32: 15033.89 | K32: =K33*$AF32 -> 0 | L32: 0 | M32: =M33*$AF32 -> 0 | N32: 0 | O32: =O33*$AF32 -> 0 | P32: 0 | Q32: =Q33*$AF32 -> 0 | R32: 0 | S32: =S33*$AF32 -> 0 | T32: 0 | U32: =U33*$AF32 -> 0 | V32: 0 | W32: =W33*$AF32 -> 0 | X32: 0 | Y32: =Y33*$AF32 -> 0 | Z32: 0 | AA32: =AA33*$AF32 -> 0 | AB32: 0 | AC32: =AC33*$AF32 -> 0 | AD32: 0 | AE32: =AE33*$AF32 -> 0 | AF32: =AD32+AB32+Z32+X32+V32+T32+R32+P32+N32+L32+J32+H32+F32+D32+B32 -> 22550.83
B33: =B32/$AF32 -> 0 | D33: =D32/$AF32 -> 0 | F33: =F32/$AF32 -> 0 | H33: =H32/$AF32 -> 0.33333319 | J33: =J32/$AF32 -> 0.66666681 | L33: =L32/$AF32 -> 0 | N33: =N32/$AF32 -> 0 | P33: =P32/$AF32 -> 0 | R33: =R32/$AF32 -> 0 | T33: =T32/$AF32 -> 0 | V33: =V32/$AF32 -> 0 | X33: =X32/$AF32 -> 0 | Z33: =Z32/$AF32 -> 0 | AB33: =AB32/$AF32 -> 0 | AD33: =AD32/$AF32 -> 0
A34: Instalações | B34: =SUM(B36,B46) -> 0 | C34: =SUM(C36,C46) -> 0 | D34: =SUM(D36,D46) -> 0 | E34: =SUM(E36,E46) -> 0 | F34: =SUM(F36,F46) -> 0 | G34: =SUM(G36,G46) -> 0 | H34: =SUM(H36,H46) -> 0 | I34: =SUM(I36,I46) -> 0 | ... AE34: =SUM(AE36,AE46) -> 0 | AF34: =AD34+AB34+Z34+X34+V34+T34+R34+P34+N34+L34+J34+H34+F34+D34+B34 -> 60589.27
B35: =B34/$AF34 -> 0 | C35: =C34/$AF34 -> 0 | D35: =D34/$AF34 -> 0 | E35: =E34/$AF34 -> 0 | F35: =F34/$AF34 -> 0 | G35: =G34/$AF34 -> 0 | H35: =H34/$AF34 -> 0 | I35: =I34/$AF34 -> 0 | ... AF35: =AF34/$AF34 -> 1
A36: Eletrica | B36: =SUM(B38,B40,B42,B44) -> 0 | C36: =SUM(C38,C40,C42,C44) -> 0 | D36: =SUM(D38,D40,D42,D44) -> 0 | E36: =SUM(E38,E40,E42,E44) -> 0 | F36: =SUM(F38,F40,F42,F44) -> 0 | G36: =SUM(G38,G40,G42,G44) -> 0 | H36: =SUM(H38,H40,H42,H44) -> 0 | I36: =SUM(I38,I40,I42,I44) -> 0 | ... AE36: =SUM(AE38,AE40,AE42,AE44) -> 0 | AF36: =AD36+AB36+Z36+X36+V36+T36+R36+P36+N36+L36+J36+H36+F36+D36+B36 -> 27920.99
B37: =B36/$AF36 -> 0 | C37: =C36/$AF36 -> 0 | D37: =D36/$AF36 -> 0 | E37: =E36/$AF36 -> 0 | F37: =F36/$AF36 -> 0 | G37: =G36/$AF36 -> 0 | H37: =H36/$AF36 -> 0 | I37: =I36/$AF36 -> 0 | ... AF37: =AF36/$AF36 -> 1
A38: Instalação de Eletrodutos | B38: 0 | C38: =C39*$AF38 -> 0 | D38: 0 | E38: =E39*$AF38 -> 0 | F38: 0 | G38: =G39*$AF38 -> 0 | H38: 0 | I38: =I39*$AF38 -> 0 | J38: 19212.2 | K38: =K39*$AF38 -> 0 | L38: 0 | M38: =M39*$AF38 -> 0 | N38: 0 | O38: =O39*$AF38 -> 0 | P38: 0 | Q38: =Q39*$AF38 -> 0 | R38: 0 | S38: =S39*$AF38 -> 0 | T38: 0 | U38: =U39*$AF38 -> 0 | V38: 0 | W38: =W39*$AF38 -> 0 | X38: 0 | Y38: =Y39*$AF38 -> 0 | Z38: 0 | AA38: =AA39*$AF38 -> 0 | AB38: 0 | AC38: =AC39*$AF38 -> 0 | AD38: 0 | AE38: =AE39*$AF38 -> 0 | AF38: =AD38+AB38+Z38+X38+V38+T38+R38+P38+N38+L38+J38+H38+F38+D38+B38 -> 19212.2
B39: =B38/$AF38 -> 0 | D39: =D38/$AF38 -> 0 | F39: =F38/$AF38 -> 0 | H39: =H38/$AF38 -> 0 | J39: =J38/$AF38 -> 1 | L39: =L38/$AF38 -> 0 | N39: =N38/$AF38 -> 0 | P39: =P38/$AF38 -> 0 | R39: =R38/$AF38 -> 0 | T39: =T38/$AF38 -> 0 | V39: =V38/$AF38 -> 0 | X39: =X38/$AF38 -> 0 | Z39: =Z38/$AF38 -> 0 | AB39: =AB38/$AF38 -> 0 | AD39: =AD38/$AF38 -> 0
A40: Passagem de Cabos | B40: 0 | C40: =C41*$AF40 -> 0 | D40: 0 | E40: =E41*$AF40 -> 0 | F40: 0 | G40: =G41*$AF40 -> 0 | H40: 0 | I40: =I41*$AF40 -> 0 | J40: 0 | K40: =K41*$AF40 -> 0 | L40: 4322.93 | M40: =M41*$AF40 -> 0 | N40: 0 | O40: =O41*$AF40 -> 0 | P40: 0 | Q40: =Q41*$AF40 -> 0 | R40: 0 | S40: =S41*$AF40 -> 0 | T40: 0 | U40: =U41*$AF40 -> 0 | V40: 0 | W40: =W41*$AF40 -> 0 | X40: 0 | Y40: =Y41*$AF40 -> 0 | Z40: 0 | AA40: =AA41*$AF40 -> 0 | AB40: 0 | AC40: =AC41*$AF40 -> 0 | AD40: 0 | AE40: =AE41*$AF40 -> 0 | AF40: =AD40+AB40+Z40+X40+V40+T40+R40+P40+N40+L40+J40+H40+F40+D40+B40 -> 4322.93
B41: =B40/$AF40 -> 0 | D41: =D40/$AF40 -> 0 | F41: =F40/$AF40 -> 0 | H41: =H40/$AF40 -> 0 | J41: =J40/$AF40 -> 0 | L41: =L40/$AF40 -> 1 | N41: =N40/$AF40 -> 0 | P41: =P40/$AF40 -> 0 | R41: =R40/$AF40 -> 0 | T41: =T40/$AF40 -> 0 | V41: =V40/$AF40 -> 0 | X41: =X40/$AF40 -> 0 | Z41: =Z40/$AF40 -> 0 | AB41: =AB40/$AF40 -> 0 | AD41: =AD40/$AF40 -> 0
A42: Instalação do Quadro Eletrico | B42: 0 | C42: =C43*$AF42 -> 0 | D42: 0 | E42: =E43*$AF42 -> 0 | F42: 0 | G42: =G43*$AF42 -> 0 | H42: 0 | I42: =I43*$AF42 -> 0 | J42: 0 | K42: =K43*$AF42 -> 0 | L42: 0 | M42: =M43*$AF42 -> 0 | N42: 815.38 | O42: =O43*$AF42 -> 0 | P42: 0 | Q42: =Q43*$AF42 -> 0 | R42: 0 | S42: =S43*$AF42 -> 0 | T42: 0 | U42: =U43*$AF42 -> 0 | V42: 0 | W42: =W43*$AF42 -> 0 | X42: 0 | Y42: =Y43*$AF42 -> 0 | Z42: 0 | AA42: =AA43*$AF42 -> 0 | AB42: 0 | AC42: =AC43*$AF42 -> 0 | AD42: 0 | AE42: =AE43*$AF42 -> 0 | AF42: =AD42+AB42+Z42+X42+V42+T42+R42+P42+N42+L42+J42+H42+F42+D42+B42 -> 815.38
B43: =B42/$AF42 -> 0 | D43: =D42/$AF42 -> 0 | F43: =F42/$AF42 -> 0 | H43: =H42/$AF42 -> 0 | J43: =J42/$AF42 -> 0 | L43: =L42/$AF42 -> 0 | N43: =N42/$AF42 -> 1 | P43: =P42/$AF42 -> 0 | R43: =R42/$AF42 -> 0 | T43: =T42/$AF42 -> 0 | V43: =V42/$AF42 -> 0 | X43: =X42/$AF42 -> 0 | Z43: =Z42/$AF42 -> 0 | AB43: =AB42/$AF42 -> 0 | AD43: =AD42/$AF42 -> 0
A44: Acabamentos Eletricos | B44: 0 | C44: =C45*$AF44 -> 0 | D44: 0 | E44: =E45*$AF44 -> 0 | F44: 0 | G44: =G45*$AF44 -> 0 | H44: 0 | I44: =I45*$AF44 -> 0 | J44: 0 | K44: =K45*$AF44 -> 0 | L44: 0 | M44: =M45*$AF44 -> 0 | N44: 0 | O44: =O45*$AF44 -> 0 | P44: 3570.48 | Q44: =Q45*$AF44 -> 0 | R44: 0 | S44: =S45*$AF44 -> 0 | T44: 0 | U44: =U45*$AF44 -> 0 | V44: 0 | W44: =W45*$AF44 -> 0 | X44: 0 | Y44: =Y45*$AF44 -> 0 | Z44: 0 | AA44: =AA45*$AF44 -> 0 | AB44: 0 | AC44: =AC45*$AF44 -> 0 | AD44: 0 | AE44: =AE45*$AF44 -> 0 | AF44: =AD44+AB44+Z44+X44+V44+T44+R44+P44+N44+L44+J44+H44+F44+D44+B44 -> 3570.48
B45: =B44/$AF44 -> 0 | D45: =D44/$AF44 -> 0 | F45: =F44/$AF44 -> 0 | H45: =H44/$AF44 -> 0 | J45: =J44/$AF44 -> 0 | L45: =L44/$AF44 -> 0 | N45: =N44/$AF44 -> 0 | P45: =P44/$AF44 -> 1 | R45: =R44/$AF44 -> 0 | T45: =T44/$AF44 -> 0 | V45: =V44/$AF44 -> 0 | X45: =X44/$AF44 -> 0 | Z45: =Z44/$AF44 -> 0 | AB45: =AB44/$AF44 -> 0 | AD45: =AD44/$AF44 -> 0
A46: Telecomunicações | B46: =SUM(B48,B50,B52) -> 0 | C46: =SUM(C48,C50,C52) -> 0 | D46: =SUM(D48,D50,D52) -> 0 | E46: =SUM(E48,E50,E52) -> 0 | F46: =SUM(F48,F50,F52) -> 0 | G46: =SUM(G48,G50,G52) -> 0 | H46: =SUM(H48,H50,H52) -> 0 | I46: =SUM(I48,I50,I52) -> 0 | ... AE46: =SUM(AE48,AE50,AE52) -> 0 | AF46: =AD46+AB46+Z46+X46+V46+T46+R46+P46+N46+L46+J46+H46+F46+D46+B46 -> 32668.28
B47: =B46/$AF46 -> 0 | C47: =C46/$AF46 -> 0 | D47: =D46/$AF46 -> 0 | E47: =E46/$AF46 -> 0 | F47: =F46/$AF46 -> 0 | G47: =G46/$AF46 -> 0 | H47: =H46/$AF46 -> 0 | I47: =I46/$AF46 -> 0 | ... AF47: =AF46/$AF46 -> 1
A48: Passagem de Cabos | B48: 0 | C48: =C49*$AF48 -> 0 | D48: 0 | E48: =E49*$AF48 -> 0 | F48: 0 | G48: =G49*$AF48 -> 0 | H48: 0 | I48: =I49*$AF48 -> 0 | J48: 0 | K48: =K49*$AF48 -> 0 | L48: 0 | M48: =M49*$AF48 -> 0 | N48: 0 | O48: =O49*$AF48 -> 0 | P48: 0 | Q48: =Q49*$AF48 -> 0 | R48: 18265.92 | S48: =S49*$AF48 -> 0 | T48: 4566.48 | U48: =U49*$AF48 -> 0 | V48: 0 | W48: =W49*$AF48 -> 0 | X48: 0 | Y48: =Y49*$AF48 -> 22832.4 | Z48: 0 | AA48: =AA49*$AF48 -> 0 | AB48: 0 | AC48: =AC49*$AF48 -> 0 | AD48: 0 | AE48: =AE49*$AF48 -> 0 | AF48: =AD48+AB48+Z48+X48+V48+T48+R48+P48+N48+L48+J48+H48+F48+D48+B48 -> 22832.4
B49: =B48/$AF48 -> 0 | D49: =D48/$AF48 -> 0 | F49: =F48/$AF48 -> 0 | H49: =H48/$AF48 -> 0 | J49: =J48/$AF48 -> 0 | L49: =L48/$AF48 -> 0 | N49: =N48/$AF48 -> 0 | P49: =P48/$AF48 -> 0 | R49: =R48/$AF48 -> 0.8 | T49: =T48/$AF48 -> 0.2 | V49: =V48/$AF48 -> 0 | X49: =X48/$AF48 -> 0 | Y49: 1 | Z49: =Z48/$AF48 -> 0 | AB49: =AB48/$AF48 -> 0 | AD49: =AD48/$AF48 -> 0
A50: Fechamentos dos Pontos de Dados | B50: 0 | C50: =C51*$AF50 -> 0 | D50: 0 | E50: =E51*$AF50 -> 0 | F50: 0 | G50: =G51*$AF50 -> 0 | H50: 0 | I50: =I51*$AF50 -> 0 | J50: 0 | K50: =K51*$AF50 -> 0 | L50: 0 | M50: =M51*$AF50 -> 0 | N50: 0 | O50: =O51*$AF50 -> 0 | P50: 0 | Q50: =Q51*$AF50 -> 0 | R50: 0 | S50: =S51*$AF50 -> 0 | T50: 4375.34 | U50: =U51*$AF50 -> 0 | V50: 1072.15 | W50: =W51*$AF50 -> 0 | X50: 0 | Y50: =Y51*$AF50 -> 5447.49 | Z50: 0 | AA50: =AA51*$AF50 -> 0 | AB50: 0 | AC50: =AC51*$AF50 -> 0 | AD50: 0 | AE50: =AE51*$AF50 -> 0 | AF50: =AD50+AB50+Z50+X50+V50+T50+R50+P50+N50+L50+J50+H50+F50+D50+B50 -> 5447.49
B51: =B50/$AF50 -> 0 | D51: =D50/$AF50 -> 0 | F51: =F50/$AF50 -> 0 | H51: =H50/$AF50 -> 0 | J51: =J50/$AF50 -> 0 | L51: =L50/$AF50 -> 0 | N51: =N50/$AF50 -> 0 | P51: =P50/$AF50 -> 0 | R51: =R50/$AF50 -> 0 | T51: =T50/$AF50 -> 0.80318459 | V51: =V50/$AF50 -> 0.19681541 | X51: =X50/$AF50 -> 0 | Y51: 1 | Z51: =Z50/$AF50 -> 0 | AB51: =AB50/$AF50 -> 0 | AD51: =AD50/$AF50 -> 0
A52: Fechamento do Rack | B52: 0 | C52: =C53*$AF52 -> 0 | D52: 0 | E52: =E53*$AF52 -> 0 | F52: 0 | G52: =G53*$AF52 -> 0 | H52: 0 | I52: =I53*$AF52 -> 0 | J52: 0 | K52: =K53*$AF52 -> 0 | L52: 0 | M52: =M53*$AF52 -> 0 | N52: 0 | O52: =O53*$AF52 -> 0 | P52: 0 | Q52: =Q53*$AF52 -> 0 | R52: 0 | S52: =S53*$AF52 -> 0 | T52: 0 | U52: =U53*$AF52 -> 0 | V52: 4388.39 | W52: =W53*$AF52 -> 0 | X52: 0 | Y52: =Y53*$AF52 -> 4388.39 | Z52: 0 | AA52: =AA53*$AF52 -> 0 | AB52: 0 | AC52: =AC53*$AF52 -> 0 | AD52: 0 | AE52: =AE53*$AF52 -> 0 | AF52: =AD52+AB52+Z52+X52+V52+T52+R52+P52+N52+L52+J52+H52+F52+D52+B52 -> 4388.39
B53: =B52/$AF52 -> 0 | D53: =D52/$AF52 -> 0 | F53: =F52/$AF52 -> 0 | H53: =H52/$AF52 -> 0 | J53: =J52/$AF52 -> 0 | L53: =L52/$AF52 -> 0 | N53: =N52/$AF52 -> 0 | P53: =P52/$AF52 -> 0 | R53: =R52/$AF52 -> 0 | T53: =T52/$AF52 -> 0 | V53: =V52/$AF52 -> 1 | X53: =X52/$AF52 -> 0 | Y53: 1 | Z53: =Z52/$AF52 -> 0 | AB53: =AB52/$AF52 -> 0 | AD53: =AD52/$AF52 -> 0
A54: Telhado do Prédio de TI | B54: =SUM(B56,B64) -> 0 | C54: =SUM(C56,C64) -> 0 | D54: =SUM(D56,D64) -> 0 | E54: =SUM(E56,E64) -> 0 | F54: =SUM(F56,F64) -> 0 | G54: =SUM(G56,G64) -> 0 | H54: =SUM(H56,H64) -> 0 | I54: =SUM(I56,I64) -> 0 | ... AE54: =SUM(AE56,AE64) -> 145139.91 | AF54: =AD54+AB54+Z54+X54+V54+T54+R54+P54+N54+L54+J54+H54+F54+D54+B54 -> 156103.18
B55: =B54/$AF54 -> 0 | C55: =C54/$AF54 -> 0 | D55: =D54/$AF54 -> 0 | E55: =E54/$AF54 -> 0 | F55: =F54/$AF54 -> 0 | G55: =G54/$AF54 -> 0 | H55: =H54/$AF54 -> 0 | I55: =I54/$AF54 -> 0 | ... AF55: =AF54/$AF54 -> 1
A56: Remoções | B56: =SUM(B58,B60,B62) -> 0 | C56: =SUM(C58,C60,C62) -> 0 | D56: =SUM(D58,D60,D62) -> 0 | E56: =SUM(E58,E60,E62) -> 0 | F56: =SUM(F58,F60,F62) -> 0 | G56: =SUM(G58,G60,G62) -> 0 | H56: =SUM(H58,H60,H62) -> 0 | I56: =SUM(I58,I60,I62) -> 0 | ... AE56: =SUM(AE58,AE60,AE62) -> 0 | AF56: =AD56+AB56+Z56+X56+V56+T56+R56+P56+N56+L56+J56+H56+F56+D56+B56 -> 10963.27
B57: =B56/$AF56 -> 0 | C57: =C56/$AF56 -> 0 | D57: =D56/$AF56 -> 0 | E57: =E56/$AF56 -> 0 | F57: =F56/$AF56 -> 0 | G57: =G56/$AF56 -> 0 | H57: =H56/$AF56 -> 0 | I57: =I56/$AF56 -> 0 | ... AF57: =AF56/$AF56 -> 1
A58: Remoção de Calhas e Rufos | B58: 0 | C58: =C59*$AF58 -> 0 | D58: 0 | E58: =E59*$AF58 -> 0 | F58: 0 | G58: =G59*$AF58 -> 0 | H58: 0 | I58: =I59*$AF58 -> 0 | J58: 592.39 | K58: =K59*$AF58 -> 0 | L58: 118.48 | M58: =M59*$AF58 -> 0 | N58: 0 | O58: =O59*$AF58 -> 0 | P58: 0 | Q58: =Q59*$AF58 -> 0 | R58: 0 | S58: =S59*$AF58 -> 0 | T58: 0 | U58: =U59*$AF58 -> 0 | V58: 0 | W58: =W59*$AF58 -> 0 | X58: 0 | Y58: =Y59*$AF58 -> 0 | Z58: 0 | AA58: =AA59*$AF58 -> 0 | AB58: 0 | AC58: =AC59*$AF58 -> 0 | AD58: 0 | AE58: =AE59*$AF58 -> 0 | AF58: =AD58+AB58+Z58+X58+V58+T58+R58+P58+N58+L58+J58+H58+F58+D58+B58 -> 710.87
B59: =B58/$AF58 -> 0 | D59: =D58/$AF58 -> 0 | F59: =F58/$AF58 -> 0 | H59: =H58/$AF58 -> 0 | J59: =J58/$AF58 -> 0.83333099 | L59: =L58/$AF58 -> 0.16666901 | N59: =N58/$AF58 -> 0 | P59: =P58/$AF58 -> 0 | R59: =R58/$AF58 -> 0 | T59: =T58/$AF58 -> 0 | V59: =V58/$AF58 -> 0 | X59: =X58/$AF58 -> 0 | Z59: =Z58/$AF58 -> 0 | AB59: =AB58/$AF58 -> 0 | AD59: =AD58/$AF58 -> 0
A60: Remoção de Telhas | B60: 0 | C60: =C61*$AF60 -> 0 | D60: 0 | E60: =E61*$AF60 -> 0 | F60: 0 | G60: =G61*$AF60 -> 0 | H60: 0 | I60: =I61*$AF60 -> 0 | J60: 0 | K60: =K61*$AF60 -> 0 | L60: 1734.23 | M60: =M61*$AF60 -> 0 | N60: 867.11 | O60: =O61*$AF60 -> 0 | P60: 0 | Q60: =Q61*$AF60 -> 0 | R60: 0 | S60: =S61*$AF60 -> 0 | T60: 0 | U60: =U61*$AF60 -> 0 | V60: 0 | W60: =W61*$AF60 -> 0 | X60: 0 | Y60: =Y61*$AF60 -> 0 | Z60: 0 | AA60: =AA61*$AF60 -> 0 | AB60: 0 | AC60: =AC61*$AF60 -> 0 | AD60: 0 | AE60: =AE61*$AF60 -> 0 | AF60: =AD60+AB60+Z60+X60+V60+T60+R60+P60+N60+L60+J60+H60+F60+D60+B60 -> 2601.34
B61: =B60/$AF60 -> 0 | D61: =D60/$AF60 -> 0 | F61: =F60/$AF60 -> 0 | H61: =H60/$AF60 -> 0 | J61: =J60/$AF60 -> 0 | L61: =L60/$AF60 -> 0.66666795 | N61: =N60/$AF60 -> 0.33333205 | P61: =P60/$AF60 -> 0 | R61: =R60/$AF60 -> 0 | T61: =T60/$AF60 -> 0 | V61: =V60/$AF60 -> 0 | X61: =X60/$AF60 -> 0 | Z61: =Z60/$AF60 -> 0 | AB61: =AB60/$AF60 -> 0 | AD61: =AD60/$AF60 -> 0
A62: Remoção da Estrutura Existente | B62: 0 | C62: =C63*$AF62 -> 0 | D62: 0 | E62: =E63*$AF62 -> 0 | F62: 0 | G62: =G63*$AF62 -> 0 | H62: 0 | I62: =I63*$AF62 -> 0 | J62: 0 | K62: =K63*$AF62 -> 0 | L62: 0 | M62: =M63*$AF62 -> 0 | N62: 3825.53 | O62: =O63*$AF62 -> 0 | P62: 3825.53 | Q62: =Q63*$AF62 -> 0 | R62: 0 | S62: =S63*$AF62 -> 0 | T62: 0 | U62: =U63*$AF62 -> 0 | V62: 0 | W62: =W63*$AF62 -> 0 | X62: 0 | Y62: =Y63*$AF62 -> 0 | Z62: 0 | AA62: =AA63*$AF62 -> 0 | AB62: 0 | AC62: =AC63*$AF62 -> 0 | AD62: 0 | AE62: =AE63*$AF62 -> 0 | AF62: =AD62+AB62+Z62+X62+V62+T62+R62+P62+N62+L62+J62+H62+F62+D62+B62 -> 7651.06
B63: =B62/$AF62 -> 0 | D63: =D62/$AF62 -> 0 | F63: =F62/$AF62 -> 0 | H63: =H62/$AF62 -> 0 | J63: =J62/$AF62 -> 0 | L63: =L62/$AF62 -> 0 | N63: =N62/$AF62 -> 0.5 | P63: =P62/$AF62 -> 0.5 | R63: =R62/$AF62 -> 0 | T63: =T62/$AF62 -> 0 | V63: =V62/$AF62 -> 0 | X63: =X62/$AF62 -> 0 | Z63: =Z62/$AF62 -> 0 | AB63: =AB62/$AF62 -> 0 | AD63: =AD62/$AF62 -> 0
A64: Novo Telhado | B64: =SUM(B66,B68,B70,B72) -> 0 | C64: =SUM(C66,C68,C70,C72) -> 0 | D64: =SUM(D66,D68,D70,D72) -> 0 | E64: =SUM(E66,E68,E70,E72) -> 0 | F64: =SUM(F66,F68,F70,F72) -> 0 | G64: =SUM(G66,G68,G70,G72) -> 0 | H64: =SUM(H66,H68,H70,H72) -> 0 | I64: =SUM(I66,I68,I70,I72) -> 0 | ... AE64: =SUM(AE66,AE68,AE70,AE72) -> 145139.91 | AF64: =AD64+AB64+Z64+X64+V64+T64+R64+P64+N64+L64+J64+H64+F64+D64+B64 -> 145139.91
B65: =B64/$AF64 -> 0 | C65: =C64/$AF64 -> 0 | D65: =D64/$AF64 -> 0 | E65: =E64/$AF64 -> 0 | F65: =F64/$AF64 -> 0 | G65: =G64/$AF64 -> 0 | H65: =H64/$AF64 -> 0 | I65: =I64/$AF64 -> 0 | ... AF65: =AF64/$AF64 -> 1
A66: Fabricação da Estrutura Do Telhado | B66: 0 | C66: =C67*$AF66 -> 0 | D66: 0 | E66: =E67*$AF66 -> 0 | F66: 0 | G66: =G67*$AF66 -> 0 | H66: 0 | I66: =I67*$AF66 -> 0 | J66: 0 | K66: =K67*$AF66 -> 0 | L66: 0 | M66: =M67*$AF66 -> 0 | N66: 0 | O66: =O67*$AF66 -> 0 | P66: 9224.31 | Q66: =Q67*$AF66 -> 0 | R66: 14096.62 | S66: =S67*$AF66 -> 0 | T66: 0 | U66: =U67*$AF66 -> 0 | V66: 0 | W66: =W67*$AF66 -> 0 | X66: 0 | Y66: =Y67*$AF66 -> 0 | Z66: 0 | AA66: =AA67*$AF66 -> 0 | AB66: 0 | AC66: =AC67*$AF66 -> 0 | AD66: 0 | AE66: =AE67*$AF66 -> 23320.93 | AF66: =AD66+AB66+Z66+X66+V66+T66+R66+P66+N66+L66+J66+H66+F66+D66+B66 -> 23320.93
B67: =B66/$AF66 -> 0 | D67: =D66/$AF66 -> 0 | F67: =F66/$AF66 -> 0 | H67: =H66/$AF66 -> 0 | J67: =J66/$AF66 -> 0 | L67: =L66/$AF66 -> 0 | N67: =N66/$AF66 -> 0 | P67: =P66/$AF66 -> 0.39553783 | R67: =R66/$AF66 -> 0.60446217 | T67: =T66/$AF66 -> 0 | V67: =V66/$AF66 -> 0 | X67: =X66/$AF66 -> 0 | Z67: =Z66/$AF66 -> 0 | AB67: =AB66/$AF66 -> 0 | AD67: =AD66/$AF66 -> 0 | AE67: 1
A68: Montagem da Estrutura do Telhado | B68: 0 | C68: =C69*$AF68 -> 0 | D68: 0 | E68: =E69*$AF68 -> 0 | F68: 0 | G68: =G69*$AF68 -> 0 | H68: 0 | I68: =I69*$AF68 -> 0 | J68: 0 | K68: =K69*$AF68 -> 0 | L68: 0 | M68: =M69*$AF68 -> 0 | N68: 0 | O68: =O69*$AF68 -> 0 | P68: 0 | Q68: =Q69*$AF68 -> 0 | R68: 9729.12 | S68: =S69*$AF68 -> 0 | T68: 38916.5 | U68: =U69*$AF68 -> 0 | V68: 0 | W68: =W69*$AF68 -> 0 | X68: 0 | Y68: =Y69*$AF68 -> 0 | Z68: 0 | AA68: =AA69*$AF68 -> 0 | AB68: 0 | AC68: =AC69*$AF68 -> 0 | AD68: 0 | AE68: =AE69*$AF68 -> 48645.62 | AF68: =AD68+AB68+Z68+X68+V68+T68+R68+P68+N68+L68+J68+H68+F68+D68+B68 -> 48645.62
B69: =B68/$AF68 -> 0 | D69: =D68/$AF68 -> 0 | F69: =F68/$AF68 -> 0 | H69: =H68/$AF68 -> 0 | J69: =J68/$AF68 -> 0 | L69: =L68/$AF68 -> 0 | N69: =N68/$AF68 -> 0 | P69: =P68/$AF68 -> 0 | R69: =R68/$AF68 -> 0.19999992 | T69: =T68/$AF68 -> 0.80000008 | V69: =V68/$AF68 -> 0 | X69: =X68/$AF68 -> 0 | Z69: =Z68/$AF68 -> 0 | AB69: =AB68/$AF68 -> 0 | AD69: =AD68/$AF68 -> 0 | AE69: 1
A70: Instalação de Telhas | B70: 0 | C70: =C71*$AF70 -> 0 | D70: 0 | E70: =E71*$AF70 -> 0 | F70: 0 | G70: =G71*$AF70 -> 0 | H70: 0 | I70: =I71*$AF70 -> 0 | J70: 0 | K70: =K71*$AF70 -> 0 | L70: 0 | M70: =M71*$AF70 -> 0 | N70: 0 | O70: =O71*$AF70 -> 0 | P70: 0 | Q70: =Q71*$AF70 -> 0 | R70: 0 | S70: =S71*$AF70 -> 0 | T70: 11040.98 | U70: =U71*$AF70 -> 0 | V70: 44510.81 | W70: =W71*$AF70 -> 0 | X70: 0 | Y70: =Y71*$AF70 -> 0 | Z70: 0 | AA70: =AA71*$AF70 -> 0 | AB70: 0 | AC70: =AC71*$AF70 -> 0 | AD70: 0 | AE70: =AE71*$AF70 -> 55551.79 | AF70: =AD70+AB70+Z70+X70+V70+T70+R70+P70+N70+L70+J70+H70+F70+D70+B70 -> 55551.79
B71: =B70/$AF70 -> 0 | D71: =D70/$AF70 -> 0 | F71: =F70/$AF70 -> 0 | H71: =H70/$AF70 -> 0 | J71: =J70/$AF70 -> 0 | L71: =L70/$AF70 -> 0 | N71: =N70/$AF70 -> 0 | P71: =P70/$AF70 -> 0 | R71: =R70/$AF70 -> 0 | T71: =T70/$AF70 -> 0.19875111 | V71: =V70/$AF70 -> 0.80124889 | X71: =X70/$AF70 -> 0 | Z71: =Z70/$AF70 -> 0 | AB71: =AB70/$AF70 -> 0 | AD71: =AD70/$AF70 -> 0 | AE71: 1
A72: Instalação de Calhas e Rufos | B72: 0 | C72: =C73*$AF72 -> 0 | D72: 0 | E72: =E73*$AF72 -> 0 | F72: 0 | G72: =G73*$AF72 -> 0 | H72: 0 | I72: =I73*$AF72 -> 0 | J72: 0 | K72: =K73*$AF72 -> 0 | L72: 0 | M72: =M73*$AF72 -> 0 | N72: 0 | O72: =O73*$AF72 -> 0 | P72: 0 | Q72: =Q73*$AF72 -> 0 | R72: 0 | S72: =S73*$AF72 -> 0 | T72: 0 | U72: =U73*$AF72 -> 0 | V72: 4383.71 | W72: =W73*$AF72 -> 0 | X72: 13237.86 | Y72: =Y73*$AF72 -> 0 | Z72: 0 | AA72: =AA73*$AF72 -> 0 | AB72: 0 | AC72: =AC73*$AF72 -> 0 | AD72: 0 | AE72: =AE73*$AF72 -> 17621.57 | AF72: =AD72+AB72+Z72+X72+V72+T72+R72+P72+N72+L72+J72+H72+F72+D72+B72 -> 17621.57
B73: =B72/$AF72 -> 0 | D73: =D72/$AF72 -> 0 | F73: =F72/$AF72 -> 0 | H73: =H72/$AF72 -> 0 | J73: =J72/$AF72 -> 0 | L73: =L72/$AF72 -> 0 | N73: =N72/$AF72 -> 0 | P73: =P72/$AF72 -> 0 | R73: =R72/$AF72 -> 0 | T73: =T72/$AF72 -> 0 | V73: =V72/$AF72 -> 0.24876955 | X73: =X72/$AF72 -> 0.75123045 | Z73: =Z72/$AF72 -> 0 | AB73: =AB72/$AF72 -> 0 | AD73: =AD72/$AF72 -> 0 | AE73: 1
A74: Ampliação do Telhado Próximo ao Auditório | B74: =SUM(B76,B78,B80,B82) -> 0 | C74: =SUM(C76,C78,C80,C82) -> 0 | D74: =SUM(D76,D78,D80,D82) -> 0 | E74: =SUM(E76,E78,E80,E82) -> 0 | F74: =SUM(F76,F78,F80,F82) -> 0 | G74: =SUM(G76,G78,G80,G82) -> 0 | H74: =SUM(H76,H78,H80,H82) -> 0 | I74: =SUM(I76,I78,I80,I82) -> 0 | ... AE74: =SUM(AE76,AE78,AE80,AE82) -> 0 | AF74: =AD74+AB74+Z74+X74+V74+T74+R74+P74+N74+L74+J74+H74+F74+D74+B74 -> 23801.78
B75: =B74/$AF74 -> 0 | C75: =C74/$AF74 -> 0 | D75: =D74/$AF74 -> 0 | E75: =E74/$AF74 -> 0 | F75: =F74/$AF74 -> 0 | G75: =G74/$AF74 -> 0 | H75: =H74/$AF74 -> 0 | I75: =I74/$AF74 -> 0 | ... AF75: =AF74/$AF74 -> 1
A76: Fabricação da Estrutura Metálica | B76: 0 | C76: =C77*$AF76 -> 0 | D76: 0 | E76: =E77*$AF76 -> 0 | F76: 0 | G76: =G77*$AF76 -> 0 | H76: 0 | I76: =I77*$AF76 -> 0 | J76: 0 | K76: =K77*$AF76 -> 0 | L76: 0 | M76: =M77*$AF76 -> 0 | N76: 0 | O76: =O77*$AF76 -> 0 | P76: 0 | Q76: =Q77*$AF76 -> 0 | R76: 0 | S76: =S77*$AF76 -> 0 | T76: 0 | U76: =U77*$AF76 -> 0 | V76: 0 | W76: =W77*$AF76 -> 0 | X76: 2294.77 | Y76: =Y77*$AF76 -> 0 | Z76: 3442.16 | AA76: =AA77*$AF76 -> 0 | AB76: 0 | AC76: =AC77*$AF76 -> 0 | AD76: 0 | AE76: =AE77*$AF76 -> 0 | AF76: =AD76+AB76+Z76+X76+V76+T76+R76+P76+N76+L76+J76+H76+F76+D76+B76 -> 5736.93
B77: =B76/$AF76 -> 0 | D77: =D76/$AF76 -> 0 | F77: =F76/$AF76 -> 0 | H77: =H76/$AF76 -> 0 | J77: =J76/$AF76 -> 0 | L77: =L76/$AF76 -> 0 | N77: =N76/$AF76 -> 0 | P77: =P76/$AF76 -> 0 | R77: =R76/$AF76 -> 0 | T77: =T76/$AF76 -> 0 | V77: =V76/$AF76 -> 0 | X77: =X76/$AF76 -> 0.39999965 | Z77: =Z76/$AF76 -> 0.60000035 | AB77: =AB76/$AF76 -> 0 | AD77: =AD76/$AF76 -> 0
A78: Montagem da Estrutura Metálica | B78: 0 | C78: =C79*$AF78 -> 0 | D78: 0 | E78: =E79*$AF78 -> 0 | F78: 0 | G78: =G79*$AF78 -> 0 | H78: 0 | I78: =I79*$AF78 -> 0 | J78: 0 | K78: =K79*$AF78 -> 0 | L78: 0 | M78: =M79*$AF78 -> 0 | N78: 0 | O78: =O79*$AF78 -> 0 | P78: 0 | Q78: =Q79*$AF78 -> 0 | R78: 0 | S78: =S79*$AF78 -> 0 | T78: 0 | U78: =U79*$AF78 -> 0 | V78: 0 | W78: =W79*$AF78 -> 0 | X78: 0 | Y78: =Y79*$AF78 -> 0 | Z78: 4157.3 | AA78: =AA79*$AF78 -> 0 | AB78: 6235.95 | AC78: =AC79*$AF78 -> 0 | AD78: 0 | AE78: =AE79*$AF78 -> 0 | AF78: =AD78+AB78+Z78+X78+V78+T78+R78+P78+N78+L78+J78+H78+F78+D78+B78 -> 10393.25
B79: =B78/$AF78 -> 0 | D79: =D78/$AF78 -> 0 | F79: =F78/$AF78 -> 0 | H79: =H78/$AF78 -> 0 | J79: =J78/$AF78 -> 0 | L79: =L78/$AF78 -> 0 | N79: =N78/$AF78 -> 0 | P79: =P78/$AF78 -> 0 | R79: =R78/$AF78 -> 0 | T79: =T78/$AF78 -> 0 | V79: =V78/$AF78 -> 0 | X79: =X78/$AF78 -> 0 | Z79: =Z78/$AF78 -> 0.4 | AB79: =AB78/$AF78 -> 0.6 | AD79: =AD78/$AF78 -> 0
A80: Instalação das Telhas | B80: 0 | C80: =C81*$AF80 -> 0 | D80: 0 | E80: =E81*$AF80 -> 0 | F80: 0 | G80: =G81*$AF80 -> 0 | H80: 0 | I80: =I81*$AF80 -> 0 | J80: 0 | K80: =K81*$AF80 -> 0 | L80: 0 | M80: =M81*$AF80 -> 0 | N80: 0 | O80: =O81*$AF80 -> 0 | P80: 0 | Q80: =Q81*$AF80 -> 0 | R80: 0 | S80: =S81*$AF80 -> 0 | T80: 0 | U80: =U81*$AF80 -> 0 | V80: 0 | W80: =W81*$AF80 -> 0 | X80: 0 | Y80: =Y81*$AF80 -> 0 | Z80: 0 | AA80: =AA81*$AF80 -> 0 | AB80: 3050.93 | AC80: =AC81*$AF80 -> 0 | AD80: 1525.47 | AE80: =AE81*$AF80 -> 0 | AF80: =AD80+AB80+Z80+X80+V80+T80+R80+P80+N80+L80+J80+H80+F80+D80+B80 -> 4576.4
B81: =B80/$AF80 -> 0 | D81: =D80/$AF80 -> 0 | F81: =F80/$AF80 -> 0 | H81: =H80/$AF80 -> 0 | J81: =J80/$AF80 -> 0 | L81: =L80/$AF80 -> 0 | N81: =N80/$AF80 -> 0 | P81: =P80/$AF80 -> 0 | R81: =R80/$AF80 -> 0 | T81: =T80/$AF80 -> 0 | V81: =V80/$AF80 -> 0 | X81: =X80/$AF80 -> 0 | Z81: =Z80/$AF80 -> 0 | AB81: =AB80/$AF80 -> 0.66666594 | AD81: =AD80/$AF80 -> 0.33333406
A82: Instalação da Calhas e Rufos | B82: 0 | C82: =C83*$AF82 -> 0 | D82: 0 | E82: =E83*$AF82 -> 0 | F82: 0 | G82: =G83*$AF82 -> 0 | H82: 0 | I82: =I83*$AF82 -> 0 | J82: 0 | K82: =K83*$AF82 -> 0 | L82: 0 | M82: =M83*$AF82 -> 0 | N82: 0 | O82: =O83*$AF82 -> 0 | P82: 0 | Q82: =Q83*$AF82 -> 0 | R82: 0 | S82: =S83*$AF82 -> 0 | T82: 0 | U82: =U83*$AF82 -> 0 | V82: 0 | W82: =W83*$AF82 -> 0 | X82: 0 | Y82: =Y83*$AF82 -> 0 | Z82: 0 | AA82: =AA83*$AF82 -> 0 | AB82: 0 | AC82: =AC83*$AF82 -> 0 | AD82: 3095.2 | AE82: =AE83*$AF82 -> 0 | AF82: =AD82+AB82+Z82+X82+V82+T82+R82+P82+N82+L82+J82+H82+F82+D82+B82 -> 3095.2
B83: =B82/$AF82 -> 0 | D83: =D82/$AF82 -> 0 | F83: =F82/$AF82 -> 0 | H83: =H82/$AF82 -> 0 | J83: =J82/$AF82 -> 0 | L83: =L82/$AF82 -> 0 | N83: =N82/$AF82 -> 0 | P83: =P82/$AF82 -> 0 | R83: =R82/$AF82 -> 0 | T83: =T82/$AF82 -> 0 | V83: =V82/$AF82 -> 0 | X83: =X82/$AF82 -> 0 | Z83: =Z82/$AF82 -> 0 | AB83: =AB82/$AF82 -> 0 | AD83: =AD82/$AF82 -> 1
A84: Muro de Divisa | B84: =SUM(B86,B88,B90,B92,B94,B96) -> 0 | C84: =SUM(C86,C88,C90,C92,C94,C96) -> 0 | D84: =SUM(D86,D88,D90,D92,D94,D96) -> 0 | E84: =SUM(E86,E88,E90,E92,E94,E96) -> 0 | F84: =SUM(F86,F88,F90,F92,F94,F96) -> 0 | G84: =SUM(G86,G88,G90,G92,G94,G96) -> 0 | H84: =SUM(H86,H88,H90,H92,H94,H96) -> 548.66 | I84: =SUM(I86,I88,I90,I92,I94,I96) -> 0 | ... AE84: =SUM(AE86,AE88,AE90,AE92,AE94,AE96) -> 0 | AF84: =AD84+AB84+Z84+X84+V84+T84+R84+P84+N84+L84+J84+H84+F84+D84+B84 -> 31972.24
B85: =B84/$AF84 -> 0 | C85: =C84/$AF84 -> 0 | D85: =D84/$AF84 -> 0 | E85: =E84/$AF84 -> 0 | F85: =F84/$AF84 -> 0 | G85: =G84/$AF84 -> 0 | H85: =H84/$AF84 -> 0.017160512 | I85: =I84/$AF84 -> 0 | ... AF85: =AF84/$AF84 -> 1
A86: Recorte do muro existente | B86: 0 | C86: =C87*$AF86 -> 0 | D86: 0 | E86: =E87*$AF86 -> 0 | F86: 0 | G86: =G87*$AF86 -> 0 | H86: 548.66 | I86: =I87*$AF86 -> 0 | J86: 1863.62 | K86: =K87*$AF86 -> 0 | L86: 0 | M86: =M87*$AF86 -> 0 | N86: 0 | O86: =O87*$AF86 -> 0 | P86: 0 | Q86: =Q87*$AF86 -> 0 | R86: 0 | S86: =S87*$AF86 -> 0 | T86: 0 | U86: =U87*$AF86 -> 0 | V86: 0 | W86: =W87*$AF86 -> 0 | X86: 0 | Y86: =Y87*$AF86 -> 0 | Z86: 0 | AA86: =AA87*$AF86 -> 0 | AB86: 0 | AC86: =AC87*$AF86 -> 0 | AD86: 0 | AE86: =AE87*$AF86 -> 0 | AF86: =AD86+AB86+Z86+X86+V86+T86+R86+P86+N86+L86+J86+H86+F86+D86+B86 -> 2412.28
B87: =B86/$AF86 -> 0 | D87: =D86/$AF86 -> 0 | F87: =F86/$AF86 -> 0 | H87: =H86/$AF86 -> 0.22744458 | J87: =J86/$AF86 -> 0.77255542 | L87: =L86/$AF86 -> 0 | N87: =N86/$AF86 -> 0 | P87: =P86/$AF86 -> 0 | R87: =R86/$AF86 -> 0 | T87: =T86/$AF86 -> 0 | V87: =V86/$AF86 -> 0 | X87: =X86/$AF86 -> 0 | Z87: =Z86/$AF86 -> 0 | AB87: =AB86/$AF86 -> 0 | AD87: =AD86/$AF86 -> 0
A88: Montagem da armadura | B88: 0 | C88: =C89*$AF88 -> 0 | D88: 0 | E88: =E89*$AF88 -> 0 | F88: 0 | G88: =G89*$AF88 -> 0 | H88: 0 | I88: =I89*$AF88 -> 0 | J88: 5775.55 | K88: =K89*$AF88 -> 0 | L88: 9357.09 | M88: =M89*$AF88 -> 0 | N88: 0 | O88: =O89*$AF88 -> 0 | P88: 0 | Q88: =Q89*$AF88 -> 0 | R88: 0 | S88: =S89*$AF88 -> 0 | T88: 0 | U88: =U89*$AF88 -> 0 | V88: 0 | W88: =W89*$AF88 -> 0 | X88: 0 | Y88: =Y89*$AF88 -> 0 | Z88: 0 | AA88: =AA89*$AF88 -> 0 | AB88: 0 | AC88: =AC89*$AF88 -> 0 | AD88: 0 | AE88: =AE89*$AF88 -> 0 | AF88: =AD88+AB88+Z88+X88+V88+T88+R88+P88+N88+L88+J88+H88+F88+D88+B88 -> 15132.64
B89: =B88/$AF88 -> 0 | D89: =D88/$AF88 -> 0 | F89: =F88/$AF88 -> 0 | H89: =H88/$AF88 -> 0 | J89: =J88/$AF88 -> 0.38166176 | L89: =L88/$AF88 -> 0.61833824 | N89: =N88/$AF88 -> 0 | P89: =P88/$AF88 -> 0 | R89: =R88/$AF88 -> 0 | T89: =T88/$AF88 -> 0 | V89: =V88/$AF88 -> 0 | X89: =X88/$AF88 -> 0 | Z89: =Z88/$AF88 -> 0 | AB89: =AB88/$AF88 -> 0 | AD89: =AD88/$AF88 -> 0
A90: Montagem da forma | B90: 0 | C90: =C91*$AF90 -> 0 | D90: 0 | E90: =E91*$AF90 -> 0 | F90: 0 | G90: =G91*$AF90 -> 0 | H90: 0 | I90: =I91*$AF90 -> 0 | J90: 0 | K90: =K91*$AF90 -> 0 | L90: 0 | M90: =M91*$AF90 -> 0 | N90: 977.52 | O90: =O91*$AF90 -> 0 | P90: 0 | Q90: =Q91*$AF90 -> 0 | R90: 0 | S90: =S91*$AF90 -> 0 | T90: 0 | U90: =U91*$AF90 -> 0 | V90: 0 | W90: =W91*$AF90 -> 0 | X90: 0 | Y90: =Y91*$AF90 -> 0 | Z90: 0 | AA90: =AA91*$AF90 -> 0 | AB90: 0 | AC90: =AC91*$AF90 -> 0 | AD90: 0 | AE90: =AE91*$AF90 -> 0 | AF90: =AD90+AB90+Z90+X90+V90+T90+R90+P90+N90+L90+J90+H90+F90+D90+B90 -> 977.52
B91: =B90/$AF90 -> 0 | D91: =D90/$AF90 -> 0 | F91: =F90/$AF90 -> 0 | H91: =H90/$AF90 -> 0 | J91: =J90/$AF90 -> 0 | L91: =L90/$AF90 -> 0 | N91: =N90/$AF90 -> 1 | P91: =P90/$AF90 -> 0 | R91: =R90/$AF90 -> 0 | T91: =T90/$AF90 -> 0 | V91: =V90/$AF90 -> 0 | X91: =X90/$AF90 -> 0 | Z91: =Z90/$AF90 -> 0 | AB91: =AB90/$AF90 -> 0 | AD91: =AD90/$AF90 -> 0
A92: Concretagem | B92: 0 | C92: =C93*$AF92 -> 0 | D92: 0 | E92: =E93*$AF92 -> 0 | F92: 0 | G92: =G93*$AF92 -> 0 | H92: 0 | I92: =I93*$AF92 -> 0 | J92: 0 | K92: =K93*$AF92 -> 0 | L92: 0 | M92: =M93*$AF92 -> 0 | N92: 4157.61 | O92: =O93*$AF92 -> 0 | P92: 6756.74 | Q92: =Q93*$AF92 -> 0 | R92: 0 | S92: =S93*$AF92 -> 0 | T92: 0 | U92: =U93*$AF92 -> 0 | V92: 0 | W92: =W93*$AF92 -> 0 | X92: 0 | Y92: =Y93*$AF92 -> 0 | Z92: 0 | AA92: =AA93*$AF92 -> 0 | AB92: 0 | AC92: =AC93*$AF92 -> 0 | AD92: 0 | AE92: =AE93*$AF92 -> 0 | AF92: =AD92+AB92+Z92+X92+V92+T92+R92+P92+N92+L92+J92+H92+F92+D92+B92 -> 10914.35
B93: =B92/$AF92 -> 0 | D93: =D92/$AF92 -> 0 | F93: =F92/$AF92 -> 0 | H93: =H92/$AF92 -> 0 | J93: =J92/$AF92 -> 0 | L93: =L92/$AF92 -> 0 | N93: =N92/$AF92 -> 0.38093061 | P93: =P92/$AF92 -> 0.61906939 | R93: =R92/$AF92 -> 0 | T93: =T92/$AF92 -> 0 | V93: =V92/$AF92 -> 0 | X93: =X92/$AF92 -> 0 | Z93: =Z92/$AF92 -> 0 | AB93: =AB92/$AF92 -> 0 | AD93: =AD92/$AF92 -> 0
A94: Chapisco em Estrutura de Concreto | B94: 0 | C94: =C95*$AF94 -> 0 | D94: 0 | E94: =E95*$AF94 -> 0 | F94: 0 | G94: =G95*$AF94 -> 0 | H94: 0 | I94: =I95*$AF94 -> 0 | J94: 0 | K94: =K95*$AF94 -> 0 | L94: 0 | M94: =M95*$AF94 -> 0 | N94: 0 | O94: =O95*$AF94 -> 0 | P94: 0 | Q94: =Q95*$AF94 -> 0 | R94: 819.86 | S94: =S95*$AF94 -> 0 | T94: 0 | U94: =U95*$AF94 -> 0 | V94: 0 | W94: =W95*$AF94 -> 0 | X94: 0 | Y94: =Y95*$AF94 -> 0 | Z94: 0 | AA94: =AA95*$AF94 -> 0 | AB94: 0 | AC94: =AC95*$AF94 -> 0 | AD94: 0 | AE94: =AE95*$AF94 -> 0 | AF94: =AD94+AB94+Z94+X94+V94+T94+R94+P94+N94+L94+J94+H94+F94+D94+B94 -> 819.86
B95: =B94/$AF94 -> 0 | D95: =D94/$AF94 -> 0 | F95: =F94/$AF94 -> 0 | H95: =H94/$AF94 -> 0 | J95: =J94/$AF94 -> 0 | L95: =L94/$AF94 -> 0 | N95: =N94/$AF94 -> 0 | P95: =P94/$AF94 -> 0 | R95: =R94/$AF94 -> 1 | T95: =T94/$AF94 -> 0 | V95: =V94/$AF94 -> 0 | X95: =X94/$AF94 -> 0 | Z95: =Z94/$AF94 -> 0 | AB95: =AB94/$AF94 -> 0 | AD95: =AD94/$AF94 -> 0
A96: Reboco em Argamassa | B96: 0 | C96: =C97*$AF96 -> 0 | D96: 0 | E96: =E97*$AF96 -> 0 | F96: 0 | G96: =G97*$AF96 -> 0 | H96: 0 | I96: =I97*$AF96 -> 0 | J96: 0 | K96: =K97*$AF96 -> 0 | L96: 0 | M96: =M97*$AF96 -> 0 | N96: 0 | O96: =O97*$AF96 -> 0 | P96: 0 | Q96: =Q97*$AF96 -> 0 | R96: 221.71 | S96: =S97*$AF96 -> 0 | T96: 1493.88 | U96: =U97*$AF96 -> 0 | V96: 0 | W96: =W97*$AF96 -> 0 | X96: 0 | Y96: =Y97*$AF96 -> 0 | Z96: 0 | AA96: =AA97*$AF96 -> 0 | AB96: 0 | AC96: =AC97*$AF96 -> 0 | AD96: 0 | AE96: =AE97*$AF96 -> 0 | AF96: =AD96+AB96+Z96+X96+V96+T96+R96+P96+N96+L96+J96+H96+F96+D96+B96 -> 1715.59
B97: =B96/$AF96 -> 0 | D97: =D96/$AF96 -> 0 | F97: =F96/$AF96 -> 0 | H97: =H96/$AF96 -> 0 | J97: =J96/$AF96 -> 0 | L97: =L96/$AF96 -> 0 | N97: =N96/$AF96 -> 0 | P97: =P96/$AF96 -> 0 | R97: =R96/$AF96 -> 0.12923251 | T97: =T96/$AF96 -> 0.87076749 | V97: =V96/$AF96 -> 0 | X97: =X96/$AF96 -> 0 | Z97: =Z96/$AF96 -> 0 | AB97: =AB96/$AF96 -> 0 | AD97: =AD96/$AF96 -> 0
A98: Pintura | B98: =SUM(B100,B108,B112) -> 0 | C98: =SUM(C100,C108,C112) -> 0 | D98: =SUM(D100,D108,D112) -> 1441.03 | E98: =SUM(E100,E108,E112) -> 0 | F98: =SUM(F100,F108,F112) -> 717.48 | G98: =SUM(G100,G108,G112) -> 0 | H98: =SUM(H100,H108,H112) -> 3527.87 | I98: =SUM(I100,I108,I112) -> 0 | ... AE98: =SUM(AE100,AE108,AE112) -> 0 | AF98: =AD98+AB98+Z98+X98+V98+T98+R98+P98+N98+L98+J98+H98+F98+D98+B98 -> 23616.75
B99: =B98/$AF98 -> 0 | C99: =C98/$AF98 -> 0 | D99: =D98/$AF98 -> 0.061017286 | E99: =E98/$AF98 -> 0 | F99: =F98/$AF98 -> 0.030380133 | G99: =G98/$AF98 -> 0 | H99: =H98/$AF98 -> 0.14938 | I99: =I98/$AF98 -> 0 | ... AF99: =AF98/$AF98 -> 1
A100: Muro de Divisa (Área Operacional) | B100: =SUM(B102,B104,B106) -> 0 | C100: =SUM(C102,C104,C106) -> 0 | D100: =SUM(D102,D104,D106) -> 1441.03 | E100: =SUM(E102,E104,E106) -> 0 | F100: =SUM(F102,F104,F106) -> 717.48 | G100: =SUM(G102,G104,G106) -> 0 | H100: =SUM(H102,H104,H106) -> 3527.87 | I100: =SUM(I102,I104,I106) -> 0 | ... AE100: =SUM(AE102,AE104,AE106) -> 0 | AF100: =AD100+AB100+Z100+X100+V100+T100+R100+P100+N100+L100+J100+H100+F100+D100+B100 -> 6187.56
...

Sheet Grafico Semanal Financeiro
A92: Total Financeiro Semanal Previsto | B92: ='Planejamento Físico-Financeiro'!B120 -> 15944.33 | D92: ='Planejamento Físico-Financeiro'!D120 -> 35816.1 | F92: ='Planejamento Físico-Financeiro'!F120 -> 43048.8 | H92: ='Planejamento Físico-Financeiro'!H120 -> 43938.41 | J92: ='Planejamento Físico-Financeiro'!J120 -> 56119.51 | L92: ='Planejamento Físico-Financeiro'!L120 -> 28673.41 | N92: ='Planejamento Físico-Financeiro'!N120 -> 23783.83 | P92: ='Planejamento Físico-Financeiro'!P120 -> 36517.74 | R92: ='Planejamento Físico-Financeiro'!R120 -> 53645.77 | T92: ='Planejamento Físico-Financeiro'!T120 -> 73897.42 | V92: ='Planejamento Físico-Financeiro'!V120 -> 68755.86 | X92: ='Planejamento Físico-Financeiro'!X120 -> 31538.94 | Z92: ='Planejamento Físico-Financeiro'!Z120 -> 26360.38 | AB92: ='Planejamento Físico-Financeiro'!AB120 -> 27766.21 | AD92: ='Planejamento Físico-Financeiro'!AD120 -> 19742.34
A93: Total Financeiro Semanal Realizado | B93: ='Planejamento Físico-Financeiro'!C120 -> 0 | D93: ='Planejamento Físico-Financeiro'!E120 -> 0 | F93: ='Planejamento Físico-Financeiro'!G120 -> 0 | H93: ='Planejamento Físico-Financeiro'!I120 -> 0 | J93: ='Planejamento Físico-Financeiro'!K120 -> 0 | L93: ='Planejamento Físico-Financeiro'!M120 -> 0 | N93: ='Planejamento Físico-Financeiro'!O120 -> 0 | P93: ='Planejamento Físico-Financeiro'!Q120 -> 0 | R93: ='Planejamento Físico-Financeiro'!S120 -> 0 | T93: ='Planejamento Físico-Financeiro'!U120 -> 0 | V93: ='Planejamento Físico-Financeiro'!W120 -> 0 | X93: ='Planejamento Físico-Financeiro'!Y120 -> 32668.28 | Z93: ='Planejamento Físico-Financeiro'!AA120 -> 0 | AB93: ='Planejamento Físico-Financeiro'!AC120 -> 0 | AD93: ='Planejamento Físico-Financeiro'!AE120 -> 145139.91

Sheet Gráfico Semanal Físico
