Workbook
Name foto_item_1: Yellow!$G$27

Sheet Laudo Peritagem MP 085_12_23
D2: MP ENGENHARIA COMERCIAL E SERVIÇOS LTDA
D3: ENDEREÇO: TRAVESSA ANTONIO JACINTO QUADRA 305 LOTE 10 Nº 04
D4: CIDADE: BARCARENA UF: PA CEP: 68447-000
D5: CNPJ: 38.255.459/0001-09
D6: FONE: 91-99227-9922 / 91-99127-9922
D7: E-MAIL: anderson.pratta@mpengserv.com.br
B9: 001 HYDRO ALUNORTE ALUMINA DO NORTE BRASIL S.A. | E9: PROCESSO: RC 27940745 e NOTA FISCAL 68028 DE 24/10/2023 | G9: LAUDO DE PERITAGEM
G10: Nº: MP 085/12/2023
B11: CNPJ: 05.848.387/0003-16 | G11: DATA EMISSÃO: 11/12/2023
B13: Contato: Jéssica Martins Santos | E13: Cond. Pagamento: Faturado | G13: Modalidade Neg.: Serviço | H13: Tipo Cobrança: Depósito
B15: NF | C15: Descrição do equipamento | D15: Numero de série | E15: Fabricante | F15: Foto equipamento analisado antes da desmontagem
B16: ITEM 1 MP 085-12-2023 NF 68028 NE - Cód. Produto 814480 | C16: CHAVE DE IMPACTO 3/4" PUMA AT-6607T | D16: N/D | E16: PUMA
A17: NF
B18: Item | C18: Componente | D18: Qtda de itens p/ subst. | E18: Cod. (referencia) | F18: Modo de falha | G18: Ação para correção | H18: Foto componente analisado
B19: 1 | C19: JUNTA FRONTAL | D19: 1 | E19: T6607T-21 | F19: TROCA RECOMENDADA SEMPRE QUE ABERTO | G19: SUBSTITUIÇÃO DO ITEM
B20: 2 | C20: JUNTA TRASEIRA | D20: 1 | E20: T6607T-42 | F20: TROCA RECOMENDADA SEMPRE QUE ABERTO | G20: SUBSTITUIÇÃO DO ITEM
B21: 3 | C21: FILTRO TELA | D21: 1 | E21: T6607T-28 | F21: TROCA RECOMENDADA SEMPRE QUE ABERTO | G21: SUBSTITUIÇÃO DO ITEM
B22: 4 | C22: O´RING | D22: 1 | E22: T6607T-30 | F22: TROCA RECOMENDADA SEMPRE QUE ABERTO | G22: SUBSTITUIÇÃO DO ITEM
B23: 5 | C23: PINO DO MARTELO | D23: 1 | E23: T6607T-10 | F23: APRESENTANDO QUEBRA/TRINCA EM SUA ESTRUTURA | G23: REPOSIÇÃO DO ITEM | H23: N/C
B24: 6 | C24: GAIOLA DO MARTELO | D24: 1 | E24: T6607T-09 | F24: APRESENTANDO QUEBRA/TRINCA EM SUA ESTRUTURA | G24: REPOSIÇÃO DO ITEM | H24: N/C
B25: 7 | C25: O´RING | D25: 1 | E25: T6607T-37 | F25: TROCA RECOMENDADA SEMPRE QUE ABERTO | G25: REPOSIÇÃO DO ITEM | H25: N/C
B26: 8 | C26: CARCAÇA (INC PÇ 04) | D26: 1 | E26: T6607T-03 | F26: APRESENTANDO QUEBRA/TRINCA EM SUA ESTRUTURA | G26: REPOSIÇÃO DO ITEM | H26: N/C
B28: NF | C28: Descrição do equipamento | D28: Numero de série | E28: Fabricante | F28: Foto equipamento analisado antes da desmontagem
B29: ITEM 2 MP 085-12-2023 NF 68028 NE - Cód. Produto 814480 | C29: CHAVE DE IMPACTO 3/4" PUMA AT-6607T | D29: N/D | E29: PUMA
A30: NF
B31: Item | C31: Componente | D31: Qtda de itens p/ subst. | E31: Cod. (referencia) | F31: Modo de falha | G31: Ação para correção | H31: Foto componente analisado
B32: 1 | C32: JUNTA FRONTAL | D32: 1 | E32: T6607T-21 | F32: TROCA RECOMENDADA SEMPRE QUE ABERTO | G32: SUBSTITUIÇÃO DO ITEM
B33: 2 | C33: JUNTA TRASEIRA | D33: 1 | E33: T6607T-42 | F33: TROCA RECOMENDADA SEMPRE QUE ABERTO | G33: SUBSTITUIÇÃO DO ITEM
B34: 3 | C34: FILTRO TELA | D34: 1 | E34: T6607T-28 | F34: TROCA RECOMENDADA SEMPRE QUE ABERTO | G34: SUBSTITUIÇÃO DO ITEM
B35: 4 | C35: O´RING | D35: 1 | E35: T6607T-30 | F35: TROCA RECOMENDADA SEMPRE QUE ABERTO | G35: SUBSTITUIÇÃO DO ITEM
B36: 5 | C36: ENTRADA DE AR | D36: 1 | E36: T6607T-29 | F36: TROCA RECOMENDADA SEMPRE QUE ABERTO | G36: SUBSTITUIÇÃO DO ITEM
B37: 6 | C37: O´RING | D37: 1 | E37: T6607T-37 | F37: APRESENTANDO QUEBRA/TRINCA EM SUA ESTRUTURA | G37: SUBSTITUIÇÃO DO ITEM | H37: N/C
B38: 7 | C38: ESFERA | D38: 1 | E38: T6607T-34 | F38: ITEM NÃO PRESENTE NO EQUIPAMENTO | G38: REPOSIÇÃO DO ITEM
B39: 8 | C39: MOLA | D39: 1 | E39: T6607T-35 | F39: ITEM NÃO PRESENTE NO EQUIPAMENTO | G39: REPOSIÇÃO DO ITEM
B41: NF | C41: Descrição do equipamento | D41: Numero de série | E41: Fabricante | F41: Foto equipamento analisado antes da desmontagem
B42: ITEM 3 MP 085-12-2023 NF 68028 NE - Cód. Produto 814480 | C42: CHAVE DE IMPACTO 3/4" PUMA AT-6600 | D42: N/D | E42: PUMA
A43: NF
B44: Item | C44: Componente | D44: Qtda de itens p/ subst. | E44: Cod. (referencia) | F44: Modo de falha | G44: Ação para correção | H44: Foto componente analisado
B45: 1 | C45: JUNTA FRONTAL | D45: 1 | E45: T6600-13 | F45: TROCA RECOMENDADA SEMPRE QUE ABERTO | G45: SUBSTITUIÇÃO DO ITEM
B46: 2 | C46: JUNTA TRASEIRA | D46: 1 | E46: T6600-25 | F46: TROCA RECOMENDADA SEMPRE QUE ABERTO | G46: SUBSTITUIÇÃO DO ITEM
...

Sheet Yellow
A12: LAUDO DE PERITAGEM | F12: NÚMERO: | G12: MP 085/12/2023
F13: DATA EMISSÃO: | G13: 45242
A15: 001 | B15: =IF(A15=Brown!F2,Brown!G2) -> HYDRO ALUNORTE ALUMINA DO NORTE BRASIL S.A. | D15: PROCESSO | E15: RC 27940745 | F15: Cond. Pagamento: | G15: Faturado
A16: CNPJ | B16: =IF(A15=Brown!F2,Brown!H2) -> 05.848.387/0003-16 | D16: NOTA FISCAL | E16: 68028 | F16: Modalidade Neg.: | G16: Serviço
A17: Contato | B17: =IF(A15=Brown!F2,Brown!I2) -> Jéssica Martins Santos | D17: EM | E17: 24/10/2023 | F17: Tipo Cobrança: | G17: Depósito
A19: NF | B19: Descrição do equipamento | C19: Número de série | D19: Fabricante | E19: Column1
A20: Item 1
A21: =G12 -> MP 085/12/2023
A22: =_xlfn.CONCAT(D16, " ", E16) -> NOTA FISCAL 68028 | B22: CHAVE DE IMPACTO 3/4" | C22: N/D | D22: PUMA
A23: NE - Cód. Produto | B23: PUMA AT-6607T
A24: 814480
A26: Item | B26: Componente | C26: Qtda. de itens p/ subst. | D26: Cód. (referência) | E26: Modo de falha | F26: Ação para correção | G26: Foto componente analisado
A27: 1 | B27: JUNTA FRONTAL | C27: 1 | E27: TROCA RECOMENDADA QUANDO IDENDIFICADO QUEBRA OU DESGASTE ACENTUADO INERENTE AO USO | F27: SUBSTITUIÇÃO DO ITEM

Sheet Brown
A1: Componente | B1: Referencia | C1: Atitude | D1: Falha | F1: Referencia | G1: Empresa | H1: CNPJ | I1: Contato
A2: JUNTA FRONTAL | B2: 24D-007 | C2: SUBSTITUIÇÃO DO ITEM | D2: TROCA RECOMENDADA SEMPRE QUE ABERTO | F2: 001 | G2: HYDRO ALUNORTE ALUMINA DO NORTE BRASIL S.A. | H2: 05.848.387/0003-16 | I2: Jéssica Martins Santos
A3: JUNTA TRASEIRA | B3: 24D-008 | C3: REPOSIÇÃO DO ITEM | D3: APRESENTANDO QUEBRA/TRINCA EM SUA ESTRUTURA
A4: O'RING | B4: 24D-016 | C4: SERVIÇO | D4: ITEM NÃO PRESENTE NO EQUIPAMENTO
A5: FILTRO TELA | B5: 24D-027 | D5: TROCA RECOMENDADA SEMPRE QUE IDENTIFICADO DESGASTE ACENTUADO NAS MESMAS
A6: PINO DO MARTELO | B6: 24D-030 | D6: TROCA RECOMENDADA SEMPRE QUE PERCEBIDO VIBRAÇÃO, DEMASIADA OXIDAÇÃO E DESEMPENHO LIMITADO
A7: GAIOLA DO MARTELO | B7: 24D-033 | D7: DESGASTE NA SUPERFÍCIE INTERNA DA CÂMARA DO MOTOR (SULCOS)
A8: ENTRADA DE AR | B8: 24D-041 | D8: TROCA RECOMENDADA QUANDO IDENDIFICADO QUEBRA OU DESGASTE ACENTUADO INERENTE AO USO
B9: 24D-051
B10: M.O. USIN. EXT.
B11: T1035-02
B12: T1035-16
B13: T1035-17
B14: T1035-18
B15: T1035-25
B16: T1035-30
B17: T1035-35
B18: T2810/16-04
B19: T2810/16-16
B20: T2810/16-22
... B51: T6607T-42

Sheet Proposta Detalhada MP 085_12_23
E2: MP ENGENHARIA COMERCIAL E SERVIÇOS LTDA
E3: ENDEREÇO: TRAVESSA ANTONIO JACINTO QUADRA 305 LOTE 10 Nº 04
E4: CIDADE: BARCARENA UF: PA CEP: 68447-000
E5: CNPJ: 38.255.459/0001-09 | J5: ORÇAMENTO DETALHADO
E6: FONE: 91-99227-9922 / 91-99127-9922
E7: E-MAIL: anderson.pratta@mpengserv.com.br
B10: 001 HYDRO ALUNORTE ALUMINA DO NORTE BRASIL S.A. | J10: ORÇAMENTO DE SERVIÇO
E11: RC 27940745 - NOTA FISCAL 68028 DE 24/10/2023 | J11: Nº DO ORÇAMENTO MP 085/12/2023
B13: CNPJ: 05.848.387/0003-16 | J13: DATA EMISSÃO 11/12/2023
B15: Contato: Jéssica Martins Santos | H15: Modalidade Neg.: Serviço | J15: Tipo Cobrança: Depósito
B17: Ref. Laudo Peritagem (Peças) | C17: Item | D17: NE - Cód. Produto | E17: Descrição | F17: Código Peça | G17: Quantidade | H17: Vlr. Unit. Peças | I17: Vlr. Total Unit. | J17: Vlr. Total M.O. | K17: R$ Total Serviço | L17: Imposto 10% SIMPLES NACIONAL (SN) | M17: Total Serviços (R$) + 10% Simples Nacional (SN) | N17: Prazo Entrega
B18: CHAVE DE IMPACTO 3/4" PUMA AT 6607T ITEM 1 MP 085_12_2023 | C18: 1 | D18: 814480 | E18: JUNTA FRONTAL | F18: T6607T-21 | G18: 1 | H18: 43.29 | I18: =G18*H18 -> 43.29 | J18: 520 | K18: =SUM(I26+J18) -> 1655.09 | L18: =K18*0.1 -> 165.509 | M18: =K18+L18 -> 1820.599 | N18: 45DDL
C19: 2 | E19: JUNTA TRASEIRA | F19: T6607T-42 | G19: 1 | H19: 46.19 | I19: =G19*H19 -> 46.19
C20: 3 | E20: FILTRO TELA | F20: T6607T-28 | G20: 1 | H20: 49.94 | I20: =G20*H20 -> 49.94
C21: 4 | E21: O´RING | F21: T6607T-30 | G21: 1 | H21: 27.49 | I21: =G21*H21 -> 27.49
C22: 5 | E22: PINO DO MARTELO | F22: T6607T-10 | G22: 1 | H22: 22.6 | I22: =G22*H22 -> 22.6
C23: 6 | E23: GAIOLA DO MARTELO | F23: T6607T-09 | G23: 1 | H23: 318.83 | I23: =G23*H23 -> 318.83
C24: 7 | E24: O´RING | F24: T6607T-37 | G24: 1 | H24: 27.49 | I24: =G24*H24 -> 27.49
C25: 8 | E25: CARCAÇA (INC PÇ 04) | F25: T6607T-03 | G25: 1 | H25: 599.26 | I25: =G25*H25 -> 599.26
B26: OBS: PEÇAS ORIGINAIS, MONTAGEM, LUBRIFAÇÃO, LIMPEZA E PINTURA PADRÃO FABRICANTE QDO APLICÁVEL | H26: VALOR TOTAL PEÇAS | I26: =SUM(I18:I25) -> 1135.09
B28: Ref. Laudo Peritagem (Peças) | C28: Item | D28: NE - Cód. Produto | E28: Descrição | F28: Código Peça | G28: Quantidade | H28: Vlr. Unit. Peças | I28: Vlr. Total Unit. | J28: Vlr. Total M.O. | K28: R$ Total Serviço | L28: Imposto 10% SIMPLES NACIONAL (SN) | M28: Total Serviços (R$) + 10% Simples Nacional (SN) | N28: Prazo Entrega
B29: CHAVE DE IMPACTO 3/4" PUMA AT 6607T ITEM 2 MP 085_12_2023 | C29: 1 | D29: 814480 | E29: JUNTA FRONTAL | F29: T6607T-21 | G29: 1 | H29: 43.29 | I29: =G29*H29 -> 43.29 | J29: 520 | K29: =SUM(I37+J29) -> 835.4 | L29: =K29*0.1 -> 83.54 | M29: =K29+L29 -> 918.94 | N29: 45DDL
C30: 2 | E30: JUNTA TRASEIRA | F30: T6607T-42 | G30: 1 | H30: 46.19 | I30: =G30*H30 -> 46.19
C31: 3 | E31: FILTRO TELA | F31: T6607T-28 | G31: 1 | H31: 49.94 | I31: =G31*H31 -> 49.94
C32: 4 | E32: O´RING | F32: T6607T-30 | G32: 1 | H32: 27.49 | I32: =G32*H32 -> 27.49
C33: 5 | E33: ENTRADA DE AR | F33: T6607T-29 | G33: 1 | H33: 69.22 | I33: =G33*H33 -> 69.22
C34: 6 | E34: O´RING | F34: T6607T-37 | G34: 1 | H34: 27.49 | I34: =G34*H34 -> 27.49
C35: 7 | E35: ESFERA | F35: T6607T-34 | G35: 1 | H35: 27.7 | I35: =G35*H35 -> 27.7
C36: 8 | E36: MOLA | F36: T6607T-35 | G36: 1 | H36: 24.08 | I36: =G36*H36 -> 24.08
B37: OBS: PEÇAS ORIGINAIS, MONTAGEM, LUBRIFAÇÃO, LIMPEZA E PINTURA PADRÃO FABRICANTE QDO APLICÁVEL | H37: VALOR TOTAL PEÇAS | I37: =SUM(I29:I36) -> 315.4
B39: Ref. Laudo Peritagem (Peças) | C39: Item | D39: NE - Cód. Produto | E39: Descrição | F39: Código Peça | G39: Quantidade | H39: Vlr. Unit. Peças | I39: Vlr. Total Unit. | J39: Vlr. Total M.O. | K39: R$ Total Serviço | L39: Imposto 10% SIMPLES NACIONAL (SN) | M39: Total Serviços (R$) + 10% Simples Nacional (SN) | N39: Prazo Entrega
B40: CHAVE DE IMPACTO 3/4" PUMA AT 6600 ITEM 3 MP 085_12_2023 | C40: 1 | D40: 814480 | E40: JUNTA FRONTAL | F40: T6600-13 | G40: 1 | H40: 31.84 | I40: =G40*H40 -> 31.84 | J40: 520 | K40: =SUM(I48+J40) -> 928.6 | L40: =K40*0.1 -> 92.86 | M40: =K40+L40 -> 1021.46 | N40: 45DDL
C41: 2 | E41: JUNTA TRASEIRA | F41: T6600-25 | G41: 1 | H41: 42.08 | I41: =G41*H41 -> 42.08
C42: 3 | E42: FILTRO TELA | F42: T6600-43 | G42: 1 | H42: 22.41 | I42: =G42*H42 -> 22.41
C43: 4 | E43: O´RING DA ENTRADA DE AR | F43: T6600-38 | G43: 1 | H43: 16.16 | I43: =G43*H43 -> 16.16
C44: 5 | E44: KIT PALHETA (6 PÇS) | F44: T6600-20 | G44: 1 | H44: 246.46 | I44: =G44*H44 -> 246.46
C45: 6 | E45: ABAFADOR | F45: T6600-41 | G45: 1 | H45: 17.33 | I45: =G45*H45 -> 17.33
C46: 7 | E46: O´RING | F46: T6600-31 | G46: 1 | H46: 16.16 | I46: =G46*H46 -> 16.16
C47: 8 | E47: O´RING | F47: T6600-33 | G47: 1 | H47: 16.16 | I47: =G47*H47 -> 16.16
B48: OBS: PEÇAS ORIGINAIS, MONTAGEM, LUBRIFAÇÃO, LIMPEZA E PINTURA PADRÃO FABRICANTE QDO APLICÁVEL | H48: VALOR TOTAL PEÇAS | I48: =SUM(I40:I47) -> 408.6
...

Sheet Proposta Resumida MP 085_12_23
H2: MP ENGENHARIA COMERCIAL E SERVIÇOS LTDA
H3: ENDEREÇO: TRAVESSA ANTONIO JACINTO QUADRA 305 LOTE 10 Nº 04
H4: CIDADE: BARCARENA UF: PA CEP: 68447-000
H5: CNPJ: 38.255.459/0001-09 | K5: ORÇAMENTO RESUMIDO
H6: FONE: 91-99227-9922 / 91-99127-9922
H7: E-MAIL: anderson.pratta@mpengserv.com.br
B10: 001 HYDRO ALUNORTE ALUMINA DO NORTE BRASIL S.A. | K10: ORÇAMENTO DE SERVIÇO
G11: RC 27940745 - NOTA FISCAL 68028 DE 24/10/2023 | K11: Nº DO ORÇAMENTO MP 085/12/2023
B13: CNPJ: 05.848.387/0003-16 | K13: DATA EMISSÃO 11/12/2023
F15: Cond. Pagamento: Faturado | I15: Modalidade Neg.: Serviço | K15: Tipo Cobrança: Depósito
B17: Item | C17: NE - Cód.Produto | D17: Descrição do(s) Item(ns) | I17: Ref. Laudo Peritagem (Peças) | J17: Vlr. Total Peças | K17: Vlr. Total M.O. | L17: R$ Total Serviço | M17: Imposto 10% SIMPLES NACIONAL (SN) | N17: Total Serviços (R$) + 10% Simples Nacional (SN) | O17: Prazo Entrega
B18: 1 | C18: 814480 | D18: CHAVE DE IMPACTO 3/4" MOD. AT 6607T - PUMA | I18: RP - MP 085/12/2023 | J18: ='Proposta Detalhada MP 085_12_23'!I26 -> 1135.09 | K18: 520 | L18: =SUM(J18+K18) -> 1655.09 | M18: =L18*0.1 -> 165.509 | N18: =L18+M18 -> 1820.599 | O18: 45 DIAS
B19: 2 | C19: 814480 | D19: CHAVE DE IMPACTO 3/4" MOD. AT 6607T - PUMA | J19: ='Proposta Detalhada MP 085_12_23'!I37 -> 315.4 | K19: 520 | L19: =SUM(J19+K19) -> 835.4 | M19: =L19*0.1 -> 83.54 | N19: =L19+M19 -> 918.94 | O19: 45 DIAS
B20: 3 | C20: 814480 | D20: CHAVE DE IMPACTO 3/4" MOD. AT 6600 - PUMA | J20: ='Proposta Detalhada MP 085_12_23'!I48 -> 408.6 | K20: 520 | L20: =SUM(J20+K20) -> 928.6 | M20: =L20*0.1 -> 92.86 | N20: =L20+M20 -> 1021.46 | O20: 45 DIAS
B21: 4 | C21: 898269 | D21: CHAVE DE IMPACTO 1/2" MOD. AT 2810-16 - PUMA | J21: ='Proposta Detalhada MP 085_12_23'!I60 -> 287.69 | K21: 450 | L21: =SUM(J21+K21) -> 737.69 | M21: =L21*0.1 -> 73.769 | N21: =L21+M21 -> 811.459 | O21: 45 DIAS
B22: 5 | C22: 898269 | D22: CHAVE DE IMPACTO 1/2" MOD. AT 5041 - PUMA | J22: ='Proposta Detalhada MP 085_12_23'!I71 -> 465.52 | K22: 450 | L22: =SUM(J22+K22) -> 915.52 | M22: =L22*0.1 -> 91.552 | N22: =L22+M22 -> 1007.072 | O22: 45 DIAS
B23: 6 | C23: 814480 | D23: CHAVE DE IMPACTO 3/4" MOD. AT 1035 - PUMA | J23: ='Proposta Detalhada MP 085_12_23'!I81 -> 417.13 | K23: 520 | L23: =SUM(J23+K23) -> 937.13 | M23: =L23*0.1 -> 93.713 | N23: =L23+M23 -> 1030.843 | O23: 45 DIAS
B24: 7 | C24: 814480 | D24: CHAVE DE IMPACTO 3/4" MOD. GW 24 - GISON | J24: ='Proposta Detalhada MP 085_12_23'!I93 -> 530.74 | K24: 520 | L24: =SUM(J24+K24) -> 1050.74 | M24: =L24*0.1 -> 105.074 | N24: =L24+M24 -> 1155.814 | O24: 45 DIAS
B25: 8
B26: 9
B27: 10
B28: 11
B29: 12
B30: 13
B31: 14
B32: 15
B33: 16
B34: 17
B35: 18
B36: 19
... B38: 21
B40: OBSERVAÇÕES: | I40: VALOR TOTAL DOS SERVIÇOS | J40: Vlr. Total Peças | K40: Vlr. Total M.O. | L40: R$ Total Serviço | M40: Imposto 10% SIMPLES NACIONAL (SN) | N40: Total Serviços (R$) + 10% Simples Nacional (SN) | O40: Prazo Entrega
B41: Faturamento mínimo de R$ 500,00. | J41: =SUM(J18:J38) -> 3560.17 | K41: =SUM(K18:K38) -> 3500 | L41: =SUM(L18:L38) -> 7060.17 | M41: =SUM(M18:M24) -> 706.017 | N41: =SUM(N18:N24) -> 7766.187 | O41: ACIMA
B42: Validade: 10 Dias.
B43: Prazos sujeitos a variações conforme a data do pedido.
B44: Vendedor: MP ENGENHARIA E SERVIÇOS | J44: Transportadora: Própria
