Workbook
Name foto_item_1: Yellow!$G$27

Sheet Laudo Peritagem MP 085_12_23
D2: MP ENGENHARIA COMERCIAL E SERVIÇOS LTDA
D3: ENDEREÇO: TRAVESSA ANTONIO JACINTO QUADRA 305 LOTE 10 Nº 04
D4: CIDADE: BARCARENA UF: PA CEP: 68447-000
D5: CNPJ: 38.255.459/0001-09
D6: FONE: 91-99227-9922 / 91-99127-9922
D7: E-MAIL: anderson.pratta@mpengserv.com.br
B9: 001 HYDRO ALUNORTE ALUMINA DO NORTE BRASIL S.A. | E9: PROCESSO: RC 27940745 e NOTA FISCAL 68028 DE 24/10/2023 | G9: LAUDO DE PERITAGEM
G10: Nº: MP 085/12/2023
B11: CNPJ: 05.848.387/0003-16 | G11: DATA EMISSÃO: 11/12/2023
B13: Contato: Jéssica Martins Santos | E13: Cond. Pagamento: Faturado | G13: Modalidade Neg.: Serviço | H13: Tipo Cobrança: Depósito
B15: NF | C15: Descrição do equipamento | D15: Numero de série | E15: Fabricante | F15: Foto equipamento analisado antes da desmontagem
B16: ITEM 1 MP 085-12-2023 NF 68028 NE - Cód. Produto 814480 | C16: CHAVE DE IMPACTO 3/4" PUMA AT-6607T | D16: N/D | E16: PUMA
A17: NF
B18: Item | C18: Componente | D18: Qtda de itens p/ subst. | E18: Cod. (referencia) | F18: Modo de falha | G18: Ação para correção | H18: Foto componente analisado
B19: 1 | C19: JUNTA FRONTAL | D19: 1 | E19: T6607T-21 | F19: TROCA RECOMENDADA SEMPRE QUE ABERTO | G19: SUBSTITUIÇÃO DO ITEM
B20: 2 | C20: JUNTA TRASEIRA | D20: 1 | E20: T6607T-42 | F20: TROCA RECOMENDADA SEMPRE QUE ABERTO | G20: SUBSTITUIÇÃO DO ITEM
B21: 3 | C21: FILTRO TELA | D21: 1 | E21: T6607T-28 | F21: TROCA RECOMENDADA SEMPRE QUE ABERTO | G21: SUBSTITUIÇÃO DO ITEM
B22: 4 | C22: O´RING | D22: 1 | E22: T6607T-30 | F22: TROCA RECOMENDADA SEMPRE QUE ABERTO | G22: SUBSTITUIÇÃO DO ITEM
B23: 5 | C23: PINO DO MARTELO | D23: 1 | E23: T6607T-10 | F23: APRESENTANDO QUEBRA/TRINCA EM SUA ESTRUTURA | G23: REPOSIÇÃO DO ITEM | H23: N/C
B24: 6 | C24: GAIOLA DO MARTELO | D24: 1 | E24: T6607T-09 | F24: APRESENTANDO QUEBRA/TRINCA EM SUA ESTRUTURA | G24: REPOSIÇÃO DO ITEM | H24: N/C
B25: 7 | C25: O´RING | D25: 1 | E25: T6607T-37 | F25: TROCA RECOMENDADA SEMPRE QUE ABERTO | G25: REPOSIÇÃO DO ITEM | H25: N/C
B26: 8 | C26: CARCAÇA (INC PÇ 04) | D26: 1 | E26: T6607T-03 | F26: APRESENTANDO QUEBRA/TRINCA EM SUA ESTRUTURA | G26: REPOSIÇÃO DO ITEM | H26: N/C
B28: NF | C28: Descrição do equipamento | D28: Numero de série | E28: Fabricante | F28: Foto equipamento analisado antes da desmontagem
B29: ITEM 2 MP 085-12-2023 NF 68028 NE - Cód. Produto 814480 | C29: CHAVE DE IMPACTO 3/4" PUMA AT-6607T | D29: N/D | E29: PUMA
A30: NF
B31: Item | C31: Componente | D31: Qtda de itens p/ subst. | E31: Cod. (referencia) | F31: Modo de falha | G31: Ação para correção | H31: Foto componente analisado
B32: 1 | C32: JUNTA FRONTAL | D32: 1 | E32: T6607T-21 | F32: TROCA RECOMENDADA SEMPRE QUE ABERTO | G32: SUBSTITUIÇÃO DO ITEM
B33: 2 | C33: JUNTA TRASEIRA | D33: 1 | E33: T6607T-42 | F33: TROCA RECOMENDADA SEMPRE QUE ABERTO | G33: SUBSTITUIÇÃO DO ITEM
B34: 3 | C34: FILTRO TELA | D34: 1 | E34: T6607T-28 | F34: TROCA RECOMENDADA SEMPRE QUE ABERTO | G34: SUBSTITUIÇÃO DO ITEM
B35: 4 | C35: O´RING | D35: 1 | E35: T6607T-30 | F35: TROCA RECOMENDADA SEMPRE QUE ABERTO | G35: SUBSTITUIÇÃO DO ITEM
B36: 5 | C36: ENTRADA DE AR | D36: 1 | E36: T6607T-29 | F36: TROCA RECOMENDADA SEMPRE QUE ABERTO | G36: SUBSTITUIÇÃO DO ITEM
B37: 6 | C37: O´RING | D37: 1 | E37: T6607T-37 | F37: APRESENTANDO QUEBRA/TRINCA EM SUA ESTRUTURA | G37: SUBSTITUIÇÃO DO ITEM | H37: N/C
B38: 7 | C38: ESFERA | D38: 1 | E38: T6607T-34 | F38: ITEM NÃO PRESENTE NO EQUIPAMENTO | G38: REPOSIÇÃO DO ITEM
B39: 8 | C39: MOLA | D39: 1 | E39: T6607T-35 | F39: ITEM NÃO PRESENTE NO EQUIPAMENTO | G39: REPOSIÇÃO DO ITEM
B41: NF | C41: Descrição do equipamento | D41: Numero de série | E41: Fabricante | F41: Foto equipamento analisado antes da desmontagem
B42: ITEM 3 MP 085-12-2023 NF 68028 NE - Cód. Produto 814480 | C42: CHAVE DE IMPACTO 3/4" PUMA AT-6600 | D42: N/D | E42: PUMA
A43: NF
B44: Item | C44: Componente | D44: Qtda de itens p/ subst. | E44: Cod. (referencia) | F44: Modo de falha | G44: Ação para correção | H44: Foto componente analisado
B45: 1 | C45: JUNTA FRONTAL | D45: 1 | E45: T6600-13 | F45: TROCA RECOMENDADA SEMPRE QUE ABERTO | G45: SUBSTITUIÇÃO DO ITEM
B46: 2 | C46: JUNTA TRASEIRA | D46: 1 | E46: T6600-25 | F46: TROCA RECOMENDADA SEMPRE QUE ABERTO | G46: SUBSTITUIÇÃO DO ITEM
B47: 3 | C47: FILTRO TELA | D47: 1 | E47: T6600-43 | F47: TROCA RECOMENDADA SEMPRE QUE ABERTO | G47: SUBSTITUIÇÃO DO ITEM
B48: 4 | C48: O´RING DA ENTRADA DE AR | D48: 1 | E48: T6600-38 | F48: TROCA RECOMENDADA SEMPRE QUE ABERTO | G48: SUBSTITUIÇÃO DO ITEM
B49: 5 | C49: KIT PALHETA (6 PÇS) | D49: 1 | E49: T6600-20 | F49: TROCA RECOMENDADA SEMPRE QUE IDENTIFICADO DESGASTE ACENTUADO NAS MESMAS | G49: SUBSTITUIÇÃO DO ITEM
B50: 6 | C50: ABAFADOR | D50: 1 | E50: T6600-41 | F50: TROCA RECOMENDADA SEMPRE QUE ABERTO | G50: SUBSTITUIÇÃO DO ITEM | H50: N/C
B51: 7 | C51: O´RING | D51: 1 | E51: T6600-31 | F51: TROCA RECOMENDADA SEMPRE QUE ABERTO | G51: SUBSTITUIÇÃO DO ITEM
B52: 8 | C52: O´RING | D52: 1 | E52: T6600-33 | F52: TROCA RECOMENDADA SEMPRE QUE ABERTO | G52: SUBSTITUIÇÃO DO ITEM
B54: NF | C54: Descrição do equipamento | D54: Numero de série | E54: Fabricante | F54: Foto equipamento analisado antes da desmontagem
B55: ITEM 4 MP 085-12-2023 NF 68028 NE - Cód. Produto 898269 | C55: CHAVE DE IMPACTO 1/2" PUMA AT-2810-16 | D55: N/D | E55: PUMA
A56: NF
B57: Item | C57: Componente | D57: Qtda de itens p/ subst. | E57: Cod. (referencia) | F57: Modo de falha | G57: Ação para correção | H57: Foto componente analisado
B58: 1 | C58: JUNTA FRONTAL | D58: 1 | E58: T2810/16-04 | F58: TROCA RECOMENDADA SEMPRE QUE ABERTO | G58: SUBSTITUIÇÃO DO ITEM
B59: 2 | C59: JUNTA TRASEIRA | D59: 1 | E59: T2810/16-22 | F59: TROCA RECOMENDADA SEMPRE QUE ABERTO | G59: SUBSTITUIÇÃO DO ITEM
B60: 3 | C60: O´RING | D60: 1 | E60: T2810/16-29 | F60: TROCA RECOMENDADA SEMPRE QUE ABERTO | G60: SUBSTITUIÇÃO DO ITEM
B61: 4 | C61: O´RING | D61: 1 | E61: T2810/16-39 | F61: TROCA RECOMENDADA SEMPRE QUE ABERTO | G61: SUBSTITUIÇÃO DO ITEM
B62: 5 | C62: FILTRO TELA | D62: 1 | E62: T2810/16-36 | F62: TROCA RECOMENDADA SEMPRE QUE ABERTO | G62: SUBSTITUIÇÃO DO ITEM
B63: 6 | C63: ROLAMENTO BLINDADO TRASEIRO | D63: 1 | E63: T2810/16-37 | F63: TROCA RECOMENDADA SEMPRE QUE PERCEBIDO VIBRAÇÃO, DEMASIADA OXIDAÇÃO E DESEMPENHO LIMITADO | G63: SUBSTITUIÇÃO DO ITEM
B64: 7 | C64: KIT PALHETA (6 PÇS) | D64: 1 | E64: T2810/16-16 | F64: TROCA RECOMENDADA SEMPRE QUE IDENTIFICADO DESGASTE ACENTUADO NAS MESMAS | G64: SUBSTITUIÇÃO DO ITEM
B65: 8 | C65: SERVIÇO DE USINAGEM | D65: 1 | E65: M.O. USIN. EXT. | F65: DESGASTE NA SUPERFÍCIE INTERNA DA CÂMARA DO MOTOR (SULCOS) | G65: SERVIÇO
B66: 9 | C66: O´RING | D66: 1 | E66: T2810/16-31 | F66: TROCA RECOMENDADA SEMPRE QUE ABERTO | G66: SUBSTITUIÇÃO DO ITEM
B68: NF | C68: Descrição do equipamento | D68: Numero de série | E68: Fabricante | F68: Foto equipamento analisado antes da desmontagem
B69: ITEM 5 MP 085-12-2023 NF 68028 NE - Cód. Produto 898269 | C69: CHAVE DE IMPACTO 1/2" PUMA AT-5041 | D69: N/D | E69: PUMA
A70: NF
B71: Item | C71: Componente | D71: Qtda de itens p/ subst. | E71: Cod. (referencia) | F71: Modo de falha | G71: Ação para correção | H71: Foto componente analisado
B72: 1 | C72: JUNTA TRASEIRA | D72: 1 | E72: T5041-24 | F72: TROCA RECOMENDADA SEMPRE QUE ABERTO | G72: SUBSTITUIÇÃO DO ITEM
B73: 2 | C73: KIT PALHETA (6 PÇS) | D73: 1 | E73: T5041-21 | F73: TROCA RECOMENDADA SEMPRE QUE IDENTIFICADO DESGASTE ACENTUADO NAS MESMAS | G73: SUBSTITUIÇÃO DO ITEM
B74: 3 | C74: ROLAMENTO BLINDADO TRASEIRO | D74: 1 | E74: T5041-15 | F74: TROCA RECOMENDADA SEMPRE QUE PERCEBIDO VIBRAÇÃO, DEMASIADA OXIDAÇÃO E DESEMPENHO LIMITADO | G74: SUBSTITUIÇÃO DO ITEM
B75: 4 | C75: ROLAMENTO BLINDADO TRASEIRO | D75: 1 | E75: T5041-23 | F75: TROCA RECOMENDADA SEMPRE QUE PERCEBIDO VIBRAÇÃO, DEMASIADA OXIDAÇÃO E DESEMPENHO LIMITADO | G75: SUBSTITUIÇÃO DO ITEM
B76: 5 | C76: SERVIÇO DE USINAGEM | D76: 1 | E76: M.O. USIN. EXT. | F76: DESGASTE NA SUPERFÍCIE INTERNA DA CÂMARA DO MOTOR (SULCOS) | G76: SERVIÇO
B77: 6 | C77: O´RING | D77: 1 | E77: T5041-16 | F77: TROCA RECOMENDADA SEMPRE QUE ABERTO | G77: SUBSTITUIÇÃO DO ITEM
B78: 7 | C78: O´RING | D78: 1 | E78: T5041-44 | F78: TROCA RECOMENDADA SEMPRE QUE ABERTO | G78: SUBSTITUIÇÃO DO ITEM
B79: 8 | C79: O´RING | D79: 1 | E79: T5041-47 | F79: TROCA RECOMENDADA SEMPRE QUE ABERTO | G79: SUBSTITUIÇÃO DO ITEM
B81: NF | C81: Descrição do equipamento | D81: Numero de série | E81: Fabricante | F81: Foto equipamento analisado antes da desmontagem
B82: ITEM 6 MP 085-12-2023 NF 68028 NE - Cód. Produto 814480 | C82: CHAVE DE IMPACTO 3/4" PUMA AT-1035 | D82: N/D | E82: PUMA
A83: NF
B84: Item | C84: Componente | D84: Qtda de itens p/ subst. | E84: Cod. (referencia) | F84: Modo de falha | G84: Ação para correção | H84: Foto componente analisado
B85: 1 | C85: JUNTA DIANTEIRA | D85: 1 | E85: T1035-30 | F85: TROCA RECOMENDADA SEMPRE QUE ABERTO | G85: SUBSTITUIÇÃO DO ITEM
B86: 2 | C86: JUNTA TRASEIRA | D86: 1 | E86: T1035-18 | F86: TROCA RECOMENDADA SEMPRE QUE ABERTO | G86: SUBSTITUIÇÃO DO ITEM
B87: 3 | C87: KIT PALHETA (7 PÇS) | D87: 1 | E87: T1035-25 | F87: TROCA RECOMENDADA SEMPRE QUE IDENTIFICADO DESGASTE ACENTUADO NAS MESMAS | G87: SUBSTITUIÇÃO DO ITEM
B88: 4 | C88: SERVIÇO DE USINAGEM | D88: 1 | E88: T1035-35 | F88: DESGASTE NA SUPERFÍCIE INTERNA DA CÂMARA DO MOTOR (SULCOS) | G88: SERVIÇO | H88: N/C
B89: 5 | C89: O´RING | D89: 1 | E89: T1035-02 | F89: TROCA RECOMENDADA SEMPRE QUE ABERTO | G89: SUBSTITUIÇÃO DO ITEM
B90: 6 | C90: O´RING | D90: 1 | E90: T1035-16 | F90: TROCA RECOMENDADA SEMPRE QUE ABERTO | G90: SUBSTITUIÇÃO DO ITEM
B91: 7 | C91: O´RING | D91: 1 | E91: T1035-17 | F91: TROCA RECOMENDADA SEMPRE QUE ABERTO | G91: SUBSTITUIÇÃO DO ITEM
B93: NF | C93: Descrição do equipamento | D93: Numero de série | E93: Fabricante | F93: Foto equipamento analisado antes da desmontagem
B94: ITEM 7 MP 085-12-2023 NF 68028 NE - Cód. Produto 814480 | C94: CHAVE DE IMPACTO 3/4" GISON GW 24 | D94: N/D | E94: GISON
A95: NF
B96: Item | C96: Componente | D96: Qtda de itens p/ subst. | E96: Cod. (referencia) | F96: Modo de falha | G96: Ação para correção | H96: Foto componente analisado
B97: 1 | C97: JUNTA FRONTAL | D97: 1 | E97: 24D-016 | F97: TROCA RECOMENDADA SEMPRE QUE ABERTO | G97: SUBSTITUIÇÃO DO ITEM
B98: 2 | C98: JUNTA TRASEIRA | D98: 1 | E98: 24D-030 | F98: TROCA RECOMENDADA SEMPRE QUE ABERTO | G98: SUBSTITUIÇÃO DO ITEM
B99: 3 | C99: KIT PALHETA (6 PÇS) | D99: 1 | E99: 24D-027 | F99: TROCA RECOMENDADA QUANDO IDENDIFICADO QUEBRA OU DESGASTE ACENTUADO INERENTE AO USO | G99: SUBSTITUIÇÃO DO ITEM
B100: 4 | C100: SERVIÇO DE USINAGEM | D100: 1 | E100: T1035-35 | F100: DESGASTE NA SUPERFÍCIE INTERNA DA CÂMARA DO MOTOR (SULCOS) | G100: SERVIÇO | H100: N/C
B101: 5 | C101: O´RING | D101: 1 | E101: 24D-007 | F101: TROCA RECOMENDADA SEMPRE QUE ABERTO | G101: SUBSTITUIÇÃO DO ITEM
B102: 6 | C102: O´RING | D102: 1 | E102: 24D-008 | F102: TROCA RECOMENDADA SEMPRE QUE ABERTO | G102: SUBSTITUIÇÃO DO ITEM
B103: 7 | C103: O´RING | D103: 1 | E103: 24D-033 | F103: TROCA RECOMENDADA QUANDO IDENDIFICADO QUEBRA OU DESGASTE ACENTUADO INERENTE AO USO | G103: SUBSTITUIÇÃO DO ITEM
B104: 8 | C104: O´RING | D104: 1 | E104: 24D-051 | F104: TROCA RECOMENDADA QUANDO IDENDIFICADO QUEBRA OU DESGASTE ACENTUADO INERENTE AO USO | G104: SUBSTITUIÇÃO DO ITEM | H104: N/C
B105: 9 | C105: VEDADOR DE AR | D105: 1 | E105: 24D-041 | F105: TROCA RECOMENDADA QUANDO IDENDIFICADO QUEBRA OU DESGASTE ACENTUADO INERENTE AO USO | G105: SUBSTITUIÇÃO DO ITEM | H105: N/C
B107: Falha principal - Item 1 | C107: ITENS 1 AO 7 DESGASTE INERENTE ÀS CONDIÇOES DE USO E QUALIDADE DO AR PELO LUBRIFIL - PROVÁVEL DESGASTE INTERNO DAS CÂMARAS DOS MOTORES OCASIONADOS POR PARTICULADOS NO AR
B108: Falhas evidenciadas | C108: CONFORME ACIMA
B109: Parecer técnico | C109: REVISAR TODOS OS FILTROS DE LINHA QUANTO A QUALIDADE DO AR OFERECIDO (LUBRIFIL)
B110: Ação preventiva | C110: AS CHAVES DE IMPACTOS CONTIDAS NESTE RELATÓRIO NECESSITAM DE MANUTENÇÕES PREVENTIVAS -
B111: Observações MP | C111: Os equipamentos Chaves de Impacto oferecem total condições de restauração para resgatar condições originais de operação.

Sheet Yellow
A12: LAUDO DE PERITAGEM | F12: NÚMERO: | G12: MP 085/12/2023
F13: DATA EMISSÃO: | G13: 45242
A15: 001 | B15: =IF(A15=Brown!F2,Brown!G2) -> HYDRO ALUNORTE ALUMINA DO NORTE BRASIL S.A. | D15: PROCESSO | E15: RC 27940745 | F15: Cond. Pagamento: | G15: Faturado
A16: CNPJ | B16: =IF(A15=Brown!F2,Brown!H2) -> 05.848.387/0003-16 | D16: NOTA FISCAL | E16: 68028 | F16: Modalidade Neg.: | G16: Serviço
A17: Contato | B17: =IF(A15=Brown!F2,Brown!I2) -> Jéssica Martins Santos | D17: EM | E17: 24/10/2023 | F17: Tipo Cobrança: | G17: Depósito
A19: NF | B19: Descrição do equipamento | C19: Número de série | D19: Fabricante | E19: Column1
A20: Item 1
A21: =G12 -> MP 085/12/2023
A22: =_xlfn.CONCAT(D16, " ", E16) -> NOTA FISCAL 68028 | B22: CHAVE DE IMPACTO 3/4" | C22: N/D | D22: PUMA
A23: NE - Cód. Produto | B23: PUMA AT-6607T
A24: 814480
A26: Item | B26: Componente | C26: Qtda. de itens p/ subst. | D26: Cód. (referência) | E26: Modo de falha | F26: Ação para correção | G26: Foto componente analisado
A27: 1 | B27: JUNTA FRONTAL | C27: 1 | E27: TROCA RECOMENDADA QUANDO IDENDIFICADO QUEBRA OU DESGASTE ACENTUADO INERENTE AO USO | F27: SUBSTITUIÇÃO DO ITEM

Sheet Brown
A1: Componente | B1: Referencia | C1: Atitude | D1: Falha | F1: Referencia | G1: Empresa | H1: CNPJ | I1: Contato
A2: JUNTA FRONTAL | B2: 24D-007 | C2: SUBSTITUIÇÃO DO ITEM | D2: TROCA RECOMENDADA SEMPRE QUE ABERTO | F2: 001 | G2: HYDRO ALUNORTE ALUMINA DO NORTE BRASIL S.A. | H2: 05.848.387/0003-16 | I2: Jéssica Martins Santos
A3: JUNTA TRASEIRA | B3: 24D-008 | C3: REPOSIÇÃO DO ITEM | D3: APRESENTANDO QUEBRA/TRINCA EM SUA ESTRUTURA
A4: O'RING | B4: 24D-016 | C4: SERVIÇO | D4: ITEM NÃO PRESENTE NO EQUIPAMENTO
A5: FILTRO TELA | B5: 24D-027 | D5: TROCA RECOMENDADA SEMPRE QUE IDENTIFICADO DESGASTE ACENTUADO NAS MESMAS
A6: PINO DO MARTELO | B6: 24D-030 | D6: TROCA RECOMENDADA SEMPRE QUE PERCEBIDO VIBRAÇÃO, DEMASIADA OXIDAÇÃO E DESEMPENHO LIMITADO
A7: GAIOLA DO MARTELO | B7: 24D-033 | D7: DESGASTE NA SUPERFÍCIE INTERNA DA CÂMARA DO MOTOR (SULCOS)
A8: ENTRADA DE AR | B8: 24D-041 | D8: TROCA RECOMENDADA QUANDO IDENDIFICADO QUEBRA OU DESGASTE ACENTUADO INERENTE AO USO
B9: 24D-051
B10: M.O. USIN. EXT.
B11: T1035-02
B12: T1035-16
B13: T1035-17
B14: T1035-18
B15: T1035-25
B16: T1035-30
B17: T1035-35
B18: T2810/16-04
B19: T2810/16-16
B20: T2810/16-22
... B51: T6607T-42

Sheet Proposta Detalhada MP 085_12_23
E2: MP ENGENHARIA COMERCIAL E SERVIÇOS LTDA
E3: ENDEREÇO: TRAVESSA ANTONIO JACINTO QUADRA 305 LOTE 10 Nº 04
E4: CIDADE: BARCARENA UF: PA CEP: 68447-000
E5: CNPJ: 38.255.459/0001-09 | J5: ORÇAMENTO DETALHADO
E6: FONE: 91-99227-9922 / 91-99127-9922
E7: E-MAIL: anderson.pratta@mpengserv.com.br
B10: 001 HYDRO ALUNORTE ALUMINA DO NORTE BRASIL S.A. | J10: ORÇAMENTO DE SERVIÇO
E11: RC 27940745 - NOTA FISCAL 68028 DE 24/10/2023 | J11: Nº DO ORÇAMENTO MP 085/12/2023
B13: CNPJ: 05.848.387/0003-16 | J13: DATA EMISSÃO 11/12/2023
B15: Contato: Jéssica Martins Santos | H15: Modalidade Neg.: Serviço | J15: Tipo Cobrança: Depósito
B17: Ref. Laudo Peritagem (Peças) | C17: Item | D17: NE - Cód. Produto | E17: Descrição | F17: Código Peça | G17: Quantidade | H17: Vlr. Unit. Peças | I17: Vlr. Total Unit. | J17: Vlr. Total M.O. | K17: R$ Total Serviço | L17: Imposto 10% SIMPLES NACIONAL (SN) | M17: Total Serviços (R$) + 10% Simples Nacional (SN) | N17: Prazo Entrega
B18: CHAVE DE IMPACTO 3/4" PUMA AT 6607T ITEM 1 MP 085_12_2023 | C18: 1 | D18: 814480 | E18: JUNTA FRONTAL | F18: T6607T-21 | G18: 1 | H18: 43.29 | I18: =G18*H18 -> 43.29 | J18: 520 | K18: =SUM(I26+J18) -> 1655.09 | L18: =K18*0.1 -> 165.509 | M18: =K18+L18 -> 1820.599 | N18: 45DDL
C19: 2 | E19: JUNTA TRASEIRA | F19: T6607T-42 | G19: 1 | H19: 46.19 | I19: =G19*H19 -> 46.19
C20: 3 | E20: FILTRO TELA | F20: T6607T-28 | G20: 1 | H20: 49.94 | I20: =G20*H20 -> 49.94
C21: 4 | E21: O´RING | F21: T6607T-30 | G21: 1 | H21: 27.49 | I21: =G21*H21 -> 27.49
C22: 5 | E22: PINO DO MARTELO | F22: T6607T-10 | G22: 1 | H22: 22.6 | I22: =G22*H22 -> 22.6
C23: 6 | E23: GAIOLA DO MARTELO | F23: T6607T-09 | G23: 1 | H23: 318.83 | I23: =G23*H23 -> 318.83
C24: 7 | E24: O´RING | F24: T6607T-37 | G24: 1 | H24: 27.49 | I24: =G24*H24 -> 27.49
C25: 8 | E25: CARCAÇA (INC PÇ 04) | F25: T6607T-03 | G25: 1 | H25: 599.26 | I25: =G25*H25 -> 599.26
B26: OBS: PEÇAS ORIGINAIS, MONTAGEM, LUBRIFAÇÃO, LIMPEZA E PINTURA PADRÃO FABRICANTE QDO APLICÁVEL | H26: VALOR TOTAL PEÇAS | I26: =SUM(I18:I25) -> 1135.09
B28: Ref. Laudo Peritagem (Peças) | C28: Item | D28: NE - Cód. Produto | E28: Descrição | F28: Código Peça | G28: Quantidade | H28: Vlr. Unit. Peças | I28: Vlr. Total Unit. | J28: Vlr. Total M.O. | K28: R$ Total Serviço | L28: Imposto 10% SIMPLES NACIONAL (SN) | M28: Total Serviços (R$) + 10% Simples Nacional (SN) | N28: Prazo Entrega
B29: CHAVE DE IMPACTO 3/4" PUMA AT 6607T ITEM 2 MP 085_12_2023 | C29: 1 | D29: 814480 | E29: JUNTA FRONTAL | F29: T6607T-21 | G29: 1 | H29: 43.29 | I29: =G29*H29 -> 43.29 | J29: 520 | K29: =SUM(I37+J29) -> 835.4 | L29: =K29*0.1 -> 83.54 | M29: =K29+L29 -> 918.94 | N29: 45DDL
C30: 2 | E30: JUNTA TRASEIRA | F30: T6607T-42 | G30: 1 | H30: 46.19 | I30: =G30*H30 -> 46.19
C31: 3 | E31: FILTRO TELA | F31: T6607T-28 | G31: 1 | H31: 49.94 | I31: =G31*H31 -> 49.94
C32: 4 | E32: O´RING | F32: T6607T-30 | G32: 1 | H32: 27.49 | I32: =G32*H32 -> 27.49
C33: 5 | E33: ENTRADA DE AR | F33: T6607T-29 | G33: 1 | H33: 69.22 | I33: =G33*H33 -> 69.22
C34: 6 | E34: O´RING | F34: T6607T-37 | G34: 1 | H34: 27.49 | I34: =G34*H34 -> 27.49
C35: 7 | E35: ESFERA | F35: T6607T-34 | G35: 1 | H35: 27.7 | I35: =G35*H35 -> 27.7
C36: 8 | E36: MOLA | F36: T6607T-35 | G36: 1 | H36: 24.08 | I36: =G36*H36 -> 24.08
B37: OBS: PEÇAS ORIGINAIS, MONTAGEM, LUBRIFAÇÃO, LIMPEZA E PINTURA PADRÃO FABRICANTE QDO APLICÁVEL | H37: VALOR TOTAL PEÇAS | I37: =SUM(I29:I36) -> 315.4
B39: Ref. Laudo Peritagem (Peças) | C39: Item | D39: NE - Cód. Produto | E39: Descrição | F39: Código Peça | G39: Quantidade | H39: Vlr. Unit. Peças | I39: Vlr. Total Unit. | J39: Vlr. Total M.O. | K39: R$ Total Serviço | L39: Imposto 10% SIMPLES NACIONAL (SN) | M39: Total Serviços (R$) + 10% Simples Nacional (SN) | N39: Prazo Entrega
B40: CHAVE DE IMPACTO 3/4" PUMA AT 6600 ITEM 3 MP 085_12_2023 | C40: 1 | D40: 814480 | E40: JUNTA FRONTAL | F40: T6600-13 | G40: 1 | H40: 31.84 | I40: =G40*H40 -> 31.84 | J40: 520 | K40: =SUM(I48+J40) -> 928.6 | L40: =K40*0.1 -> 92.86 | M40: =K40+L40 -> 1021.46 | N40: 45DDL
C41: 2 | E41: JUNTA TRASEIRA | F41: T6600-25 | G41: 1 | H41: 42.08 | I41: =G41*H41 -> 42.08
C42: 3 | E42: FILTRO TELA | F42: T6600-43 | G42: 1 | H42: 22.41 | I42: =G42*H42 -> 22.41
C43: 4 | E43: O´RING DA ENTRADA DE AR | F43: T6600-38 | G43: 1 | H43: 16.16 | I43: =G43*H43 -> 16.16
C44: 5 | E44: KIT PALHETA (6 PÇS) | F44: T6600-20 | G44: 1 | H44: 246.46 | I44: =G44*H44 -> 246.46
C45: 6 | E45: ABAFADOR | F45: T6600-41 | G45: 1 | H45: 17.33 | I45: =G45*H45 -> 17.33
C46: 7 | E46: O´RING | F46: T6600-31 | G46: 1 | H46: 16.16 | I46: =G46*H46 -> 16.16
C47: 8 | E47: O´RING | F47: T6600-33 | G47: 1 | H47: 16.16 | I47: =G47*H47 -> 16.16
B48: OBS: PEÇAS ORIGINAIS, MONTAGEM, LUBRIFAÇÃO, LIMPEZA E PINTURA PADRÃO FABRICANTE QDO APLICÁVEL | H48: VALOR TOTAL PEÇAS | I48: =SUM(I40:I47) -> 408.6
B50: Ref. Laudo Peritagem (Peças) | C50: Item | D50: NE - Cód. Produto | E50: Descrição | F50: Código Peça | G50: Quantidade | H50: Vlr. Unit. Peças | I50: Vlr. Total Unit. | J50: Vlr. Total M.O. | K50: R$ Total Serviço | L50: Imposto 10% SIMPLES NACIONAL (SN) | M50: Total Serviços (R$) + 10% Simples Nacional (SN) | N50: Prazo Entrega
B51: CHAVE DE IMPACTO 1/2" PUMA AT 2810-16 ITEM 4 MP 085_12_2023 | C51: 1 | D51: 898269 | E51: JUNTA FRONTAL | F51: T2810/16-04 | G51: 1 | H51: 19.36 | I51: =G51*H51 -> 19.36 | J51: 450 | K51: =SUM(I60+J51) -> 737.69 | L51: =K51*0.1 -> 73.769 | M51: =K51+L51 -> 811.459 | N51: 45DDL
C52: 2 | E52: JUNTA TRASEIRA | F52: T2810/16-22 | G52: 1 | H52: 16.24 | I52: =G52*H52 -> 16.24
C53: 3 | E53: O´RING | F53: T2810/16-29 | G53: 1 | H53: 16.16 | I53: =G53*H53 -> 16.16
C54: 4 | E54: O´RING | F54: T2810/16-39 | G54: 1 | H54: 22.41 | I54: =G54*H54 -> 22.41
C55: 5 | E55: FILTRO TELA | F55: T2810/16-36 | G55: 1 | H55: 16.16 | I55: =G55*H55 -> 16.16
C56: 6 | E56: ROLAMENTO BLINDADO TRASEIRO | F56: T2810/16-37 | G56: 1 | H56: 22.6 | I56: =G56*H56 -> 22.6
C57: 7 | E57: KIT PALHETA (6 PÇS) | F57: T2810/16-16 | G57: 1 | H57: 58.6 | I57: =G57*H57 -> 58.6
C58: 8 | E58: SERVIÇO DE USINAGEM | F58: M.O. USIN. EXT. | G58: 1 | H58: 100 | I58: =G58*H58 -> 100
C59: 9 | E59: O´RING | F59: T2810/16-31 | G59: 1 | H59: 16.16 | I59: =G59*H59 -> 16.16
B60: OBS: PEÇAS ORIGINAIS, MONTAGEM, LUBRIFAÇÃO, LIMPEZA E PINTURA PADRÃO FABRICANTE QDO APLICÁVEL | H60: VALOR TOTAL PEÇAS | I60: =SUM(I51:I59) -> 287.69
B62: Ref. Laudo Peritagem (Peças) | C62: Item | D62: NE - Cód. Produto | E62: Descrição | F62: Código Peça | G62: Quantidade | H62: Vlr. Unit. Peças | I62: Vlr. Total Unit. | J62: Vlr. Total M.O. | K62: R$ Total Serviço | L62: Imposto 10% SIMPLES NACIONAL (SN) | M62: Total Serviços (R$) + 10% Simples Nacional (SN) | N62: Prazo Entrega
B63: CHAVE DE IMPACTO 1/2" PUMA AT 5041 ITEM 5 MP 085_12_2023 | C63: 1 | D63: 898269 | E63: JUNTA TRASEIRA | F63: T5041-24 | G63: 1 | H63: 22.48 | I63: =G63*H63 -> 22.48 | J63: 450 | K63: =SUM(I71+J63) -> 915.52 | L63: =K63*0.1 -> 91.552 | M63: =K63+L63 -> 1007.072 | N63: 45DDL
C64: 2 | E64: KIT PALHETA (6 PÇS) | F64: T5041-21 | G64: 1 | H64: 170.96 | I64: =G64*H64 -> 170.96
C65: 3 | E65: ROLAMENTO BLINDADO TRASEIRO | F65: T5041-15 | G65: 1 | H65: 63.21 | I65: =G65*H65 -> 63.21
C66: 4 | E66: ROLAMENTO BLINDADO TRASEIRO | F66: T5041-23 | G66: 1 | H66: 54.22 | I66: =G66*H66 -> 54.22
C67: 5 | E67: SERVIÇO DE USINAGEM | F67: M.O. USIN. EXT. | G67: 1 | H67: 100 | I67: =G67*H67 -> 100
C68: 6 | E68: O´RING | F68: T5041-16 | G68: 1 | H68: 22.33 | I68: =G68*H68 -> 22.33
C69: 7 | E69: O´RING | F69: T5041-44 | G69: 1 | H69: 16.16 | I69: =G69*H69 -> 16.16
C70: 8 | E70: O´RING | F70: T5041-47 | G70: 1 | H70: 16.16 | I70: =G70*H70 -> 16.16
B71: OBS: PEÇAS ORIGINAIS, MONTAGEM, LUBRIFAÇÃO, LIMPEZA E PINTURA PADRÃO FABRICANTE QDO APLICÁVEL | H71: VALOR TOTAL PEÇAS | I71: =SUM(I63:I70) -> 465.52
B73: Ref. Laudo Peritagem (Peças) | C73: Item | D73: NE - Cód. Produto | E73: Descrição | F73: Código Peça | G73: Quantidade | H73: Vlr. Unit. Peças | I73: Vlr. Total Unit. | J73: Vlr. Total M.O. | K73: R$ Total Serviço | L73: Imposto 10% SIMPLES NACIONAL (SN) | M73: Total Serviços (R$) + 10% Simples Nacional (SN) | N73: Prazo Entrega
B74: CHAVE DE IMPACTO 3/4" PUMA AT 1035 ITEM 6 MP 085_12_2023 | C74: 1 | D74: 814480 | E74: JUNTA DIANTEIRA | F74: T1035-30 | G74: 1 | H74: 36.96 | I74: =G74*H74 -> 36.96 | J74: 520 | K74: =SUM(I81+J74) -> 937.13 | L74: =K74*0.1 -> 93.713 | M74: =K74+L74 -> 1030.843 | N74: 45DDL
C75: 2 | E75: JUNTA TRASEIRA | F75: T1035-18 | G75: 1 | H75: 36.96 | I75: =G75*H75 -> 36.96
C76: 3 | E76: KIT PALHETA (7 PÇS) | F76: T1035-25 | G76: 1 | H76: 194.73 | I76: =G76*H76 -> 194.73
C77: 4 | E77: SERVIÇO DE USINAGEM | F77: T1035-35 | G77: 1 | H77: 100 | I77: =G77*H77 -> 100
C78: 5 | E78: O´RING | F78: T1035-02 | G78: 1 | H78: 16.16 | I78: =G78*H78 -> 16.16
C79: 6 | E79: O´RING | F79: T1035-16 | G79: 1 | H79: 16.16 | I79: =G79*H79 -> 16.16
C80: 7 | E80: O´RING | F80: T1035-17 | G80: 1 | H80: 16.16 | I80: =G80*H80 -> 16.16
B81: OBS: PEÇAS ORIGINAIS, MONTAGEM, LUBRIFAÇÃO, LIMPEZA E PINTURA PADRÃO FABRICANTE QDO APLICÁVEL | H81: VALOR TOTAL PEÇAS | I81: =SUM(I74:I80) -> 417.13
B83: Ref. Laudo Peritagem (Peças) | C83: Item | D83: NE - Cód. Produto | E83: Descrição | F83: Código Peça | G83: Quantidade | H83: Vlr. Unit. Peças | I83: Vlr. Total Unit. | J83: Vlr. Total M.O. | K83: R$ Total Serviço | L83: Imposto 10% SIMPLES NACIONAL (SN) | M83: Total Serviços (R$) + 10% Simples Nacional (SN) | N83: Prazo Entrega
B84: CHAVE DE IMPACTO 3/4" GISON GW 24D ITEM 7 MP 085_12_2023 | C84: 1 | D84: 814480 | E84: JUNTA FRONTAL | F84: 24D-016 | G84: 1 | H84: 40.91 | I84: =G84*H84 -> 40.91 | J84: 520 | K84: =SUM(I93+J84) -> 1050.74 | L84: =K84*0.1 -> 105.074 | M84: =K84+L84 -> 1155.814 | N84: 45DDL
C85: 2 | E85: JUNTA TRASEIRA | F85: 24D-030 | G85: 1 | H85: 40.91 | I85: =G85*H85 -> 40.91
C86: 3 | E86: KIT PALHETA (6 PÇS) | F86: 24D-027 | G86: 1 | H86: 250.93 | I86: =G86*H86 -> 250.93
C87: 4 | E87: SERVIÇO DE USINAGEM | F87: T1035-35 | G87: 1 | H87: 100 | I87: =G87*H87 -> 100
C88: 5 | E88: O´RING | F88: 24D-007 | G88: 1 | H88: 18.36 | I88: =G88*H88 -> 18.36
C89: 6 | E89: O´RING | F89: 24D-008 | G89: 1 | H89: 18.36 | I89: =G89*H89 -> 18.36
C90: 7 | E90: O´RING | F90: 24D-033 | G90: 1 | H90: 18.36 | I90: =G90*H90 -> 18.36
C91: 8 | E91: O´RING | F91: 24D-051 | G91: 1 | H91: 18.36 | I91: =G91*H91 -> 18.36
C92: 9 | E92: VEDADOR DE AR | F92: 24D-041 | G92: 1 | H92: 24.55 | I92: =G92*H92 -> 24.55
B93: OBS: PEÇAS ORIGINAIS, MONTAGEM, LUBRIFAÇÃO, LIMPEZA E PINTURA PADRÃO FABRICANTE QDO APLICÁVEL | H93: VALOR TOTAL PEÇAS | I93: =SUM(I84:I92) -> 530.74
B96: Faturamento mínimo de R$ 500,00.
B97: Validade: 10 Dias. | I97: Vlr. Total Peças | J97: Vlr. Total M.O. | K97: R$ Total Serviço | L97: Imposto 10% SIMPLES NACIONAL (SN) | M97: R$ Total Serviço + 10% SN | N97: Prazo Entrega
B98: Prazos sujeitos a variações conforme a data do pedido. | H98: VALOR TOTAL DOS SERVIÇOS | I98: =I26+I37+I48+I60+I71+I81+I93 -> 3560.17 | J98: =J18+J29+J40+J51+J63+J74+J84 -> 3500 | K98: =K18+K29+K40+K51+K63+K74+K84 -> 7060.17 | L98: =L18+L29+L40+L51+L63+L74+L84 -> 706.017 | M98: =M18+M29+M40+M51+M63+M74+M84 -> 7766.187 | N98: ACIMA
B100: Vendedor: MP ENGENHARIA E SERVIÇOS - ARP | H100: Transportadora: Própria

Sheet Proposta Resumida MP 085_12_23
H2: MP ENGENHARIA COMERCIAL E SERVIÇOS LTDA
H3: ENDEREÇO: TRAVESSA ANTONIO JACINTO QUADRA 305 LOTE 10 Nº 04
H4: CIDADE: BARCARENA UF: PA CEP: 68447-000
H5: CNPJ: 38.255.459/0001-09 | K5: ORÇAMENTO RESUMIDO
H6: FONE: 91-99227-9922 / 91-99127-9922
H7: E-MAIL: anderson.pratta@mpengserv.com.br
B10: 001 HYDRO ALUNORTE ALUMINA DO NORTE BRASIL S.A. | K10: ORÇAMENTO DE SERVIÇO
G11: RC 27940745 - NOTA FISCAL 68028 DE 24/10/2023 | K11: Nº DO ORÇAMENTO MP 085/12/2023
B13: CNPJ: 05.848.387/0003-16 | K13: DATA EMISSÃO 11/12/2023
F15: Cond. Pagamento: Faturado | I15: Modalidade Neg.: Serviço | K15: Tipo Cobrança: Depósito
B17: Item | C17: NE - Cód.Produto | D17: Descrição do(s) Item(ns) | I17: Ref. Laudo Peritagem (Peças) | J17: Vlr. Total Peças | K17: Vlr. Total M.O. | L17: R$ Total Serviço | M17: Imposto 10% SIMPLES NACIONAL (SN) | N17: Total Serviços (R$) + 10% Simples Nacional (SN) | O17: Prazo Entrega
B18: 1 | C18: 814480 | D18: CHAVE DE IMPACTO 3/4" MOD. AT 6607T - PUMA | I18: RP - MP 085/12/2023 | J18: ='Proposta Detalhada MP 085_12_23'!I26 -> 1135.09 | K18: 520 | L18: =SUM(J18+K18) -> 1655.09 | M18: =L18*0.1 -> 165.509 | N18: =L18+M18 -> 1820.599 | O18: 45 DIAS
B19: 2 | C19: 814480 | D19: CHAVE DE IMPACTO 3/4" MOD. AT 6607T - PUMA | J19: ='Proposta Detalhada MP 085_12_23'!I37 -> 315.4 | K19: 520 | L19: =SUM(J19+K19) -> 835.4 | M19: =L19*0.1 -> 83.54 | N19: =L19+M19 -> 918.94 | O19: 45 DIAS
B20: 3 | C20: 814480 | D20: CHAVE DE IMPACTO 3/4" MOD. AT 6600 - PUMA | J20: ='Proposta Detalhada MP 085_12_23'!I48 -> 408.6 | K20: 520 | L20: =SUM(J20+K20) -> 928.6 | M20: =L20*0.1 -> 92.86 | N20: =L20+M20 -> 1021.46 | O20: 45 DIAS
B21: 4 | C21: 898269 | D21: CHAVE DE IMPACTO 1/2" MOD. AT 2810-16 - PUMA | J21: ='Proposta Detalhada MP 085_12_23'!I60 -> 287.69 | K21: 450 | L21: =SUM(J21+K21) -> 737.69 | M21: =L21*0.1 -> 73.769 | N21: =L21+M21 -> 811.459 | O21: 45 DIAS
B22: 5 | C22: 898269 | D22: CHAVE DE IMPACTO 1/2" MOD. AT 5041 - PUMA | J22: ='Proposta Detalhada MP 085_12_23'!I71 -> 465.52 | K22: 450 | L22: =SUM(J22+K22) -> 915.52 | M22: =L22*0.1 -> 91.552 | N22: =L22+M22 -> 1007.072 | O22: 45 DIAS
B23: 6 | C23: 814480 | D23: CHAVE DE IMPACTO 3/4" MOD. AT 1035 - PUMA | J23: ='Proposta Detalhada MP 085_12_23'!I81 -> 417.13 | K23: 520 | L23: =SUM(J23+K23) -> 937.13 | M23: =L23*0.1 -> 93.713 | N23: =L23+M23 -> 1030.843 | O23: 45 DIAS
B24: 7 | C24: 814480 | D24: CHAVE DE IMPACTO 3/4" MOD. GW 24 - GISON | J24: ='Proposta Detalhada MP 085_12_23'!I93 -> 530.74 | K24: 520 | L24: =SUM(J24+K24) -> 1050.74 | M24: =L24*0.1 -> 105.074 | N24: =L24+M24 -> 1155.814 | O24: 45 DIAS
B25: 8
B26: 9
B27: 10
B28: 11
B29: 12
B30: 13
B31: 14
B32: 15
B33: 16
B34: 17
B35: 18
B36: 19
... B38: 21
B40: OBSERVAÇÕES: | I40: VALOR TOTAL DOS SERVIÇOS | J40: Vlr. Total Peças | K40: Vlr. Total M.O. | L40: R$ Total Serviço | M40: Imposto 10% SIMPLES NACIONAL (SN) | N40: Total Serviços (R$) + 10% Simples Nacional (SN) | O40: Prazo Entrega
B41: Faturamento mínimo de R$ 500,00. | J41: =SUM(J18:J38) -> 3560.17 | K41: =SUM(K18:K38) -> 3500 | L41: =SUM(L18:L38) -> 7060.17 | M41: =SUM(M18:M24) -> 706.017 | N41: =SUM(N18:N24) -> 7766.187 | O41: ACIMA
B42: Validade: 10 Dias.
B43: Prazos sujeitos a variações conforme a data do pedido.
B44: Vendedor: MP ENGENHARIA E SERVIÇOS | J44: Transportadora: Própria
