Workbook

Sheet Estoque
A1: Equipamento | B1: Estq. Inicial | C1: ENTRADA | D1: SAÍDA | E1: Estq. Final
A2: AGULHA DE MAGNETO | C2: =SUMIFS(Movimentação!F:F,Movimentação!E:E,Estoque!A2,Movimentação!D:D,"ENTRADA") -> 2 | D2: =SUMIFS(Movimentação!F:F,Movimentação!E:E,Estoque!A2,Movimentação!D:D,"SAÍDA") -> 2 | E2: =B2+C2-D2 -> 0
A3: AGULHA HIPODÉRMICA | B3: 6 | C3: =SUMIFS(Movimentação!F:F,Movimentação!E:E,Estoque!A3,Movimentação!D:D,"ENTRADA") -> 0 | D3: =SUMIFS(Movimentação!F:F,Movimentação!E:E,Estoque!A3,Movimentação!D:D,"SAÍDA") -> 0 | E3: =B3+C3-D3 -> 6
A4: ALGODÃO HIDRÓFILO | B4: 4 | C4: =SUMIFS(Movimentação!F:F,Movimentação!E:E,Estoque!A4,Movimentação!D:D,"ENTRADA") -> 18 | D4: =SUMIFS(Movimentação!F:F,Movimentação!E:E,Estoque!A4,Movimentação!D:D,"SAÍDA") -> 12 | E4: =B4+C4-D4 -> 10
A5: ALICATE DE CORTE DIAGONAL | B5: 1 | C5: =SUMIFS(Movimentação!F:F,Movimentação!E:E,Estoque!A5,Movimentação!D:D,"ENTRADA") -> 0 | D5: =SUMIFS(Movimentação!F:F,Movimentação!E:E,Estoque!A5,Movimentação!D:D,"SAÍDA") -> 1 | E5: =B5+C5-D5 -> 0
A6: ALICATE DE CORTE P/JOIAS | C6: =SUMIFS(Movimentação!F:F,Movimentação!E:E,Estoque!A6,Movimentação!D:D,"ENTRADA") -> 1 | D6: =SUMIFS(Movimentação!F:F,Movimentação!E:E,Estoque!A6,Movimentação!D:D,"SAÍDA") -> 1 | E6: =B6+C6-D6 -> 0
A7: ALICATE 1/2 CANA | B7: 4 | C7: =SUMIFS(Movimentação!F:F,Movimentação!E:E,Estoque!A7,Movimentação!D:D,"ENTRADA") -> 0 | D7: =SUMIFS(Movimentação!F:F,Movimentação!E:E,Estoque!A7,Movimentação!D:D,"SAÍDA") -> 0 | E7: =B7+C7-D7 -> 4
A8: ALICATE DE CORTE | B8: 1 | C8: =SUMIFS(Movimentação!F:F,Movimentação!E:E,Estoque!A8,Movimentação!D:D,"ENTRADA") -> 0 | D8: =SUMIFS(Movimentação!F:F,Movimentação!E:E,Estoque!A8,Movimentação!D:D,"SAÍDA") -> 0 | E8: =B8+C8-D8 -> 1
A9: ANEL DE FERRO GRANDE (MICRO FUNDIÇÃO) | B9: 20 | C9: =SUMIFS(Movimentação!F:F,Movimentação!E:E,Estoque!A9,Movimentação!D:D,"ENTRADA") -> 0 | D9: =SUMIFS(Movimentação!F:F,Movimentação!E:E,Estoque!A9,Movimentação!D:D,"SAÍDA") -> 0 | E9: =B9+C9-D9 -> 20
A10: ANEL DE FERRO PEQUENO (MICRO FUNDIÇÃO) | B10: 20 | C10: =SUMIFS(Movimentação!F:F,Movimentação!E:E,Estoque!A10,Movimentação!D:D,"ENTRADA") -> 0 | D10: =SUMIFS(Movimentação!F:F,Movimentação!E:E,Estoque!A10,Movimentação!D:D,"SAÍDA") -> 0 | E10: =B10+C10-D10 -> 20
A11: ANEL DE GRAFITE GRANDE (MICRO FUNDIÇÃO) 20Cm | B11: 40 | C11: =SUMIFS(Movimentação!F:F,Movimentação!E:E,Estoque!A11,Movimentação!D:D,"ENTRADA") -> 0 | D11: =SUMIFS(Movimentação!F:F,Movimentação!E:E,Estoque!A11,Movimentação!D:D,"SAÍDA") -> 1 | E11: =B11+C11-D11 -> 39
A12: ANEL DE GRAFITE PEQUENO (MICRO FUNDIÇÃO) 14Cm | C12: =SUMIFS(Movimentação!F:F,Movimentação!E:E,Estoque!A12,Movimentação!D:D,"ENTRADA") -> 0 | D12: =SUMIFS(Movimentação!F:F,Movimentação!E:E,Estoque!A12,Movimentação!D:D,"SAÍDA") -> 0 | E12: =B12+C12-D12 -> 0
A13: BASE DA CAMISA | B13: 10 | C13: =SUMIFS(Movimentação!F:F,Movimentação!E:E,Estoque!A13,Movimentação!D:D,"ENTRADA") -> 0 | D13: =SUMIFS(Movimentação!F:F,Movimentação!E:E,Estoque!A13,Movimentação!D:D,"SAÍDA") -> 0 | E13: =B13+C13-D13 -> 10
A14: BISTURI | C14: =SUMIFS(Movimentação!F:F,Movimentação!E:E,Estoque!A14,Movimentação!D:D,"ENTRADA") -> 396 | D14: =SUMIFS(Movimentação!F:F,Movimentação!E:E,Estoque!A14,Movimentação!D:D,"SAÍDA") -> 249 | E14: =B14+C14-D14 -> 147
A15: CADEADO | B15: 30 | C15: =SUMIFS(Movimentação!F:F,Movimentação!E:E,Estoque!A15,Movimentação!D:D,"ENTRADA") -> 0 | D15: =SUMIFS(Movimentação!F:F,Movimentação!E:E,Estoque!A15,Movimentação!D:D,"SAÍDA") -> 23 | E15: =B15+C15-D15 -> 7
A16: CADINHO (1) | B16: 3 | C16: =SUMIFS(Movimentação!F:F,Movimentação!E:E,Estoque!A16,Movimentação!D:D,"ENTRADA") -> 30 | D16: =SUMIFS(Movimentação!F:F,Movimentação!E:E,Estoque!A16,Movimentação!D:D,"SAÍDA") -> 7 | E16: =B16+C16-D16 -> 26
A17: CADINHO (2) | B17: 9 | C17: =SUMIFS(Movimentação!F:F,Movimentação!E:E,Estoque!A17,Movimentação!D:D,"ENTRADA") -> 0 | D17: =SUMIFS(Movimentação!F:F,Movimentação!E:E,Estoque!A17,Movimentação!D:D,"SAÍDA") -> 0 | E17: =B17+C17-D17 -> 9
A18: BROCA 0.50 MM (10 PCS.) | B18: 2 | C18: =SUMIFS(Movimentação!F:F,Movimentação!E:E,Estoque!A18,Movimentação!D:D,"ENTRADA") -> 0 | D18: =SUMIFS(Movimentação!F:F,Movimentação!E:E,Estoque!A18,Movimentação!D:D,"SAÍDA") -> 0 | E18: =B18+C18-D18 -> 2
A19: BROCA 0.50 MM (9 PCS.) | B19: 1 | C19: =SUMIFS(Movimentação!F:F,Movimentação!E:E,Estoque!A19,Movimentação!D:D,"ENTRADA") -> 0 | D19: =SUMIFS(Movimentação!F:F,Movimentação!E:E,Estoque!A19,Movimentação!D:D,"SAÍDA") -> 0 | E19: =B19+C19-D19 -> 1
A20: BROCA 0.6 MM (10 PCS.) | B20: 3 | C20: =SUMIFS(Movimentação!F:F,Movimentação!E:E,Estoque!A20,Movimentação!D:D,"ENTRADA") -> 0 | D20: =SUMIFS(Movimentação!F:F,Movimentação!E:E,Estoque!A20,Movimentação!D:D,"SAÍDA") -> 0 | E20: =B20+C20-D20 -> 3
A21: BROCA 0.60 MM (10 PCS.) | B21: 2 | C21: =SUMIFS(Movimentação!F:F,Movimentação!E:E,Estoque!A21,Movimentação!D:D,"ENTRADA") -> 0 | D21: =SUMIFS(Movimentação!F:F,Movimentação!E:E,Estoque!A21,Movimentação!D:D,"SAÍDA") -> 0 | E21: =B21+C21-D21 -> 2
A22: BROCA 0.60 MM (10 PCS.) #61 | B22: 1 | C22: =SUMIFS(Movimentação!F:F,Movimentação!E:E,Estoque!A22,Movimentação!D:D,"ENTRADA") -> 0 | D22: =SUMIFS(Movimentação!F:F,Movimentação!E:E,Estoque!A22,Movimentação!D:D,"SAÍDA") -> 0 | E22: =B22+C22-D22 -> 1
A23: BROCA 0.60 MM (10 PCS.) #66 | B23: 1 | C23: =SUMIFS(Movimentação!F:F,Movimentação!E:E,Estoque!A23,Movimentação!D:D,"ENTRADA") -> 0 | D23: =SUMIFS(Movimentação!F:F,Movimentação!E:E,Estoque!A23,Movimentação!D:D,"SAÍDA") -> 0 | E23: =B23+C23-D23 -> 1
A24: BROCA 0.60 MM (7 PCS.) | B24: 1 | C24: =SUMIFS(Movimentação!F:F,Movimentação!E:E,Estoque!A24,Movimentação!D:D,"ENTRADA") -> 0 | D24: =SUMIFS(Movimentação!F:F,Movimentação!E:E,Estoque!A24,Movimentação!D:D,"SAÍDA") -> 0 | E24: =B24+C24-D24 -> 1
A25: BROCA 0.60 MM (8 PCS.) | B25: 2 | C25: =SUMIFS(Movimentação!F:F,Movimentação!E:E,Estoque!A25,Movimentação!D:D,"ENTRADA") -> 0 | D25: =SUMIFS(Movimentação!F:F,Movimentação!E:E,Estoque!A25,Movimentação!D:D,"SAÍDA") -> 0 | E25: =B25+C25-D25 -> 2
A26: BROCA 0.70 MM (10 PCS.) | B26: 3 | C26: =SUMIFS(Movimentação!F:F,Movimentação!E:E,Estoque!A26,Movimentação!D:D,"ENTRADA") -> 0 | D26: =SUMIFS(Movimentação!F:F,Movimentação!E:E,Estoque!A26,Movimentação!D:D,"SAÍDA") -> 0 | E26: =B26+C26-D26 -> 3
... A65: CONE 62 | B65: 12 | C65: =SUMIFS(Movimentação!F:F,Movimentação!E:E,Estoque!A65,Movimentação!D:D,"ENTRADA") -> 144 | D65: =SUMIFS(Movimentação!F:F,Movimentação!E:E,Estoque!A65,Movimentação!D:D,"SAÍDA") -> 119 | E65: =B65+C65-D65 -> 37
A66: CONE DE BANCADA (G) | C66: =SUMIFS(Movimentação!F:F,Movimentação!E:E,Estoque!A66,Movimentação!D:D,"ENTRADA") -> 12 | D66: =SUMIFS(Movimentação!F:F,Movimentação!E:E,Estoque!A66,Movimentação!D:D,"SAÍDA") -> 0 | E66: =B66+C66-D66 -> 12
A67: CONE DE BANCADA (P) | C67: =SUMIFS(Movimentação!F:F,Movimentação!E:E,Estoque!A67,Movimentação!D:D,"ENTRADA") -> 0 | D67: =SUMIFS(Movimentação!F:F,Movimentação!E:E,Estoque!A67,Movimentação!D:D,"SAÍDA") -> 1 | E67: =B67+C67-D67 -> -1
A68: COPO COLETA RESÍDUO (MICRO FUNDIÇÃO) | B68: 10 | C68: =SUMIFS(Movimentação!F:F,Movimentação!E:E,Estoque!A68,Movimentação!D:D,"ENTRADA") -> 0 | D68: =SUMIFS(Movimentação!F:F,Movimentação!E:E,Estoque!A68,Movimentação!D:D,"SAÍDA") -> 0 | E68: =B68+C68-D68 -> 10
A69: COTONETE | C69: =SUMIFS(Movimentação!F:F,Movimentação!E:E,Estoque!A69,Movimentação!D:D,"ENTRADA") -> 17 | D69: =SUMIFS(Movimentação!F:F,Movimentação!E:E,Estoque!A69,Movimentação!D:D,"SAÍDA") -> 5 | E69: =B69+C69-D69 -> 12
A70: DEDEIRA LUVA | C70: =SUMIFS(Movimentação!F:F,Movimentação!E:E,Estoque!A70,Movimentação!D:D,"ENTRADA") -> 759 | D70: =SUMIFS(Movimentação!F:F,Movimentação!E:E,Estoque!A70,Movimentação!D:D,"SAÍDA") -> 319 | E70: =B70+C70-D70 -> 440
A71: DEDEIRA LUVA (GROSSA) | B71: 102 | C71: =SUMIFS(Movimentação!F:F,Movimentação!E:E,Estoque!A71,Movimentação!D:D,"ENTRADA") -> 0 | D71: =SUMIFS(Movimentação!F:F,Movimentação!E:E,Estoque!A71,Movimentação!D:D,"SAÍDA") -> 102 | E71: =B71+C71-D71 -> 0
A72: DETERGENTE (Coco) | B72: 22 | C72: =SUMIFS(Movimentação!F:F,Movimentação!E:E,Estoque!A72,Movimentação!D:D,"ENTRADA") -> 0 | D72: =SUMIFS(Movimentação!F:F,Movimentação!E:E,Estoque!A72,Movimentação!D:D,"SAÍDA") -> 7 | E72: =B72+C72-D72 -> 15
A73: ESPARADRAPO | B73: 21 | C73: =SUMIFS(Movimentação!F:F,Movimentação!E:E,Estoque!A73,Movimentação!D:D,"ENTRADA") -> 83 | D73: =SUMIFS(Movimentação!F:F,Movimentação!E:E,Estoque!A73,Movimentação!D:D,"SAÍDA") -> 70 | E73: =B73+C73-D73 -> 34
A74: EXTRATOR DE GRAMPOS | B74: 0 | C74: =SUMIFS(Movimentação!F:F,Movimentação!E:E,Estoque!A74,Movimentação!D:D,"ENTRADA") -> 1 | D74: =SUMIFS(Movimentação!F:F,Movimentação!E:E,Estoque!A74,Movimentação!D:D,"SAÍDA") -> 1 | E74: =B74+C74-D74 -> 0
A75: FACA 20 | B75: 1 | C75: =SUMIFS(Movimentação!F:F,Movimentação!E:E,Estoque!A75,Movimentação!D:D,"ENTRADA") -> 0 | D75: =SUMIFS(Movimentação!F:F,Movimentação!E:E,Estoque!A75,Movimentação!D:D,"SAÍDA") -> 0 | E75: =B75+C75-D75 -> 1
A76: FELTRO DE BANCADA (G) | C76: =SUMIFS(Movimentação!F:F,Movimentação!E:E,Estoque!A76,Movimentação!D:D,"ENTRADA") -> 12 | D76: =SUMIFS(Movimentação!F:F,Movimentação!E:E,Estoque!A76,Movimentação!D:D,"SAÍDA") -> 0 | E76: =B76+C76-D76 -> 12
A77: FELTRO DE BANCADA (P) | C77: =SUMIFS(Movimentação!F:F,Movimentação!E:E,Estoque!A77,Movimentação!D:D,"ENTRADA") -> 12 | D77: =SUMIFS(Movimentação!F:F,Movimentação!E:E,Estoque!A77,Movimentação!D:D,"SAÍDA") -> 0 | E77: =B77+C77-D77 -> 12
A78: FIEIRA DE OURO PAREDE FINA | B78: 30 | C78: =SUMIFS(Movimentação!F:F,Movimentação!E:E,Estoque!A78,Movimentação!D:D,"ENTRADA") -> 0 | D78: =SUMIFS(Movimentação!F:F,Movimentação!E:E,Estoque!A78,Movimentação!D:D,"SAÍDA") -> 7 | E78: =B78+C78-D78 -> 23
...

Sheet Movimentação
A1: Data | B1: MÊS | C1: ANO | D1: TIPO | E1: Equipamento | F1: QUANTIDADE
A2: 45157 | B2: =UPPER(TEXT(TblMovi[[#This Row],[Data]],"MMM")) -> AGO | C2: =TEXT(TblMovi[[#This Row],[Data]],"aaaa") -> 2023 | D2: SAÍDA | E2: ALGODÃO HIDRÓFILO | F2: 1
A3: 45159 | B3: =UPPER(TEXT(TblMovi[[#This Row],[Data]],"MMM")) -> AGO | C3: =TEXT(TblMovi[[#This Row],[Data]],"aaaa") -> 2023 | D3: SAÍDA | E3: LIXA 400 | F3: 4
A4: 45159 | B4: =UPPER(TEXT(TblMovi[[#This Row],[Data]],"MMM")) -> AGO | C4: =TEXT(TblMovi[[#This Row],[Data]],"aaaa") -> 2023 | D4: SAÍDA | E4: ESPARADRAPO | F4: 1
A5: 45159 | B5: =UPPER(TEXT(TblMovi[[#This Row],[Data]],"MMM")) -> AGO | C5: =TEXT(TblMovi[[#This Row],[Data]],"aaaa") -> 2023 | D5: SAÍDA | E5: LIXA P1200 | F5: 5
A6: 45160 | B6: =UPPER(TEXT(TblMovi[[#This Row],[Data]],"MMM")) -> AGO | C6: =TEXT(TblMovi[[#This Row],[Data]],"aaaa") -> 2023 | D6: SAÍDA | E6: MOTOR DE BANCA | F6: 1
A7: 45160 | B7: =UPPER(TEXT(TblMovi[[#This Row],[Data]],"MMM")) -> AGO | C7: =TEXT(TblMovi[[#This Row],[Data]],"aaaa") -> 2023 | D7: SAÍDA | E7: RODA DE LUSTRE | F7: 1
A8: 45160 | B8: =UPPER(TEXT(TblMovi[[#This Row],[Data]],"MMM")) -> AGO | C8: =TEXT(TblMovi[[#This Row],[Data]],"aaaa") -> 2023 | D8: SAÍDA | E8: RODA DE FELTRO | F8: 5
A9: 45160 | B9: =UPPER(TEXT(TblMovi[[#This Row],[Data]],"MMM")) -> AGO | C9: =TEXT(TblMovi[[#This Row],[Data]],"aaaa") -> 2023 | D9: SAÍDA | E9: LIXA P1200 | F9: 7
A10: 45160 | B10: =UPPER(TEXT(TblMovi[[#This Row],[Data]],"MMM")) -> AGO | C10: =TEXT(TblMovi[[#This Row],[Data]],"aaaa") -> 2023 | D10: SAÍDA | E10: LIXA P1200 | F10: 7
A11: 45160 | B11: =UPPER(TEXT(TblMovi[[#This Row],[Data]],"MMM")) -> AGO | C11: =TEXT(TblMovi[[#This Row],[Data]],"aaaa") -> 2023 | D11: SAÍDA | E11: PROTETOR AUDITIVO | F11: 1
A12: 45160 | B12: =UPPER(TEXT(TblMovi[[#This Row],[Data]],"MMM")) -> AGO | C12: =TEXT(TblMovi[[#This Row],[Data]],"aaaa") -> 2023 | D12: SAÍDA | E12: FLANELA | F12: 1
A13: 45161 | B13: =UPPER(TEXT(TblMovi[[#This Row],[Data]],"MMM")) -> AGO | C13: =TEXT(TblMovi[[#This Row],[Data]],"aaaa") -> 2023 | D13: SAÍDA | E13: CADINHO (1) | F13: 1
... A329: 45210 | B329: =UPPER(TEXT(TblMovi[[#This Row],[Data]],"MMM")) -> OUT | C329: =TEXT(TblMovi[[#This Row],[Data]],"aaaa") -> 2023 | D329: ENTRADA | E329: FELTRO DE BANCADA (P) | F329: 12
A330: 45210 | B330: =UPPER(TEXT(TblMovi[[#This Row],[Data]],"MMM")) -> OUT | C330: =TEXT(TblMovi[[#This Row],[Data]],"aaaa") -> 2023 | D330: ENTRADA | E330: AGULHA DE MAGNETO | F330: =2000/1000 -> 2
A331: 45210 | B331: =UPPER(TEXT(TblMovi[[#This Row],[Data]],"MMM")) -> OUT | C331: =TEXT(TblMovi[[#This Row],[Data]],"aaaa") -> 2023 | D331: ENTRADA | E331: MAQUINA DE CRAVAÇÃO (90-x/Au-35) | F331: 1
A332: 45210 | B332: =UPPER(TEXT(TblMovi[[#This Row],[Data]],"MMM")) -> OUT | C332: =TEXT(TblMovi[[#This Row],[Data]],"aaaa") -> 2023 | D332: ENTRADA | E332: MAQUINA DE CRAVAÇÃO (ACO-9610) | F332: 1
A333: 45210 | B333: =UPPER(TEXT(TblMovi[[#This Row],[Data]],"MMM")) -> OUT | C333: =TEXT(TblMovi[[#This Row],[Data]],"aaaa") -> 2023 | D333: ENTRADA | E333: DEDEIRA LUVA | F333: 759
A334: 45210 | B334: =UPPER(TEXT(TblMovi[[#This Row],[Data]],"MMM")) -> OUT | C334: =TEXT(TblMovi[[#This Row],[Data]],"aaaa") -> 2023 | D334: SAÍDA | E334: CONE 62 | F334: 2
A335: 45210 | B335: =UPPER(TEXT(TblMovi[[#This Row],[Data]],"MMM")) -> OUT | C335: =TEXT(TblMovi[[#This Row],[Data]],"aaaa") -> 2023 | D335: SAÍDA | E335: AGULHA DE MAGNETO | F335: =2000/1000 -> 2
A336: 45210 | B336: =UPPER(TEXT(TblMovi[[#This Row],[Data]],"MMM")) -> OUT | C336: =TEXT(TblMovi[[#This Row],[Data]],"aaaa") -> 2023 | D336: SAÍDA | E336: DEDEIRA LUVA | F336: 2
A337: 45210 | B337: =UPPER(TEXT(TblMovi[[#This Row],[Data]],"MMM")) -> OUT | C337: =TEXT(TblMovi[[#This Row],[Data]],"aaaa") -> 2023 | D337: SAÍDA | E337: LUMINÁRIA COM GARRA E MOLA | F337: 1
A338: 45210 | B338: =UPPER(TEXT(TblMovi[[#This Row],[Data]],"MMM")) -> OUT | C338: =TEXT(TblMovi[[#This Row],[Data]],"aaaa") -> 2023 | D338: SAÍDA | E338: ALICATE DE CORTE P/JOIAS | F338: 1
A339: 45210 | B339: =UPPER(TEXT(TblMovi[[#This Row],[Data]],"MMM")) -> OUT | C339: =TEXT(TblMovi[[#This Row],[Data]],"aaaa") -> 2023 | D339: SAÍDA | E339: DEDEIRA LUVA | F339: 3
A340: 45210 | B340: =UPPER(TEXT(TblMovi[[#This Row],[Data]],"MMM")) -> OUT | C340: =TEXT(TblMovi[[#This Row],[Data]],"aaaa") -> 2023 | D340: SAÍDA | E340: PINÇA DE BANCADA | F340: 1
A341: 45210 | B341: =UPPER(TEXT(TblMovi[[#This Row],[Data]],"MMM")) -> OUT | C341: =TEXT(TblMovi[[#This Row],[Data]],"aaaa") -> 2023 | D341: SAÍDA | E341: DEDEIRA LUVA | F341: 6
A342: 45210 | B342: =UPPER(TEXT(TblMovi[[#This Row],[Data]],"MMM")) -> OUT | C342: =TEXT(TblMovi[[#This Row],[Data]],"aaaa") -> 2023 | D342: SAÍDA | E342: LIXA 400 | F342: 1
A343: 45211 | B343: =UPPER(TEXT(TblMovi[[#This Row],[Data]],"MMM")) -> OUT | C343: =TEXT(TblMovi[[#This Row],[Data]],"aaaa") -> 2023 | D343: SAÍDA | E343: CONE 62 | F343: 1
A344: 45211 | B344: =UPPER(TEXT(TblMovi[[#This Row],[Data]],"MMM")) -> OUT | C344: =TEXT(TblMovi[[#This Row],[Data]],"aaaa") -> 2023 | D344: SAÍDA | E344: RODA DE LUSTRE | F344: 1
A345: 45211 | B345: =UPPER(TEXT(TblMovi[[#This Row],[Data]],"MMM")) -> OUT | C345: =TEXT(TblMovi[[#This Row],[Data]],"aaaa") -> 2023 | D345: SAÍDA | E345: RODA JEANS (P) | F345: 1
A346: 45211 | B346: =UPPER(TEXT(TblMovi[[#This Row],[Data]],"MMM")) -> OUT | C346: =TEXT(TblMovi[[#This Row],[Data]],"aaaa") -> 2023 | D346: SAÍDA | E346: RODA DE FELTRO | F346: 1
A347: 45211 | B347: =UPPER(TEXT(TblMovi[[#This Row],[Data]],"MMM")) -> OUT | C347: =TEXT(TblMovi[[#This Row],[Data]],"aaaa") -> 2023 | D347: SAÍDA | E347: LIXA P1200 | F347: 5
... A1928: 45378 | B1928: =UPPER(TEXT(TblMovi[[#This Row],[Data]],"MMM")) -> MAR | C1928: =TEXT(TblMovi[[#This Row],[Data]],"aaaa") -> 2024 | D1928: SAÍDA | E1928: LIXA 400 | F1928: 2
A1929: 45379 | B1929: #REF! | C1929: #REF! | D1929: SAÍDA | E1929: LUVA TATEX PRETA | F1929: 1
A1930: 45379 | B1930: #REF! | C1930: #REF! | D1930: SAÍDA | E1930: CADINHO (5) | F1930: 1
A1931: 45379 | B1931: MAR | C1931: 2024 | D1931: ENTRADA | E1931: ESPARADRAPO | F1931: 36
A1932: 45379 | B1932: MAR | C1932: 2024 | D1932: SAÍDA | E1932: DETERGENTE (Coco) | F1932: 1
A1933: 45379 | B1933: MAR | C1933: 2024 | D1933: SAÍDA | E1933: FIEIRA DE OURO PAREDE FINA | F1933: 1
A1934: 45379 | B1934: MAR | C1934: 2024 | D1934: SAÍDA | E1934: CADINHO (PAREDE FINA DE OURO) | F1934: 1
A1935: 45379 | B1935: MAR | C1935: 2024 | D1935: SAÍDA | E1935: MÁSCARA | F1935: 1
...

Sheet Retirada Material
A1: Data | B1: Mês | C1: Ano | D1: Tipo | E1: Equipamento | F1: Qtde. | G1: Material | H1: Entregue Por | I1: Recebido Por | J1: Asinatura | K1: Qtd | L1: Aux
A2: 45187 | B2: =UPPER(TEXT(ControleProdução[[#This Row],[Data]],"mmm")) -> SET | C2: =YEAR(ControleProdução[[#This Row],[Data]]) -> 2023 | D2: SAÍDA | E2: FLANELA | F2: 1 | G2: =_xlfn.XLOOKUP(E2,TbdeEPI[EPI],TbdeEPI[TIPO],"Produção",0) -> Produção | H2: RHUAN | I2: ALEXANDRE | K2: =COUNTIF($I$2:I2,I2) -> 1 | L2: =ControleProdução[[#This Row],[Recebido Por]]&ControleProdução[[#This Row],[Qtd]] -> ALEXANDRE1
A3: 45192 | B3: =UPPER(TEXT(ControleProdução[[#This Row],[Data]],"mmm")) -> SET | C3: =YEAR(ControleProdução[[#This Row],[Data]]) -> 2023 | D3: SAÍDA | E3: FLANELA | F3: 1 | G3: =_xlfn.XLOOKUP(E3,TbdeEPI[EPI],TbdeEPI[TIPO],"Produção",0) -> Produção | H3: RHUAN | I3: ASNAN | K3: =COUNTIF($I$2:I3,I3) -> 1 | L3: =ControleProdução[[#This Row],[Recebido Por]]&ControleProdução[[#This Row],[Qtd]] -> ASNAN1
A4: 45194 | B4: =UPPER(TEXT(ControleProdução[[#This Row],[Data]],"mmm")) -> SET | C4: =YEAR(ControleProdução[[#This Row],[Data]]) -> 2023 | D4: SAÍDA | E4: FLANELA | F4: 3 | G4: =_xlfn.XLOOKUP(E4,TbdeEPI[EPI],TbdeEPI[TIPO],"Produção",0) -> Produção | H4: RHUAN | I4: ALAN | K4: =COUNTIF($I$2:I4,I4) -> 1 | L4: =ControleProdução[[#This Row],[Recebido Por]]&ControleProdução[[#This Row],[Qtd]] -> ALAN1
A5: 45194 | B5: =UPPER(TEXT(ControleProdução[[#This Row],[Data]],"mmm")) -> SET | C5: =YEAR(ControleProdução[[#This Row],[Data]]) -> 2023 | D5: SAÍDA | E5: RODA DE LUSTRE | F5: 1 | G5: =_xlfn.XLOOKUP(E5,TbdeEPI[EPI],TbdeEPI[TIPO],"Produção",0) -> Produção | H5: RHUAN | I5: FELIPE | K5: =COUNTIF($I$2:I5,I5) -> 1 | L5: =ControleProdução[[#This Row],[Recebido Por]]&ControleProdução[[#This Row],[Qtd]] -> FELIPE1
A6: 45195 | B6: =UPPER(TEXT(ControleProdução[[#This Row],[Data]],"mmm")) -> SET | C6: =YEAR(ControleProdução[[#This Row],[Data]]) -> 2023 | D6: SAÍDA | E6: FLANELA | F6: 2 | G6: =_xlfn.XLOOKUP(E6,TbdeEPI[EPI],TbdeEPI[TIPO],"Produção",0) -> Produção | H6: RHUAN | I6: ASNAN | K6: =COUNTIF($I$2:I6,I6) -> 2 | L6: =ControleProdução[[#This Row],[Recebido Por]]&ControleProdução[[#This Row],[Qtd]] -> ASNAN2
A7: 45196 | B7: =UPPER(TEXT(ControleProdução[[#This Row],[Data]],"mmm")) -> SET | C7: =YEAR(ControleProdução[[#This Row],[Data]]) -> 2023 | D7: SAÍDA | E7: FLANELA | F7: 1 | G7: =_xlfn.XLOOKUP(E7,TbdeEPI[EPI],TbdeEPI[TIPO],"Produção",0) -> Produção | H7: RHUAN | I7: RHUAN | K7: =COUNTIF($I$2:I7,I7) -> 1 | L7: =ControleProdução[[#This Row],[Recebido Por]]&ControleProdução[[#This Row],[Qtd]] -> RHUAN1
A8: 45196 | B8: =UPPER(TEXT(ControleProdução[[#This Row],[Data]],"mmm")) -> SET | C8: =YEAR(ControleProdução[[#This Row],[Data]]) -> 2023 | D8: SAÍDA | E8: RODA DE LUSTRE | F8: 1 | G8: =_xlfn.XLOOKUP(E8,TbdeEPI[EPI],TbdeEPI[TIPO],"Produção",0) -> Produção | H8: RHUAN | I8: MANUA | K8: =COUNTIF($I$2:I8,I8) -> 1 | L8: =ControleProdução[[#This Row],[Recebido Por]]&ControleProdução[[#This Row],[Qtd]] -> MANUA1
A9: 45197 | B9: =UPPER(TEXT(ControleProdução[[#This Row],[Data]],"mmm")) -> SET | C9: =YEAR(ControleProdução[[#This Row],[Data]]) -> 2023 | D9: SAÍDA | E9: FLANELA | F9: 1 | G9: =_xlfn.XLOOKUP(E9,TbdeEPI[EPI],TbdeEPI[TIPO],"Produção",0) -> Produção | H9: RHUAN | I9: MOISES | K9: =COUNTIF($I$2:I9,I9) -> 1 | L9: =ControleProdução[[#This Row],[Recebido Por]]&ControleProdução[[#This Row],[Qtd]] -> MOISES1
A10: 45197 | B10: =UPPER(TEXT(ControleProdução[[#This Row],[Data]],"mmm")) -> SET | C10: =YEAR(ControleProdução[[#This Row],[Data]]) -> 2023 | D10: SAÍDA | E10: RODA DE LUSTRE | F10: 1 | G10: =_xlfn.XLOOKUP(E10,TbdeEPI[EPI],TbdeEPI[TIPO],"Produção",0) -> Produção | H10: RHUAN | I10: JOÃO CARLOS | K10: =COUNTIF($I$2:I10,I10) -> 1 | L10: =ControleProdução[[#This Row],[Recebido Por]]&ControleProdução[[#This Row],[Qtd]] -> JOÃO CARLOS1
A11: 45197 | B11: =UPPER(TEXT(ControleProdução[[#This Row],[Data]],"mmm")) -> SET | C11: =YEAR(ControleProdução[[#This Row],[Data]]) -> 2023 | D11: SAÍDA | E11: RODA DE LUSTRE | F11: 1 | G11: =_xlfn.XLOOKUP(E11,TbdeEPI[EPI],TbdeEPI[TIPO],"Produção",0) -> Produção | H11: RHUAN | I11: ASNAN | K11: =COUNTIF($I$2:I11,I11) -> 3 | L11: =ControleProdução[[#This Row],[Recebido Por]]&ControleProdução[[#This Row],[Qtd]] -> ASNAN3
A12: 45198 | B12: =UPPER(TEXT(ControleProdução[[#This Row],[Data]],"mmm")) -> SET | C12: =YEAR(ControleProdução[[#This Row],[Data]]) -> 2023 | D12: SAÍDA | E12: RODA DE LUSTRE | F12: 1 | G12: =_xlfn.XLOOKUP(E12,TbdeEPI[EPI],TbdeEPI[TIPO],"Produção",0) -> Produção | H12: RHUAN | I12: GILDSON | K12: =COUNTIF($I$2:I12,I12) -> 1 | L12: =ControleProdução[[#This Row],[Recebido Por]]&ControleProdução[[#This Row],[Qtd]] -> GILDSON1
A13: 45201 | B13: =UPPER(TEXT(ControleProdução[[#This Row],[Data]],"mmm")) -> OUT | C13: =YEAR(ControleProdução[[#This Row],[Data]]) -> 2023 | D13: SAÍDA | E13: LIXA 600 | F13: 6 | G13: =_xlfn.XLOOKUP(E13,TbdeEPI[EPI],TbdeEPI[TIPO],"Produção",0) -> Produção | H13: RHUAN | I13: ALAN | K13: =COUNTIF($I$2:I13,I13) -> 2 | L13: =ControleProdução[[#This Row],[Recebido Por]]&ControleProdução[[#This Row],[Qtd]] -> ALAN2
... A97: 45210 | B97: =UPPER(TEXT(ControleProdução[[#This Row],[Data]],"mmm")) -> OUT | C97: =YEAR(ControleProdução[[#This Row],[Data]]) -> 2023 | D97: ENTRADA | E97: FELTRO DE BANCADA (P) | F97: 12 | G97: =_xlfn.XLOOKUP(E97,TbdeEPI[EPI],TbdeEPI[TIPO],"Produção",0) -> Produção | H97: RAFAEL | I97: RHUAN | K97: =COUNTIF($I$2:I97,I97) -> 20 | L97: =ControleProdução[[#This Row],[Recebido Por]]&ControleProdução[[#This Row],[Qtd]] -> RHUAN20
A98: 45210 | B98: =UPPER(TEXT(ControleProdução[[#This Row],[Data]],"mmm")) -> OUT | C98: =YEAR(ControleProdução[[#This Row],[Data]]) -> 2023 | D98: ENTRADA | E98: AGULHA DE MAGNETO | F98: =2000/1000 -> 2 | G98: =_xlfn.XLOOKUP(E98,TbdeEPI[EPI],TbdeEPI[TIPO],"Produção",0) -> Produção | H98: RAFAEL | I98: RHUAN | K98: =COUNTIF($I$2:I98,I98) -> 21 | L98: =ControleProdução[[#This Row],[Recebido Por]]&ControleProdução[[#This Row],[Qtd]] -> RHUAN21
A99: 45210 | B99: =UPPER(TEXT(ControleProdução[[#This Row],[Data]],"mmm")) -> OUT | C99: =YEAR(ControleProdução[[#This Row],[Data]]) -> 2023 | D99: ENTRADA | E99: MAQUINA DE CRAVAÇÃO (90-x/Au-35) | F99: 1 | G99: =_xlfn.XLOOKUP(E99,TbdeEPI[EPI],TbdeEPI[TIPO],"Produção",0) -> Produção | H99: RAFAEL | I99: RHUAN | K99: =COUNTIF($I$2:I99,I99) -> 22 | L99: =ControleProdução[[#This Row],[Recebido Por]]&ControleProdução[[#This Row],[Qtd]] -> RHUAN22
A100: 45210 | B100: =UPPER(TEXT(ControleProdução[[#This Row],[Data]],"mmm")) -> OUT | C100: =YEAR(ControleProdução[[#This Row],[Data]]) -> 2023 | D100: ENTRADA | E100: MAQUINA DE CRAVAÇÃO (ACO-9610) | F100: 1 | G100: =_xlfn.XLOOKUP(E100,TbdeEPI[EPI],TbdeEPI[TIPO],"Produção",0) -> Produção | H100: RAFAEL | I100: RHUAN | K100: =COUNTIF($I$2:I100,I100) -> 23 | L100: =ControleProdução[[#This Row],[Recebido Por]]&ControleProdução[[#This Row],[Qtd]] -> RHUAN23
A101: 45210 | B101: =UPPER(TEXT(ControleProdução[[#This Row],[Data]],"mmm")) -> OUT | C101: =YEAR(ControleProdução[[#This Row],[Data]]) -> 2023 | D101: ENTRADA | E101: DEDEIRA LUVA | F101: 759 | G101: =_xlfn.XLOOKUP(E101,TbdeEPI[EPI],TbdeEPI[TIPO],"Produção",0) -> Produção | H101: RAFAEL | I101: RHUAN | K101: =COUNTIF($I$2:I101,I101) -> 24 | L101: =ControleProdução[[#This Row],[Recebido Por]]&ControleProdução[[#This Row],[Qtd]] -> RHUAN24
A102: 45210 | B102: =UPPER(TEXT(ControleProdução[[#This Row],[Data]],"mmm")) -> OUT | C102: =YEAR(ControleProdução[[#This Row],[Data]]) -> 2023 | D102: SAÍDA | E102: CONE 62 | F102: 2 | G102: =_xlfn.XLOOKUP(E102,TbdeEPI[EPI],TbdeEPI[TIPO],"Produção",0) -> Produção | H102: RHUAN | I102: ARTHUR | K102: =COUNTIF($I$2:I102,I102) -> 2 | L102: =ControleProdução[[#This Row],[Recebido Por]]&ControleProdução[[#This Row],[Qtd]] -> ARTHUR2
A103: 45210 | B103: =UPPER(TEXT(ControleProdução[[#This Row],[Data]],"mmm")) -> OUT | C103: =YEAR(ControleProdução[[#This Row],[Data]]) -> 2023 | D103: SAÍDA | E103: AGULHA DE MAGNETO | F103: =2000/1000 -> 2 | G103: =_xlfn.XLOOKUP(E103,TbdeEPI[EPI],TbdeEPI[TIPO],"Produção",0) -> Produção | H103: RHUAN | I103: ALEXANDRE | K103: =COUNTIF($I$2:I103,I103) -> 2 | L103: =ControleProdução[[#This Row],[Recebido Por]]&ControleProdução[[#This Row],[Qtd]] -> ALEXANDRE2
A104: 45210 | B104: =UPPER(TEXT(ControleProdução[[#This Row],[Data]],"mmm")) -> OUT | C104: =YEAR(ControleProdução[[#This Row],[Data]]) -> 2023 | D104: SAÍDA | E104: DEDEIRA LUVA | F104: 2 | G104: =_xlfn.XLOOKUP(E104,TbdeEPI[EPI],TbdeEPI[TIPO],"Produção",0) -> Produção | H104: RHUAN | I104: RAFAEL | K104: =COUNTIF($I$2:I104,I104) -> 2 | L104: =ControleProdução[[#This Row],[Recebido Por]]&ControleProdução[[#This Row],[Qtd]] -> RAFAEL2
A105: 45210 | B105: =UPPER(TEXT(ControleProdução[[#This Row],[Data]],"mmm")) -> OUT | C105: =YEAR(ControleProdução[[#This Row],[Data]]) -> 2023 | D105: SAÍDA | E105: LUMINÁRIA COM GARRA E MOLA | F105: 1 | G105: =_xlfn.XLOOKUP(E105,TbdeEPI[EPI],TbdeEPI[TIPO],"Produção",0) -> Produção | H105: ROBSON | I105: ALEXANDRE | K105: =COUNTIF($I$2:I105,I105) -> 3 | L105: =ControleProdução[[#This Row],[Recebido Por]]&ControleProdução[[#This Row],[Qtd]] -> ALEXANDRE3
A106: 45210 | B106: =UPPER(TEXT(ControleProdução[[#This Row],[Data]],"mmm")) -> OUT | C106: =YEAR(ControleProdução[[#This Row],[Data]]) -> 2023 | D106: SAÍDA | E106: ALICATE DE CORTE P/JOIAS | F106: 1 | G106: =_xlfn.XLOOKUP(E106,TbdeEPI[EPI],TbdeEPI[TIPO],"Produção",0) -> Produção | H106: RHUAN | I106: ALEXANDRE | K106: =COUNTIF($I$2:I106,I106) -> 4 | L106: =ControleProdução[[#This Row],[Recebido Por]]&ControleProdução[[#This Row],[Qtd]] -> ALEXANDRE4
A107: 45210 | B107: =UPPER(TEXT(ControleProdução[[#This Row],[Data]],"mmm")) -> OUT | C107: =YEAR(ControleProdução[[#This Row],[Data]]) -> 2023 | D107: SAÍDA | E107: DEDEIRA LUVA | F107: 3 | G107: =_xlfn.XLOOKUP(E107,TbdeEPI[EPI],TbdeEPI[TIPO],"Produção",0) -> Produção | H107: RHUAN | I107: ALEXANDRE | K107: =COUNTIF($I$2:I107,I107) -> 5 | L107: =ControleProdução[[#This Row],[Recebido Por]]&ControleProdução[[#This Row],[Qtd]] -> ALEXANDRE5
A108: 45210 | B108: =UPPER(TEXT(ControleProdução[[#This Row],[Data]],"mmm")) -> OUT | C108: =YEAR(ControleProdução[[#This Row],[Data]]) -> 2023 | D108: SAÍDA | E108: PINÇA DE BANCADA | F108: 1 | G108: =_xlfn.XLOOKUP(E108,TbdeEPI[EPI],TbdeEPI[TIPO],"Produção",0) -> Produção | H108: RHUAN | I108: ALEXANDRE | K108: =COUNTIF($I$2:I108,I108) -> 6 | L108: =ControleProdução[[#This Row],[Recebido Por]]&ControleProdução[[#This Row],[Qtd]] -> ALEXANDRE6
A109: 45210 | B109: =UPPER(TEXT(ControleProdução[[#This Row],[Data]],"mmm")) -> OUT | C109: =YEAR(ControleProdução[[#This Row],[Data]]) -> 2023 | D109: SAÍDA | E109: DEDEIRA LUVA | F109: 6 | G109: =_xlfn.XLOOKUP(E109,TbdeEPI[EPI],TbdeEPI[TIPO],"Produção",0) -> Produção | H109: RHUAN | I109: ALAN | K109: =COUNTIF($I$2:I109,I109) -> 8 | L109: =ControleProdução[[#This Row],[Recebido Por]]&ControleProdução[[#This Row],[Qtd]] -> ALAN8
A110: 45210 | B110: =UPPER(TEXT(ControleProdução[[#This Row],[Data]],"mmm")) -> OUT | C110: =YEAR(ControleProdução[[#This Row],[Data]]) -> 2023 | D110: SAÍDA | E110: LIXA 400 | F110: 1 | G110: =_xlfn.XLOOKUP(E110,TbdeEPI[EPI],TbdeEPI[TIPO],"Produção",0) -> Produção | H110: RHUAN | I110: ALAN | K110: =COUNTIF($I$2:I110,I110) -> 9 | L110: =ControleProdução[[#This Row],[Recebido Por]]&ControleProdução[[#This Row],[Qtd]] -> ALAN9
A111: 45211 | B111: =UPPER(TEXT(ControleProdução[[#This Row],[Data]],"mmm")) -> OUT | C111: =YEAR(ControleProdução[[#This Row],[Data]]) -> 2023 | D111: SAÍDA | E111: CONE 62 | F111: 1 | G111: =_xlfn.XLOOKUP(E111,TbdeEPI[EPI],TbdeEPI[TIPO],"Produção",0) -> Produção | H111: RHUAN | I111: FELIPE | K111: =COUNTIF($I$2:I111,I111) -> 36 | L111: =ControleProdução[[#This Row],[Recebido Por]]&ControleProdução[[#This Row],[Qtd]] -> FELIPE36
A112: 45211 | B112: =UPPER(TEXT(ControleProdução[[#This Row],[Data]],"mmm")) -> OUT | C112: =YEAR(ControleProdução[[#This Row],[Data]]) -> 2023 | D112: SAÍDA | E112: RODA JEANS (P) | F112: 1 | G112: =_xlfn.XLOOKUP(E112,TbdeEPI[EPI],TbdeEPI[TIPO],"Produção",0) -> Produção | H112: RHUAN | I112: FELIPE | K112: =COUNTIF($I$2:I112,I112) -> 37 | L112: =ControleProdução[[#This Row],[Recebido Por]]&ControleProdução[[#This Row],[Qtd]] -> FELIPE37
A113: 45211 | B113: =UPPER(TEXT(ControleProdução[[#This Row],[Data]],"mmm")) -> OUT | C113: =YEAR(ControleProdução[[#This Row],[Data]]) -> 2023 | D113: SAÍDA | E113: RODA DE FELTRO | F113: 1 | G113: =_xlfn.XLOOKUP(E113,TbdeEPI[EPI],TbdeEPI[TIPO],"Produção",0) -> Produção | H113: RHUAN | I113: FELIPE | K113: =COUNTIF($I$2:I113,I113) -> 38 | L113: =ControleProdução[[#This Row],[Recebido Por]]&ControleProdução[[#This Row],[Qtd]] -> FELIPE38
A114: 45211 | B114: =UPPER(TEXT(ControleProdução[[#This Row],[Data]],"mmm")) -> OUT | C114: =YEAR(ControleProdução[[#This Row],[Data]]) -> 2023 | D114: SAÍDA | E114: LIXA P1200 | F114: 5 | G114: =_xlfn.XLOOKUP(E114,TbdeEPI[EPI],TbdeEPI[TIPO],"Produção",0) -> Produção | H114: RHUAN | I114: FELIPE | K114: =COUNTIF($I$2:I114,I114) -> 39 | L114: =ControleProdução[[#This Row],[Recebido Por]]&ControleProdução[[#This Row],[Qtd]] -> FELIPE39
A115: 45211 | B115: =UPPER(TEXT(ControleProdução[[#This Row],[Data]],"mmm")) -> OUT | C115: =YEAR(ControleProdução[[#This Row],[Data]]) -> 2023 | D115: SAÍDA | E115: ESPARADRAPO | F115: 1 | G115: =_xlfn.XLOOKUP(E115,TbdeEPI[EPI],TbdeEPI[TIPO],"Produção",0) -> Produção | H115: RHUAN | I115: FELIPE | K115: =COUNTIF($I$2:I115,I115) -> 40 | L115: =ControleProdução[[#This Row],[Recebido Por]]&ControleProdução[[#This Row],[Qtd]] -> FELIPE40
... A254: 45229 | B254: =UPPER(TEXT(ControleProdução[[#This Row],[Data]],"mmm")) -> OUT | C254: =YEAR(ControleProdução[[#This Row],[Data]]) -> 2023 | D254: SAÍDA | E254: RODA DE LUSTRE | F254: 1 | G254: =_xlfn.XLOOKUP(E254,TbdeEPI[EPI],TbdeEPI[TIPO],"Produção",0) -> Produção | H254: RHUAN | I254: ALAIM | K254: =COUNTIF($I$2:I254,I254) -> 10 | L254: =ControleProdução[[#This Row],[Recebido Por]]&ControleProdução[[#This Row],[Qtd]] -> ALAIM10
A255: 45230 | B255: OUT | C255: =YEAR(ControleProdução[[#This Row],[Data]]) -> 2023 | D255: SAÍDA | E255: CONE 62 | F255: 2 | G255: =_xlfn.XLOOKUP(E255,TbdeEPI[EPI],TbdeEPI[TIPO],"Produção",0) -> Produção | H255: RHUAN | I255: RAFAEL | K255: =COUNTIF($I$2:I255,I255) -> 3 | L255: =ControleProdução[[#This Row],[Recebido Por]]&ControleProdução[[#This Row],[Qtd]] -> RAFAEL3
A256: 45230 | B256: OUT | C256: =YEAR(ControleProdução[[#This Row],[Data]]) -> 2023 | D256: SAÍDA | E256: BISTURI | F256: 1 | G256: =_xlfn.XLOOKUP(E256,TbdeEPI[EPI],TbdeEPI[TIPO],"Produção",0) -> Produção | H256: RHUAN | I256: RAFAEL | K256: =COUNTIF($I$2:I256,I256) -> 4 | L256: =ControleProdução[[#This Row],[Recebido Por]]&ControleProdução[[#This Row],[Qtd]] -> RAFAEL4
A257: 45230 | B257: OUT | C257: =YEAR(ControleProdução[[#This Row],[Data]]) -> 2023 | D257: SAÍDA | E257: MÁSCARA | F257: 1 | G257: =_xlfn.XLOOKUP(E257,TbdeEPI[EPI],TbdeEPI[TIPO],"Produção",0) -> EPI | H257: RHUAN | I257: MOISES | K257: =COUNTIF($I$2:I257,I257) -> 10 | L257: =ControleProdução[[#This Row],[Recebido Por]]&ControleProdução[[#This Row],[Qtd]] -> MOISES10
A258: 45230 | B258: OUT | C258: =YEAR(ControleProdução[[#This Row],[Data]]) -> 2023 | D258: SAÍDA | E258: LIXA 400 | F258: 6 | G258: =_xlfn.XLOOKUP(E258,TbdeEPI[EPI],TbdeEPI[TIPO],"Produção",0) -> Produção | H258: RHUAN | I258: JOÃO CARLOS | K258: =COUNTIF($I$2:I258,I258) -> 10 | L258: =ControleProdução[[#This Row],[Recebido Por]]&ControleProdução[[#This Row],[Qtd]] -> JOÃO CARLOS10
A259: 45230 | B259: OUT | C259: =YEAR(ControleProdução[[#This Row],[Data]]) -> 2023 | D259: SAÍDA | E259: CONE 60 | F259: 1 | G259: =_xlfn.XLOOKUP(E259,TbdeEPI[EPI],TbdeEPI[TIPO],"Produção",0) -> Produção | H259: RHUAN | I259: FELIPE | K259: =COUNTIF($I$2:I259,I259) -> 88 | L259: =ControleProdução[[#This Row],[Recebido Por]]&ControleProdução[[#This Row],[Qtd]] -> FELIPE88
A260: 45230 | B260: =UPPER(TEXT(ControleProdução[[#This Row],[Data]],"mmm")) -> OUT | C260: =YEAR(ControleProdução[[#This Row],[Data]]) -> 2023 | D260: SAÍDA | E260: LIXA P1200 | F260: 1 | G260: =_xlfn.XLOOKUP(E260,TbdeEPI[EPI],TbdeEPI[TIPO],"Produção",0) -> Produção | H260: RHUAN | I260: ALAN | K260: =COUNTIF($I$2:I260,I260) -> 22 | L260: =ControleProdução[[#This Row],[Recebido Por]]&ControleProdução[[#This Row],[Qtd]] -> ALAN22
A261: 45230 | B261: =UPPER(TEXT(ControleProdução[[#This Row],[Data]],"mmm")) -> OUT | C261: =YEAR(ControleProdução[[#This Row],[Data]]) -> 2023 | D261: ENTRADA | E261: FIXADOR PARA CABELOS EXTRA FORTE (JATO SECO) | F261: 3 | G261: =_xlfn.XLOOKUP(E261,TbdeEPI[EPI],TbdeEPI[TIPO],"Produção",0) -> Produção | H261: ROBSON | I261: RHUAN | K261: =COUNTIF($I$2:I261,I261) -> 39 | L261: =ControleProdução[[#This Row],[Recebido Por]]&ControleProdução[[#This Row],[Qtd]] -> RHUAN39
...

Sheet Epi's
A1: CONTROLE DE EPI'S
A2: Data | B2: Equipamento | C2: Qtde. | D2: Observação | E2: Assinatura

Sheet Materias
A1: CONTROLE DE MATERIAIS
A2: Data | B2: Equipamento | C2: Qtde. | D2: Observação | E2: Assinatura

Sheet Funcionários
A1: Nome do Funcionário
A2: SUDEMAR TEIXEIRA DOS SANTOS | B2: TEIXEIRA | C2: SUDEMAR | D2: TEIXEIRA | E2: DOS | F2: SANTOS
A3: CLODIUS ROBERTO PEREIRA FILHO | B3: ROBERTO | C3: CLODIUS | D3: ROBERTO | E3: PEREIRA | F3: FILHO
A4: DANIELA NOGUEIRA DE LIMA | B4: DANIELA | C4: DANIELA | D4: NOGUEIRA | E4: DE | F4: LIMA
A5: EDIMA FERREIRA DE MENEZES | B5: EDIMA | C5: EDIMA | D5: FERREIRA | E5: DE | F5: MENEZES
A6: JAQUELINE DA COSTA VILACO | B6: JAQUELINE | C6: JAQUELINE | D6: DA | E6: COSTA | F6: VILACO
A7: ALDENOR SANTOS DE JESUS | B7: ALDENOR | C7: ALDENOR | D7: SANTOS | E7: DE | F7: JESUS
A8: ALESSANDRA GOMES TAVARES BATISTA | B8: ALESSANDRA | C8: ALESSANDRA | D8: GOMES | E8: TAVARES | F8: BATISTA
A9: ANTONIO MENEZES RODRIGUES | B9: ANTONIO | C9: ANTONIO | D9: MENEZES | E9: RODRIGUES
A10: ARTHUR EMANUEL ALMEIDA GUEDES | B10: ARTHUR | C10: ARTHUR | D10: EMANUEL | E10: ALMEIDA | F10: GUEDES
A11: NEURILENE DE CASTRO ARAUJO | B11: NEURILENE | C11: NEURILENE | D11: DE | E11: CASTRO | F11: ARAUJO
A12: JAIME FERREIRA RIBEIRO | B12: JAIME | C12: JAIME | D12: FERREIRA | E12: RIBEIRO
A13: JOAO CARLOS REPOLHO DE LIMA | B13: JOAO CARLOS | C13: JOAO | D13: CARLOS | E13: REPOLHO | F13: DE | G13: LIMA
A14: MANUA DERIQUE PENALBER | B14: MANUA | C14: MANUA | D14: DERIQUE | E14: PENALBER
A15: ELISSANDRA DOS SANTOS DA SILVA | B15: ELISSANDRA | C15: ELISSANDRA | D15: DOS | E15: SANTOS | F15: DA | G15: SILVA
A16: ASNAN SANTOS SILVA | B16: ASNAN | C16: ASNAN | D16: SANTOS | E16: SILVA
A17: CINTHIA CRISTINA DOS SANTOS FERREIRA | B17: CINTHIA | C17: CINTHIA | D17: CRISTINA | E17: DOS | F17: SANTOS | G17: FERREIRA
A18: ROBSON DE JESUS COSTA | B18: ROBSON | C18: ROBSON | D18: DE | E18: JESUS | F18: COSTA
A19: JUCIELY DA SILVA DOS SANTOS | B19: JUCIELY | C19: JUCIELY | D19: DA | E19: SILVA | F19: DOS | G19: SANTOS
A20: ADRIANO LUCAS PASSOS DA SILVA | B20: ADRIANO | C20: ADRIANO | D20: LUCAS | E20: PASSOS | F20: DA | G20: SILVA
A21: DEISIANE CRISTINA OLIVEIRA DE ALBUQUERQU | B21: DEISIANE | C21: DEISIANE | D21: CRISTINA | E21: OLIVEIRA | F21: DE | G21: ALBUQUERQU
A22: ELINGTON OLIVEIRA SILVA | B22: ELINGTON | C22: ELINGTON | D22: OLIVEIRA | E22: SILVA
A23: GILDSON DA SILVA FLORIANO | B23: GILDSON | C23: GILDSON | D23: DA | E23: SILVA | F23: FLORIANO
A24: JOYCE NONATO MONTEIRO | B24: JOYCE | C24: JOYCE | D24: NONATO | E24: MONTEIRO
A25: ALEX CIPRIANO DA SILVA LUZ | B25: ALEX | C25: ALEX | D25: CIPRIANO | E25: DA | F25: SILVA | G25: LUZ
A26: LEONARDO VIEIRA CORREA | B26: LEONARDO | C26: LEONARDO | D26: VIEIRA | E26: CORREA
A27: ALAIM NOGUEIRA DE LIMA | B27: ALAIM | C27: ALAIM | D27: NOGUEIRA | E27: DE | F27: LIMA
A28: JEFERSON HAIDEN DA SILVA | B28: JEFERSON | C28: JEFERSON | D28: HAIDEN | E28: DA | F28: SILVA
A29: LEANDRO DA SILVA BATALHA NETO | B29: LEANDRO | C29: LEANDRO | D29: DA | E29: SILVA | F29: BATALHA | G29: NETO
A30: AMANDA DA SILVA RODRIGUES | B30: AMANDA | C30: AMANDA | D30: DA | E30: SILVA | F30: RODRIGUES
A31: JACIRENE TAVARES LIMA | B31: JACIRENE | C31: JACIRENE | D31: TAVARES | E31: LIMA
A32: KAYLA REBECA SILVA PINHEIRO | B32: KAYLA | C32: KAYLA | D32: REBECA | E32: SILVA | F32: PINHEIRO
A33: MATHEUS LUCAS NUNES BALIEIRO BARATA | B33: =C33&" "&D33 -> MATHEUS LUCAS | C33: MATHEUS | D33: LUCAS | E33: NUNES | F33: BALIEIRO | G33: BARATA
A34: MOISES DE SOUZA OLIVEIRA | B34: MOISES | C34: MOISES | D34: DE | E34: SOUZA | F34: OLIVEIRA
A35: RHUAN SANTOS ALVES | B35: RHUAN | C35: RHUAN | D35: SANTOS | E35: ALVES
A36: GLAUSE DA SILVA MODESTO | B36: GLAUSE | C36: GLAUSE | D36: DA | E36: SILVA | F36: MODESTO
A37: ALAN DOS SANTOS OLIVEIRA | B37: ALAN | C37: ALAN | D37: DOS | E37: SANTOS | F37: OLIVEIRA
A38: JOSE ORLANDO ALVES DE SOUZA | B38: =C38&" "&D38 -> JOSE ORLANDO | C38: JOSE | D38: ORLANDO | E38: ALVES | F38: DE | G38: SOUZA
A39: CALEB FERREIRA VALENTE | B39: CALEB | C39: CALEB | D39: FERREIRA | E39: VALENTE
A40: ELOISA FERREIRA DA SILVA | B40: ELOISA | C40: ELOISA | D40: FERREIRA | E40: DA | F40: SILVA
...

Sheet MATERIAIS
A1: PRODUTO | B1: SAÍDA | C1: entrada | D1: Desempate1 | E1: Desempate2 | F1: Pessoa
A2: AGULHA HIPODÉRMICA | B2: =IFERROR(IF($I$3="Todos",SUMIFS(TblMovi[QUANTIDADE],TblMovi[Equipamento],A2,TblMovi[ANO],MATERIAIS!$I$2,TblMovi[TIPO],$B$1),SUMIFS(TblMovi[QUANTIDADE],TblMovi[Equipamento],A2,TblMovi[ANO],MATERIAIS!$I$2,TblMovi[MÊS],MATERIAIS!$I$3,TblMovi[TIPO],$B$1)),"") -> 0 | C2: =IFERROR(IF($I$3="Todos",SUMIFS(TblMovi[QUANTIDADE],TblMovi[Equipamento],A2,TblMovi[ANO],MATERIAIS!$I$2,TblMovi[TIPO],$C$1),SUMIFS(TblMovi[QUANTIDADE],TblMovi[Equipamento],A2,TblMovi[ANO],MATERIAIS!$I$2,TblMovi[MÊS],MATERIAIS!$I$3,TblMovi[TIPO],$C$1)),"") -> 0 | D2: =IF(B2<>0,INDEX(TblEstoque[Estq. Inicial],MATCH(MATERIAIS!A2,TblEstoque[Equipamento],0))+B2,"") | E2: =IF(C2<>0,INDEX(TblEstoque[Estq. Inicial],MATCH(MATERIAIS!A2,TblEstoque[Equipamento],0))+C2,"") | H2: ANO | I2: =AUX!B1 -> 2024
A3: ALGODÃO HIDRÓFILO | B3: =IFERROR(IF($I$3="Todos",SUMIFS(TblMovi[QUANTIDADE],TblMovi[Equipamento],A3,TblMovi[ANO],MATERIAIS!$I$2,TblMovi[TIPO],$B$1),SUMIFS(TblMovi[QUANTIDADE],TblMovi[Equipamento],A3,TblMovi[ANO],MATERIAIS!$I$2,TblMovi[MÊS],MATERIAIS!$I$3,TblMovi[TIPO],$B$1)),"") -> 0 | C3: =IFERROR(IF($I$3="Todos",SUMIFS(TblMovi[QUANTIDADE],TblMovi[Equipamento],A3,TblMovi[ANO],MATERIAIS!$I$2,TblMovi[TIPO],$C$1),SUMIFS(TblMovi[QUANTIDADE],TblMovi[Equipamento],A3,TblMovi[ANO],MATERIAIS!$I$2,TblMovi[MÊS],MATERIAIS!$I$3,TblMovi[TIPO],$C$1)),"") -> 0 | D3: =IF(B3<>0,INDEX(TblEstoque[Estq. Inicial],MATCH(MATERIAIS!A3,TblEstoque[Equipamento],0))+B3,"") | E3: =IF(C3<>0,INDEX(TblEstoque[Estq. Inicial],MATCH(MATERIAIS!A3,TblEstoque[Equipamento],0))+C3,"") | H3: MÊS | I3: =AUX!B2 -> FEV
A4: ALICATE DE CORTE DIAGONAL | B4: =IFERROR(IF($I$3="Todos",SUMIFS(TblMovi[QUANTIDADE],TblMovi[Equipamento],A4,TblMovi[ANO],MATERIAIS!$I$2,TblMovi[TIPO],$B$1),SUMIFS(TblMovi[QUANTIDADE],TblMovi[Equipamento],A4,TblMovi[ANO],MATERIAIS!$I$2,TblMovi[MÊS],MATERIAIS!$I$3,TblMovi[TIPO],$B$1)),"") -> 0 | C4: =IFERROR(IF($I$3="Todos",SUMIFS(TblMovi[QUANTIDADE],TblMovi[Equipamento],A4,TblMovi[ANO],MATERIAIS!$I$2,TblMovi[TIPO],$C$1),SUMIFS(TblMovi[QUANTIDADE],TblMovi[Equipamento],A4,TblMovi[ANO],MATERIAIS!$I$2,TblMovi[MÊS],MATERIAIS!$I$3,TblMovi[TIPO],$C$1)),"") -> 0 | D4: =IF(B4<>0,INDEX(TblEstoque[Estq. Inicial],MATCH(MATERIAIS!A4,TblEstoque[Equipamento],0))+B4,"") | E4: =IF(C4<>0,INDEX(TblEstoque[Estq. Inicial],MATCH(MATERIAIS!A4,TblEstoque[Equipamento],0))+C4,"")
A5: ALICATE DE CORTE P/JOIAS | B5: =IFERROR(IF($I$3="Todos",SUMIFS(TblMovi[QUANTIDADE],TblMovi[Equipamento],A5,TblMovi[ANO],MATERIAIS!$I$2,TblMovi[TIPO],$B$1),SUMIFS(TblMovi[QUANTIDADE],TblMovi[Equipamento],A5,TblMovi[ANO],MATERIAIS!$I$2,TblMovi[MÊS],MATERIAIS!$I$3,TblMovi[TIPO],$B$1)),"") -> 0 | C5: =IFERROR(IF($I$3="Todos",SUMIFS(TblMovi[QUANTIDADE],TblMovi[Equipamento],A5,TblMovi[ANO],MATERIAIS!$I$2,TblMovi[TIPO],$C$1),SUMIFS(TblMovi[QUANTIDADE],TblMovi[Equipamento],A5,TblMovi[ANO],MATERIAIS!$I$2,TblMovi[MÊS],MATERIAIS!$I$3,TblMovi[TIPO],$C$1)),"") -> 0 | D5: =IF(B5<>0,INDEX(TblEstoque[Estq. Inicial],MATCH(MATERIAIS!A5,TblEstoque[Equipamento],0))+B5,"") | E5: =IF(C5<>0,INDEX(TblEstoque[Estq. Inicial],MATCH(MATERIAIS!A5,TblEstoque[Equipamento],0))+C5,"") | L5: SAIDA | M5: ENTRADA | O5: Estoque
A6: ALICATE 1/2 CANA | B6: =IFERROR(IF($I$3="Todos",SUMIFS(TblMovi[QUANTIDADE],TblMovi[Equipamento],A6,TblMovi[ANO],MATERIAIS!$I$2,TblMovi[TIPO],$B$1),SUMIFS(TblMovi[QUANTIDADE],TblMovi[Equipamento],A6,TblMovi[ANO],MATERIAIS!$I$2,TblMovi[MÊS],MATERIAIS!$I$3,TblMovi[TIPO],$B$1)),"") -> 0 | C6: =IFERROR(IF($I$3="Todos",SUMIFS(TblMovi[QUANTIDADE],TblMovi[Equipamento],A6,TblMovi[ANO],MATERIAIS!$I$2,TblMovi[TIPO],$C$1),SUMIFS(TblMovi[QUANTIDADE],TblMovi[Equipamento],A6,TblMovi[ANO],MATERIAIS!$I$2,TblMovi[MÊS],MATERIAIS!$I$3,TblMovi[TIPO],$C$1)),"") -> 0 | D6: =IF(B6<>0,INDEX(TblEstoque[Estq. Inicial],MATCH(MATERIAIS!A6,TblEstoque[Equipamento],0))+B6,"") | E6: =IF(C6<>0,INDEX(TblEstoque[Estq. Inicial],MATCH(MATERIAIS!A6,TblEstoque[Equipamento],0))+C6,"") | K6: 1 | L6: =IFERROR(LARGE(D:D,K6),"") -> 285 | M6: =IFERROR(LARGE(E:E,K6),"") -> 405 | N6: =IFERROR(INDEX(A:A,MATCH(L6,D:D,0)),"") -> LIXA P1200 | O6: =INDEX(TblEstoque[Estq. Final],MATCH(N6,TblEstoque[Equipamento],0)) -> 95
A7: ALICATE DE CORTE | B7: =IFERROR(IF($I$3="Todos",SUMIFS(TblMovi[QUANTIDADE],TblMovi[Equipamento],A7,TblMovi[ANO],MATERIAIS!$I$2,TblMovi[TIPO],$B$1),SUMIFS(TblMovi[QUANTIDADE],TblMovi[Equipamento],A7,TblMovi[ANO],MATERIAIS!$I$2,TblMovi[MÊS],MATERIAIS!$I$3,TblMovi[TIPO],$B$1)),"") -> 0 | C7: =IFERROR(IF($I$3="Todos",SUMIFS(TblMovi[QUANTIDADE],TblMovi[Equipamento],A7,TblMovi[ANO],MATERIAIS!$I$2,TblMovi[TIPO],$C$1),SUMIFS(TblMovi[QUANTIDADE],TblMovi[Equipamento],A7,TblMovi[ANO],MATERIAIS!$I$2,TblMovi[MÊS],MATERIAIS!$I$3,TblMovi[TIPO],$C$1)),"") -> 0 | D7: =IF(B7<>0,INDEX(TblEstoque[Estq. Inicial],MATCH(MATERIAIS!A7,TblEstoque[Equipamento],0))+B7,"") | E7: =IF(C7<>0,INDEX(TblEstoque[Estq. Inicial],MATCH(MATERIAIS!A7,TblEstoque[Equipamento],0))+C7,"") | K7: 2 | L7: =IFERROR(LARGE(D:D,K7),"") -> 215 | M7: =IFERROR(LARGE(E:E,K7),"") -> 226 | N7: =IFERROR(INDEX(A:A,MATCH(L7,D:D,0)),"") -> LIXA 400 | O7: =INDEX(TblEstoque[Estq. Final],MATCH(N7,TblEstoque[Equipamento],0)) -> 290
A8: AGULHA DE MAGNETO | B8: =IFERROR(IF($I$3="Todos",SUMIFS(TblMovi[QUANTIDADE],TblMovi[Equipamento],A8,TblMovi[ANO],MATERIAIS!$I$2,TblMovi[TIPO],$B$1),SUMIFS(TblMovi[QUANTIDADE],TblMovi[Equipamento],A8,TblMovi[ANO],MATERIAIS!$I$2,TblMovi[MÊS],MATERIAIS!$I$3,TblMovi[TIPO],$B$1)),"") -> 0 | C8: =IFERROR(IF($I$3="Todos",SUMIFS(TblMovi[QUANTIDADE],TblMovi[Equipamento],A8,TblMovi[ANO],MATERIAIS!$I$2,TblMovi[TIPO],$C$1),SUMIFS(TblMovi[QUANTIDADE],TblMovi[Equipamento],A8,TblMovi[ANO],MATERIAIS!$I$2,TblMovi[MÊS],MATERIAIS!$I$3,TblMovi[TIPO],$C$1)),"") -> 0 | D8: =IF(B8<>0,INDEX(TblEstoque[Estq. Inicial],MATCH(MATERIAIS!A8,TblEstoque[Equipamento],0))+B8,"") | E8: =IF(C8<>0,INDEX(TblEstoque[Estq. Inicial],MATCH(MATERIAIS!A8,TblEstoque[Equipamento],0))+C8,"") | K8: 3 | L8: =IFERROR(LARGE(D:D,K8),"") -> 128 | M8: =IFERROR(LARGE(E:E,K8),"") -> 200 | N8: =IFERROR(INDEX(A:A,MATCH(L8,D:D,0)),"") -> LIXA 600 | O8: =INDEX(TblEstoque[Estq. Final],MATCH(N8,TblEstoque[Equipamento],0)) -> 158
A9: BISTURI | B9: =IFERROR(IF($I$3="Todos",SUMIFS(TblMovi[QUANTIDADE],TblMovi[Equipamento],A9,TblMovi[ANO],MATERIAIS!$I$2,TblMovi[TIPO],$B$1),SUMIFS(TblMovi[QUANTIDADE],TblMovi[Equipamento],A9,TblMovi[ANO],MATERIAIS!$I$2,TblMovi[MÊS],MATERIAIS!$I$3,TblMovi[TIPO],$B$1)),"") -> 40 | C9: =IFERROR(IF($I$3="Todos",SUMIFS(TblMovi[QUANTIDADE],TblMovi[Equipamento],A9,TblMovi[ANO],MATERIAIS!$I$2,TblMovi[TIPO],$C$1),SUMIFS(TblMovi[QUANTIDADE],TblMovi[Equipamento],A9,TblMovi[ANO],MATERIAIS!$I$2,TblMovi[MÊS],MATERIAIS!$I$3,TblMovi[TIPO],$C$1)),"") -> 200 | D9: =IF(B9<>0,INDEX(TblEstoque[Estq. Inicial],MATCH(MATERIAIS!A9,TblEstoque[Equipamento],0))+B9,"") -> 40 | E9: =IF(C9<>0,INDEX(TblEstoque[Estq. Inicial],MATCH(MATERIAIS!A9,TblEstoque[Equipamento],0))+C9,"") -> 200 | K9: 4 | L9: =IFERROR(LARGE(D:D,K9),"") -> 101 | M9: =IFERROR(LARGE(E:E,K9),"") -> 177 | N9: =IFERROR(INDEX(A:A,MATCH(L9,D:D,0)),"") -> LIXA 280 | O9: =INDEX(TblEstoque[Estq. Final],MATCH(N9,TblEstoque[Equipamento],0)) -> 70
A10: BOMBA DE AR | B10: =IFERROR(IF($I$3="Todos",SUMIFS(TblMovi[QUANTIDADE],TblMovi[Equipamento],A10,TblMovi[ANO],MATERIAIS!$I$2,TblMovi[TIPO],$B$1),SUMIFS(TblMovi[QUANTIDADE],TblMovi[Equipamento],A10,TblMovi[ANO],MATERIAIS!$I$2,TblMovi[MÊS],MATERIAIS!$I$3,TblMovi[TIPO],$B$1)),"") -> 0 | C10: =IFERROR(IF($I$3="Todos",SUMIFS(TblMovi[QUANTIDADE],TblMovi[Equipamento],A10,TblMovi[ANO],MATERIAIS!$I$2,TblMovi[TIPO],$C$1),SUMIFS(TblMovi[QUANTIDADE],TblMovi[Equipamento],A10,TblMovi[ANO],MATERIAIS!$I$2,TblMovi[MÊS],MATERIAIS!$I$3,TblMovi[TIPO],$C$1)),"") -> 0 | D10: =IF(B10<>0,INDEX(TblEstoque[Estq. Inicial],MATCH(MATERIAIS!A10,TblEstoque[Equipamento],0))+B10,"") | E10: =IF(C10<>0,INDEX(TblEstoque[Estq. Inicial],MATCH(MATERIAIS!A10,TblEstoque[Equipamento],0))+C10,"") | K10: 5 | L10: =IFERROR(LARGE(D:D,K10),"") -> 62 | M10: =IFERROR(LARGE(E:E,K10),"") -> 61 | N10: =IFERROR(INDEX(A:A,MATCH(L10,D:D,0)),"") -> RODA JEANS (G) | O10: =INDEX(TblEstoque[Estq. Final],MATCH(N10,TblEstoque[Equipamento],0)) -> 0
A11: BOMBA DE VACUO | B11: =IFERROR(IF($I$3="Todos",SUMIFS(TblMovi[QUANTIDADE],TblMovi[Equipamento],A11,TblMovi[ANO],MATERIAIS!$I$2,TblMovi[TIPO],$B$1),SUMIFS(TblMovi[QUANTIDADE],TblMovi[Equipamento],A11,TblMovi[ANO],MATERIAIS!$I$2,TblMovi[MÊS],MATERIAIS!$I$3,TblMovi[TIPO],$B$1)),"") -> 0 | C11: =IFERROR(IF($I$3="Todos",SUMIFS(TblMovi[QUANTIDADE],TblMovi[Equipamento],A11,TblMovi[ANO],MATERIAIS!$I$2,TblMovi[TIPO],$C$1),SUMIFS(TblMovi[QUANTIDADE],TblMovi[Equipamento],A11,TblMovi[ANO],MATERIAIS!$I$2,TblMovi[MÊS],MATERIAIS!$I$3,TblMovi[TIPO],$C$1)),"") -> 0 | D11: =IF(B11<>0,INDEX(TblEstoque[Estq. Inicial],MATCH(MATERIAIS!A11,TblEstoque[Equipamento],0))+B11,"") | E11: =IF(C11<>0,INDEX(TblEstoque[Estq. Inicial],MATCH(MATERIAIS!A11,TblEstoque[Equipamento],0))+C11,"") | K11: 6 | L11: =IFERROR(LARGE(D:D,K11),"") -> 44 | M11: =IFERROR(LARGE(E:E,K11),"") -> 58 | N11: =IFERROR(INDEX(A:A,MATCH(L11,D:D,0)),"") -> MÁSCARA | O11: =INDEX(TblEstoque[Estq. Final],MATCH(N11,TblEstoque[Equipamento],0)) -> 5
A12: BROCA 0.50 MM (10 PCS.) | B12: =IFERROR(IF($I$3="Todos",SUMIFS(TblMovi[QUANTIDADE],TblMovi[Equipamento],A12,TblMovi[ANO],MATERIAIS!$I$2,TblMovi[TIPO],$B$1),SUMIFS(TblMovi[QUANTIDADE],TblMovi[Equipamento],A12,TblMovi[ANO],MATERIAIS!$I$2,TblMovi[MÊS],MATERIAIS!$I$3,TblMovi[TIPO],$B$1)),"") -> 0 | C12: =IFERROR(IF($I$3="Todos",SUMIFS(TblMovi[QUANTIDADE],TblMovi[Equipamento],A12,TblMovi[ANO],MATERIAIS!$I$2,TblMovi[TIPO],$C$1),SUMIFS(TblMovi[QUANTIDADE],TblMovi[Equipamento],A12,TblMovi[ANO],MATERIAIS!$I$2,TblMovi[MÊS],MATERIAIS!$I$3,TblMovi[TIPO],$C$1)),"") -> 0 | D12: =IF(B12<>0,INDEX(TblEstoque[Estq. Inicial],MATCH(MATERIAIS!A12,TblEstoque[Equipamento],0))+B12,"") | E12: =IF(C12<>0,INDEX(TblEstoque[Estq. Inicial],MATCH(MATERIAIS!A12,TblEstoque[Equipamento],0))+C12,"")
A13: BROCA 0.50 MM (9 PCS.) | B13: =IFERROR(IF($I$3="Todos",SUMIFS(TblMovi[QUANTIDADE],TblMovi[Equipamento],A13,TblMovi[ANO],MATERIAIS!$I$2,TblMovi[TIPO],$B$1),SUMIFS(TblMovi[QUANTIDADE],TblMovi[Equipamento],A13,TblMovi[ANO],MATERIAIS!$I$2,TblMovi[MÊS],MATERIAIS!$I$3,TblMovi[TIPO],$B$1)),"") -> 0 | C13: =IFERROR(IF($I$3="Todos",SUMIFS(TblMovi[QUANTIDADE],TblMovi[Equipamento],A13,TblMovi[ANO],MATERIAIS!$I$2,TblMovi[TIPO],$C$1),SUMIFS(TblMovi[QUANTIDADE],TblMovi[Equipamento],A13,TblMovi[ANO],MATERIAIS!$I$2,TblMovi[MÊS],MATERIAIS!$I$3,TblMovi[TIPO],$C$1)),"") -> 0 | D13: =IF(B13<>0,INDEX(TblEstoque[Estq. Inicial],MATCH(MATERIAIS!A13,TblEstoque[Equipamento],0))+B13,"") | E13: =IF(C13<>0,INDEX(TblEstoque[Estq. Inicial],MATCH(MATERIAIS!A13,TblEstoque[Equipamento],0))+C13,"")
A14: BROCA 0.6 MM (10 PCS.) | B14: =IFERROR(IF($I$3="Todos",SUMIFS(TblMovi[QUANTIDADE],TblMovi[Equipamento],A14,TblMovi[ANO],MATERIAIS!$I$2,TblMovi[TIPO],$B$1),SUMIFS(TblMovi[QUANTIDADE],TblMovi[Equipamento],A14,TblMovi[ANO],MATERIAIS!$I$2,TblMovi[MÊS],MATERIAIS!$I$3,TblMovi[TIPO],$B$1)),"") -> 0 | C14: =IFERROR(IF($I$3="Todos",SUMIFS(TblMovi[QUANTIDADE],TblMovi[Equipamento],A14,TblMovi[ANO],MATERIAIS!$I$2,TblMovi[TIPO],$C$1),SUMIFS(TblMovi[QUANTIDADE],TblMovi[Equipamento],A14,TblMovi[ANO],MATERIAIS!$I$2,TblMovi[MÊS],MATERIAIS!$I$3,TblMovi[TIPO],$C$1)),"") -> 0 | D14: =IF(B14<>0,INDEX(TblEstoque[Estq. Inicial],MATCH(MATERIAIS!A14,TblEstoque[Equipamento],0))+B14,"") | E14: =IF(C14<>0,INDEX(TblEstoque[Estq. Inicial],MATCH(MATERIAIS!A14,TblEstoque[Equipamento],0))+C14,"")
A15: BROCA 0.60 MM (10 PCS.) | B15: =IFERROR(IF($I$3="Todos",SUMIFS(TblMovi[QUANTIDADE],TblMovi[Equipamento],A15,TblMovi[ANO],MATERIAIS!$I$2,TblMovi[TIPO],$B$1),SUMIFS(TblMovi[QUANTIDADE],TblMovi[Equipamento],A15,TblMovi[ANO],MATERIAIS!$I$2,TblMovi[MÊS],MATERIAIS!$I$3,TblMovi[TIPO],$B$1)),"") -> 0 | C15: =IFERROR(IF($I$3="Todos",SUMIFS(TblMovi[QUANTIDADE],TblMovi[Equipamento],A15,TblMovi[ANO],MATERIAIS!$I$2,TblMovi[TIPO],$C$1),SUMIFS(TblMovi[QUANTIDADE],TblMovi[Equipamento],A15,TblMovi[ANO],MATERIAIS!$I$2,TblMovi[MÊS],MATERIAIS!$I$3,TblMovi[TIPO],$C$1)),"") -> 0 | D15: =IF(B15<>0,INDEX(TblEstoque[Estq. Inicial],MATCH(MATERIAIS!A15,TblEstoque[Equipamento],0))+B15,"") | E15: =IF(C15<>0,INDEX(TblEstoque[Estq. Inicial],MATCH(MATERIAIS!A15,TblEstoque[Equipamento],0))+C15,"")
A16: BROCA 0.60 MM (10 PCS.) #61 | B16: =IFERROR(IF($I$3="Todos",SUMIFS(TblMovi[QUANTIDADE],TblMovi[Equipamento],A16,TblMovi[ANO],MATERIAIS!$I$2,TblMovi[TIPO],$B$1),SUMIFS(TblMovi[QUANTIDADE],TblMovi[Equipamento],A16,TblMovi[ANO],MATERIAIS!$I$2,TblMovi[MÊS],MATERIAIS!$I$3,TblMovi[TIPO],$B$1)),"") -> 0 | C16: =IFERROR(IF($I$3="Todos",SUMIFS(TblMovi[QUANTIDADE],TblMovi[Equipamento],A16,TblMovi[ANO],MATERIAIS!$I$2,TblMovi[TIPO],$C$1),SUMIFS(TblMovi[QUANTIDADE],TblMovi[Equipamento],A16,TblMovi[ANO],MATERIAIS!$I$2,TblMovi[MÊS],MATERIAIS!$I$3,TblMovi[TIPO],$C$1)),"") -> 0 | D16: =IF(B16<>0,INDEX(TblEstoque[Estq. Inicial],MATCH(MATERIAIS!A16,TblEstoque[Equipamento],0))+B16,"") | E16: =IF(C16<>0,INDEX(TblEstoque[Estq. Inicial],MATCH(MATERIAIS!A16,TblEstoque[Equipamento],0))+C16,"")
A17: BROCA 0.60 MM (10 PCS.) #66 | B17: =IFERROR(IF($I$3="Todos",SUMIFS(TblMovi[QUANTIDADE],TblMovi[Equipamento],A17,TblMovi[ANO],MATERIAIS!$I$2,TblMovi[TIPO],$B$1),SUMIFS(TblMovi[QUANTIDADE],TblMovi[Equipamento],A17,TblMovi[ANO],MATERIAIS!$I$2,TblMovi[MÊS],MATERIAIS!$I$3,TblMovi[TIPO],$B$1)),"") -> 0 | C17: =IFERROR(IF($I$3="Todos",SUMIFS(TblMovi[QUANTIDADE],TblMovi[Equipamento],A17,TblMovi[ANO],MATERIAIS!$I$2,TblMovi[TIPO],$C$1),SUMIFS(TblMovi[QUANTIDADE],TblMovi[Equipamento],A17,TblMovi[ANO],MATERIAIS!$I$2,TblMovi[MÊS],MATERIAIS!$I$3,TblMovi[TIPO],$C$1)),"") -> 0 | D17: =IF(B17<>0,INDEX(TblEstoque[Estq. Inicial],MATCH(MATERIAIS!A17,TblEstoque[Equipamento],0))+B17,"") | E17: =IF(C17<>0,INDEX(TblEstoque[Estq. Inicial],MATCH(MATERIAIS!A17,TblEstoque[Equipamento],0))+C17,"")
A18: BROCA 0.60 MM (7 PCS.) | B18: =IFERROR(IF($I$3="Todos",SUMIFS(TblMovi[QUANTIDADE],TblMovi[Equipamento],A18,TblMovi[ANO],MATERIAIS!$I$2,TblMovi[TIPO],$B$1),SUMIFS(TblMovi[QUANTIDADE],TblMovi[Equipamento],A18,TblMovi[ANO],MATERIAIS!$I$2,TblMovi[MÊS],MATERIAIS!$I$3,TblMovi[TIPO],$B$1)),"") -> 0 | C18: =IFERROR(IF($I$3="Todos",SUMIFS(TblMovi[QUANTIDADE],TblMovi[Equipamento],A18,TblMovi[ANO],MATERIAIS!$I$2,TblMovi[TIPO],$C$1),SUMIFS(TblMovi[QUANTIDADE],TblMovi[Equipamento],A18,TblMovi[ANO],MATERIAIS!$I$2,TblMovi[MÊS],MATERIAIS!$I$3,TblMovi[TIPO],$C$1)),"") -> 0 | D18: =IF(B18<>0,INDEX(TblEstoque[Estq. Inicial],MATCH(MATERIAIS!A18,TblEstoque[Equipamento],0))+B18,"") | E18: =IF(C18<>0,INDEX(TblEstoque[Estq. Inicial],MATCH(MATERIAIS!A18,TblEstoque[Equipamento],0))+C18,"")
A19: BROCA 0.60 MM (8 PCS.) | B19: =IFERROR(IF($I$3="Todos",SUMIFS(TblMovi[QUANTIDADE],TblMovi[Equipamento],A19,TblMovi[ANO],MATERIAIS!$I$2,TblMovi[TIPO],$B$1),SUMIFS(TblMovi[QUANTIDADE],TblMovi[Equipamento],A19,TblMovi[ANO],MATERIAIS!$I$2,TblMovi[MÊS],MATERIAIS!$I$3,TblMovi[TIPO],$B$1)),"") -> 0 | C19: =IFERROR(IF($I$3="Todos",SUMIFS(TblMovi[QUANTIDADE],TblMovi[Equipamento],A19,TblMovi[ANO],MATERIAIS!$I$2,TblMovi[TIPO],$C$1),SUMIFS(TblMovi[QUANTIDADE],TblMovi[Equipamento],A19,TblMovi[ANO],MATERIAIS!$I$2,TblMovi[MÊS],MATERIAIS!$I$3,TblMovi[TIPO],$C$1)),"") -> 0 | D19: =IF(B19<>0,INDEX(TblEstoque[Estq. Inicial],MATCH(MATERIAIS!A19,TblEstoque[Equipamento],0))+B19,"") | E19: =IF(C19<>0,INDEX(TblEstoque[Estq. Inicial],MATCH(MATERIAIS!A19,TblEstoque[Equipamento],0))+C19,"")
A20: BROCA 0.70 MM (10 PCS.) | B20: =IFERROR(IF($I$3="Todos",SUMIFS(TblMovi[QUANTIDADE],TblMovi[Equipamento],A20,TblMovi[ANO],MATERIAIS!$I$2,TblMovi[TIPO],$B$1),SUMIFS(TblMovi[QUANTIDADE],TblMovi[Equipamento],A20,TblMovi[ANO],MATERIAIS!$I$2,TblMovi[MÊS],MATERIAIS!$I$3,TblMovi[TIPO],$B$1)),"") -> 0 | C20: =IFERROR(IF($I$3="Todos",SUMIFS(TblMovi[QUANTIDADE],TblMovi[Equipamento],A20,TblMovi[ANO],MATERIAIS!$I$2,TblMovi[TIPO],$C$1),SUMIFS(TblMovi[QUANTIDADE],TblMovi[Equipamento],A20,TblMovi[ANO],MATERIAIS!$I$2,TblMovi[MÊS],MATERIAIS!$I$3,TblMovi[TIPO],$C$1)),"") -> 0 | D20: =IF(B20<>0,INDEX(TblEstoque[Estq. Inicial],MATCH(MATERIAIS!A20,TblEstoque[Equipamento],0))+B20,"") | E20: =IF(C20<>0,INDEX(TblEstoque[Estq. Inicial],MATCH(MATERIAIS!A20,TblEstoque[Equipamento],0))+C20,"")
A21: BROCA 0.70 MM (12 PCS.) | B21: =IFERROR(IF($I$3="Todos",SUMIFS(TblMovi[QUANTIDADE],TblMovi[Equipamento],A21,TblMovi[ANO],MATERIAIS!$I$2,TblMovi[TIPO],$B$1),SUMIFS(TblMovi[QUANTIDADE],TblMovi[Equipamento],A21,TblMovi[ANO],MATERIAIS!$I$2,TblMovi[MÊS],MATERIAIS!$I$3,TblMovi[TIPO],$B$1)),"") -> 0 | C21: =IFERROR(IF($I$3="Todos",SUMIFS(TblMovi[QUANTIDADE],TblMovi[Equipamento],A21,TblMovi[ANO],MATERIAIS!$I$2,TblMovi[TIPO],$C$1),SUMIFS(TblMovi[QUANTIDADE],TblMovi[Equipamento],A21,TblMovi[ANO],MATERIAIS!$I$2,TblMovi[MÊS],MATERIAIS!$I$3,TblMovi[TIPO],$C$1)),"") -> 0 | D21: =IF(B21<>0,INDEX(TblEstoque[Estq. Inicial],MATCH(MATERIAIS!A21,TblEstoque[Equipamento],0))+B21,"") | E21: =IF(C21<>0,INDEX(TblEstoque[Estq. Inicial],MATCH(MATERIAIS!A21,TblEstoque[Equipamento],0))+C21,"")
A22: BROCA 0.70 MM (13 PCS.) | B22: =IFERROR(IF($I$3="Todos",SUMIFS(TblMovi[QUANTIDADE],TblMovi[Equipamento],A22,TblMovi[ANO],MATERIAIS!$I$2,TblMovi[TIPO],$B$1),SUMIFS(TblMovi[QUANTIDADE],TblMovi[Equipamento],A22,TblMovi[ANO],MATERIAIS!$I$2,TblMovi[MÊS],MATERIAIS!$I$3,TblMovi[TIPO],$B$1)),"") -> 0 | C22: =IFERROR(IF($I$3="Todos",SUMIFS(TblMovi[QUANTIDADE],TblMovi[Equipamento],A22,TblMovi[ANO],MATERIAIS!$I$2,TblMovi[TIPO],$C$1),SUMIFS(TblMovi[QUANTIDADE],TblMovi[Equipamento],A22,TblMovi[ANO],MATERIAIS!$I$2,TblMovi[MÊS],MATERIAIS!$I$3,TblMovi[TIPO],$C$1)),"") -> 0 | D22: =IF(B22<>0,INDEX(TblEstoque[Estq. Inicial],MATCH(MATERIAIS!A22,TblEstoque[Equipamento],0))+B22,"") | E22: =IF(C22<>0,INDEX(TblEstoque[Estq. Inicial],MATCH(MATERIAIS!A22,TblEstoque[Equipamento],0))+C22,"")
A23: BROCA 0.80 MM (10 PCS.) | B23: =IFERROR(IF($I$3="Todos",SUMIFS(TblMovi[QUANTIDADE],TblMovi[Equipamento],A23,TblMovi[ANO],MATERIAIS!$I$2,TblMovi[TIPO],$B$1),SUMIFS(TblMovi[QUANTIDADE],TblMovi[Equipamento],A23,TblMovi[ANO],MATERIAIS!$I$2,TblMovi[MÊS],MATERIAIS!$I$3,TblMovi[TIPO],$B$1)),"") -> 0 | C23: =IFERROR(IF($I$3="Todos",SUMIFS(TblMovi[QUANTIDADE],TblMovi[Equipamento],A23,TblMovi[ANO],MATERIAIS!$I$2,TblMovi[TIPO],$C$1),SUMIFS(TblMovi[QUANTIDADE],TblMovi[Equipamento],A23,TblMovi[ANO],MATERIAIS!$I$2,TblMovi[MÊS],MATERIAIS!$I$3,TblMovi[TIPO],$C$1)),"") -> 0 | D23: =IF(B23<>0,INDEX(TblEstoque[Estq. Inicial],MATCH(MATERIAIS!A23,TblEstoque[Equipamento],0))+B23,"") | E23: =IF(C23<>0,INDEX(TblEstoque[Estq. Inicial],MATCH(MATERIAIS!A23,TblEstoque[Equipamento],0))+C23,"")
... A107: PINÇA DE BANCADA | B107: =IFERROR(IF($I$3="Todos",SUMIFS(TblMovi[QUANTIDADE],TblMovi[Equipamento],A107,TblMovi[ANO],MATERIAIS!$I$2,TblMovi[TIPO],$B$1),SUMIFS(TblMovi[QUANTIDADE],TblMovi[Equipamento],A107,TblMovi[ANO],MATERIAIS!$I$2,TblMovi[MÊS],MATERIAIS!$I$3,TblMovi[TIPO],$B$1)),"") -> 0 | C107: =IFERROR(IF($I$3="Todos",SUMIFS(TblMovi[QUANTIDADE],TblMovi[Equipamento],A107,TblMovi[ANO],MATERIAIS!$I$2,TblMovi[TIPO],$C$1),SUMIFS(TblMovi[QUANTIDADE],TblMovi[Equipamento],A107,TblMovi[ANO],MATERIAIS!$I$2,TblMovi[MÊS],MATERIAIS!$I$3,TblMovi[TIPO],$C$1)),"") -> 0 | D107: =IF(B107<>0,INDEX(TblEstoque[Estq. Inicial],MATCH(MATERIAIS!A107,TblEstoque[Equipamento],0))+B107,"") | E107: =IF(C107<>0,INDEX(TblEstoque[Estq. Inicial],MATCH(MATERIAIS!A107,TblEstoque[Equipamento],0))+C107,"")

Sheet AUX
A1: ANO SELECIONADO | B1: =INDEX(ano[ano],C1) -> 2024 | C1: 2 | I1: ano | J1: Mês | N1: EPI | O1: TIPO
A2: MÊS SELECIONADO | B2: =INDEX(ano[Mês],C2) -> FEV | C2: 3 | I2: 2023 | J2: Todos | N2: MÁSCARA | O2: EPI
I3: 2024 | J3: JAN | N3: PROTETOR AUDITIVO | O3: EPI
A4: TOP - 6 | I4: 2025 | J4: FEV | N4: LUVA PARA PURIFICAÇÃO | O4: EPI
B5: MATERIAL | C5: SAÍDA | D5: Etoque | J5: MAR | N5: LUVA TATEX BRANCA | O5: EPI
A6: 1 | B6: =INDEX(MATERIAIS!A:A,MATCH(AUX!C6,MATERIAIS!D:D,0)) -> LIXA P1200 | C6: =IFERROR(LARGE(MATERIAIS!D:D,AUX!A6),"") -> 285 | D6: =INDEX(TblEstoque[Estq. Final],MATCH(B6,TblEstoque[Equipamento],0)) -> 95 | J6: ABR | N6: LUVA TATEX PRETA | O6: EPI
A7: 2 | B7: =INDEX(MATERIAIS!A:A,MATCH(AUX!C7,MATERIAIS!D:D,0)) -> LIXA 400 | C7: =IFERROR(LARGE(MATERIAIS!D:D,AUX!A7),"") -> 215 | D7: =INDEX(TblEstoque[Estq. Final],MATCH(B7,TblEstoque[Equipamento],0)) -> 290 | J7: MAI
A8: 3 | B8: =INDEX(MATERIAIS!A:A,MATCH(AUX!C8,MATERIAIS!D:D,0)) -> LIXA 600 | C8: =IFERROR(LARGE(MATERIAIS!D:D,AUX!A8),"") -> 128 | D8: =INDEX(TblEstoque[Estq. Final],MATCH(B8,TblEstoque[Equipamento],0)) -> 158 | J8: JUN
A9: 4 | B9: =INDEX(MATERIAIS!A:A,MATCH(AUX!C9,MATERIAIS!D:D,0)) -> LIXA 280 | C9: =IFERROR(LARGE(MATERIAIS!D:D,AUX!A9),"") -> 101 | D9: =INDEX(TblEstoque[Estq. Final],MATCH(B9,TblEstoque[Equipamento],0)) -> 70 | J9: JUL
A10: 5 | B10: =INDEX(MATERIAIS!A:A,MATCH(AUX!C10,MATERIAIS!D:D,0)) -> RODA JEANS (G) | C10: =IFERROR(LARGE(MATERIAIS!D:D,AUX!A10),"") -> 62 | D10: =INDEX(TblEstoque[Estq. Final],MATCH(B10,TblEstoque[Equipamento],0)) -> 0 | J10: AGO
A11: 6 | B11: =INDEX(MATERIAIS!A:A,MATCH(AUX!C11,MATERIAIS!D:D,0)) -> MÁSCARA | C11: =IFERROR(LARGE(MATERIAIS!D:D,AUX!A11),"") -> 44 | D11: =INDEX(TblEstoque[Estq. Final],MATCH(B11,TblEstoque[Equipamento],0)) -> 5 | J11: SET
B12: MATERIAL | C12: ENTRADA | D12: Etoque | J12: OUT
A13: 1 | B13: =INDEX(MATERIAIS!A:A,MATCH(AUX!C13,MATERIAIS!E:E,0)) -> LIXA P1200 | C13: =IFERROR(LARGE(MATERIAIS!E:E,AUX!A13),"") -> 405 | D13: =INDEX(TblEstoque[Estq. Final],MATCH(B13,TblEstoque[Equipamento],0)) -> 95 | J13: NOV
A14: 2 | B14: =INDEX(MATERIAIS!A:A,MATCH(AUX!C14,MATERIAIS!E:E,0)) -> LIXA 600 | C14: =IFERROR(LARGE(MATERIAIS!E:E,AUX!A14),"") -> 226 | D14: =INDEX(TblEstoque[Estq. Final],MATCH(B14,TblEstoque[Equipamento],0)) -> 158 | J14: DEZ
A15: 3 | B15: =INDEX(MATERIAIS!A:A,MATCH(AUX!C15,MATERIAIS!E:E,0)) -> BISTURI | C15: =IFERROR(LARGE(MATERIAIS!E:E,AUX!A15),"") -> 200 | D15: =INDEX(TblEstoque[Estq. Final],MATCH(B15,TblEstoque[Equipamento],0)) -> 147
A16: 4 | B16: =INDEX(MATERIAIS!A:A,MATCH(AUX!C16,MATERIAIS!E:E,0)) -> LIXA 1000 | C16: =IFERROR(LARGE(MATERIAIS!E:E,AUX!A16),"") -> 177 | D16: =INDEX(TblEstoque[Estq. Final],MATCH(B16,TblEstoque[Equipamento],0)) -> 150
A17: 5 | B17: =INDEX(MATERIAIS!A:A,MATCH(AUX!C17,MATERIAIS!E:E,0)) -> WHITE ROUGE | C17: =IFERROR(LARGE(MATERIAIS!E:E,AUX!A17),"") -> 61 | D17: =INDEX(TblEstoque[Estq. Final],MATCH(B17,TblEstoque[Equipamento],0)) -> 69
A18: 6 | B18: =INDEX(MATERIAIS!A:A,MATCH(AUX!C18,MATERIAIS!E:E,0)) -> ROUGE VERMELHO | C18: =IFERROR(LARGE(MATERIAIS!E:E,AUX!A18),"") -> 58 | D18: =INDEX(TblEstoque[Estq. Final],MATCH(B18,TblEstoque[Equipamento],0)) -> 47
A20: Top - 3 Funcionarios | B20: Nome | C20: Entrada
A21: 1 | B21: =INDEX(ControleProdução[Recebido Por],MATCH(C21,ControleProdução[Qtd],0)) -> FELIPE | C21: =LARGE(ControleProdução[Qtd],AUX!A21) -> 255
