Workbook

Sheet Estoque
A1: Equipamento | B1: Estq. Inicial | C1: ENTRADA | D1: SAÍDA | E1: Estq. Final
A2: AGULHA DE MAGNETO | C2: =SUMIFS(Movimentação!F:F,Movimentação!E:E,Estoque!A2,Movimentação!D:D,"ENTRADA") -> 2 | D2: =SUMIFS(Movimentação!F:F,Movimentação!E:E,Estoque!A2,Movimentação!D:D,"SAÍDA") -> 2 | E2: =B2+C2-D2 -> 0
A3: AGULHA HIPODÉRMICA | B3: 6 | C3: =SUMIFS(Movimentação!F:F,Movimentação!E:E,Estoque!A3,Movimentação!D:D,"ENTRADA") -> 0 | D3: =SUMIFS(Movimentação!F:F,Movimentação!E:E,Estoque!A3,Movimentação!D:D,"SAÍDA") -> 0 | E3: =B3+C3-D3 -> 6
A4: ALGODÃO HIDRÓFILO | B4: 4 | C4: =SUMIFS(Movimentação!F:F,Movimentação!E:E,Estoque!A4,Movimentação!D:D,"ENTRADA") -> 18 | D4: =SUMIFS(Movimentação!F:F,Movimentação!E:E,Estoque!A4,Movimentação!D:D,"SAÍDA") -> 12 | E4: =B4+C4-D4 -> 10
A5: ALICATE DE CORTE DIAGONAL | B5: 1 | C5: =SUMIFS(Movimentação!F:F,Movimentação!E:E,Estoque!A5,Movimentação!D:D,"ENTRADA") -> 0 | D5: =SUMIFS(Movimentação!F:F,Movimentação!E:E,Estoque!A5,Movimentação!D:D,"SAÍDA") -> 1 | E5: =B5+C5-D5 -> 0
A6: ALICATE DE CORTE P/JOIAS | C6: =SUMIFS(Movimentação!F:F,Movimentação!E:E,Estoque!A6,Movimentação!D:D,"ENTRADA") -> 1 | D6: =SUMIFS(Movimentação!F:F,Movimentação!E:E,Estoque!A6,Movimentação!D:D,"SAÍDA") -> 1 | E6: =B6+C6-D6 -> 0
A7: ALICATE 1/2 CANA | B7: 4 | C7: =SUMIFS(Movimentação!F:F,Movimentação!E:E,Estoque!A7,Movimentação!D:D,"ENTRADA") -> 0 | D7: =SUMIFS(Movimentação!F:F,Movimentação!E:E,Estoque!A7,Movimentação!D:D,"SAÍDA") -> 0 | E7: =B7+C7-D7 -> 4
A8: ALICATE DE CORTE | B8: 1 | C8: =SUMIFS(Movimentação!F:F,Movimentação!E:E,Estoque!A8,Movimentação!D:D,"ENTRADA") -> 0 | D8: =SUMIFS(Movimentação!F:F,Movimentação!E:E,Estoque!A8,Movimentação!D:D,"SAÍDA") -> 0 | E8: =B8+C8-D8 -> 1
A9: ANEL DE FERRO GRANDE (MICRO FUNDIÇÃO) | B9: 20 | C9: =SUMIFS(Movimentação!F:F,Movimentação!E:E,Estoque!A9,Movimentação!D:D,"ENTRADA") -> 0 | D9: =SUMIFS(Movimentação!F:F,Movimentação!E:E,Estoque!A9,Movimentação!D:D,"SAÍDA") -> 0 | E9: =B9+C9-D9 -> 20
A10: ANEL DE FERRO PEQUENO (MICRO FUNDIÇÃO) | B10: 20 | C10: =SUMIFS(Movimentação!F:F,Movimentação!E:E,Estoque!A10,Movimentação!D:D,"ENTRADA") -> 0 | D10: =SUMIFS(Movimentação!F:F,Movimentação!E:E,Estoque!A10,Movimentação!D:D,"SAÍDA") -> 0 | E10: =B10+C10-D10 -> 20
A11: ANEL DE GRAFITE GRANDE (MICRO FUNDIÇÃO) 20Cm | B11: 40 | C11: =SUMIFS(Movimentação!F:F,Movimentação!E:E,Estoque!A11,Movimentação!D:D,"ENTRADA") -> 0 | D11: =SUMIFS(Movimentação!F:F,Movimentação!E:E,Estoque!A11,Movimentação!D:D,"SAÍDA") -> 1 | E11: =B11+C11-D11 -> 39
A12: ANEL DE GRAFITE PEQUENO (MICRO FUNDIÇÃO) 14Cm | C12: =SUMIFS(Movimentação!F:F,Movimentação!E:E,Estoque!A12,Movimentação!D:D,"ENTRADA") -> 0 | D12: =SUMIFS(Movimentação!F:F,Movimentação!E:E,Estoque!A12,Movimentação!D:D,"SAÍDA") -> 0 | E12: =B12+C12-D12 -> 0
A13: BASE DA CAMISA | B13: 10 | C13: =SUMIFS(Movimentação!F:F,Movimentação!E:E,Estoque!A13,Movimentação!D:D,"ENTRADA") -> 0 | D13: =SUMIFS(Movimentação!F:F,Movimentação!E:E,Estoque!A13,Movimentação!D:D,"SAÍDA") -> 0 | E13: =B13+C13-D13 -> 10
A14: BISTURI | C14: =SUMIFS(Movimentação!F:F,Movimentação!E:E,Estoque!A14,Movimentação!D:D,"ENTRADA") -> 396 | D14: =SUMIFS(Movimentação!F:F,Movimentação!E:E,Estoque!A14,Movimentação!D:D,"SAÍDA") -> 249 | E14: =B14+C14-D14 -> 147
A15: CADEADO | B15: 30 | C15: =SUMIFS(Movimentação!F:F,Movimentação!E:E,Estoque!A15,Movimentação!D:D,"ENTRADA") -> 0 | D15: =SUMIFS(Movimentação!F:F,Movimentação!E:E,Estoque!A15,Movimentação!D:D,"SAÍDA") -> 23 | E15: =B15+C15-D15 -> 7
A16: CADINHO (1) | B16: 3 | C16: =SUMIFS(Movimentação!F:F,Movimentação!E:E,Estoque!A16,Movimentação!D:D,"ENTRADA") -> 30 | D16: =SUMIFS(Movimentação!F:F,Movimentação!E:E,Estoque!A16,Movimentação!D:D,"SAÍDA") -> 7 | E16: =B16+C16-D16 -> 26
A17: CADINHO (2) | B17: 9 | C17: =SUMIFS(Movimentação!F:F,Movimentação!E:E,Estoque!A17,Movimentação!D:D,"ENTRADA") -> 0 | D17: =SUMIFS(Movimentação!F:F,Movimentação!E:E,Estoque!A17,Movimentação!D:D,"SAÍDA") -> 0 | E17: =B17+C17-D17 -> 9
A18: BROCA 0.50 MM (10 PCS.) | B18: 2 | C18: =SUMIFS(Movimentação!F:F,Movimentação!E:E,Estoque!A18,Movimentação!D:D,"ENTRADA") -> 0 | D18: =SUMIFS(Movimentação!F:F,Movimentação!E:E,Estoque!A18,Movimentação!D:D,"SAÍDA") -> 0 | E18: =B18+C18-D18 -> 2
A19: BROCA 0.50 MM (9 PCS.) | B19: 1 | C19: =SUMIFS(Movimentação!F:F,Movimentação!E:E,Estoque!A19,Movimentação!D:D,"ENTRADA") -> 0 | D19: =SUMIFS(Movimentação!F:F,Movimentação!E:E,Estoque!A19,Movimentação!D:D,"SAÍDA") -> 0 | E19: =B19+C19-D19 -> 1
A20: BROCA 0.6 MM (10 PCS.) | B20: 3 | C20: =SUMIFS(Movimentação!F:F,Movimentação!E:E,Estoque!A20,Movimentação!D:D,"ENTRADA") -> 0 | D20: =SUMIFS(Movimentação!F:F,Movimentação!E:E,Estoque!A20,Movimentação!D:D,"SAÍDA") -> 0 | E20: =B20+C20-D20 -> 3
A21: BROCA 0.60 MM (10 PCS.) | B21: 2 | C21: =SUMIFS(Movimentação!F:F,Movimentação!E:E,Estoque!A21,Movimentação!D:D,"ENTRADA") -> 0 | D21: =SUMIFS(Movimentação!F:F,Movimentação!E:E,Estoque!A21,Movimentação!D:D,"SAÍDA") -> 0 | E21: =B21+C21-D21 -> 2
A22: BROCA 0.60 MM (10 PCS.) #61 | B22: 1 | C22: =SUMIFS(Movimentação!F:F,Movimentação!E:E,Estoque!A22,Movimentação!D:D,"ENTRADA") -> 0 | D22: =SUMIFS(Movimentação!F:F,Movimentação!E:E,Estoque!A22,Movimentação!D:D,"SAÍDA") -> 0 | E22: =B22+C22-D22 -> 1
A23: BROCA 0.60 MM (10 PCS.) #66 | B23: 1 | C23: =SUMIFS(Movimentação!F:F,Movimentação!E:E,Estoque!A23,Movimentação!D:D,"ENTRADA") -> 0 | D23: =SUMIFS(Movimentação!F:F,Movimentação!E:E,Estoque!A23,Movimentação!D:D,"SAÍDA") -> 0 | E23: =B23+C23-D23 -> 1
A24: BROCA 0.60 MM (7 PCS.) | B24: 1 | C24: =SUMIFS(Movimentação!F:F,Movimentação!E:E,Estoque!A24,Movimentação!D:D,"ENTRADA") -> 0 | D24: =SUMIFS(Movimentação!F:F,Movimentação!E:E,Estoque!A24,Movimentação!D:D,"SAÍDA") -> 0 | E24: =B24+C24-D24 -> 1
A25: BROCA 0.60 MM (8 PCS.) | B25: 2 | C25: =SUMIFS(Movimentação!F:F,Movimentação!E:E,Estoque!A25,Movimentação!D:D,"ENTRADA") -> 0 | D25: =SUMIFS(Movimentação!F:F,Movimentação!E:E,Estoque!A25,Movimentação!D:D,"SAÍDA") -> 0 | E25: =B25+C25-D25 -> 2
A26: BROCA 0.70 MM (10 PCS.) | B26: 3 | C26: =SUMIFS(Movimentação!F:F,Movimentação!E:E,Estoque!A26,Movimentação!D:D,"ENTRADA") -> 0 | D26: =SUMIFS(Movimentação!F:F,Movimentação!E:E,Estoque!A26,Movimentação!D:D,"SAÍDA") -> 0 | E26: =B26+C26-D26 -> 3
... A65: CONE 62 | B65: 12 | C65: =SUMIFS(Movimentação!F:F,Movimentação!E:E,Estoque!A65,Movimentação!D:D,"ENTRADA") -> 144 | D65: =SUMIFS(Movimentação!F:F,Movimentação!E:E,Estoque!A65,Movimentação!D:D,"SAÍDA") -> 119 | E65: =B65+C65-D65 -> 37
A66: CONE DE BANCADA (G) | C66: =SUMIFS(Movimentação!F:F,Movimentação!E:E,Estoque!A66,Movimentação!D:D,"ENTRADA") -> 12 | D66: =SUMIFS(Movimentação!F:F,Movimentação!E:E,Estoque!A66,Movimentação!D:D,"SAÍDA") -> 0 | E66: =B66+C66-D66 -> 12
A67: CONE DE BANCADA (P) | C67: =SUMIFS(Movimentação!F:F,Movimentação!E:E,Estoque!A67,Movimentação!D:D,"ENTRADA") -> 0 | D67: =SUMIFS(Movimentação!F:F,Movimentação!E:E,Estoque!A67,Movimentação!D:D,"SAÍDA") -> 1 | E67: =B67+C67-D67 -> -1
A68: COPO COLETA RESÍDUO (MICRO FUNDIÇÃO) | B68: 10 | C68: =SUMIFS(Movimentação!F:F,Movimentação!E:E,Estoque!A68,Movimentação!D:D,"ENTRADA") -> 0 | D68: =SUMIFS(Movimentação!F:F,Movimentação!E:E,Estoque!A68,Movimentação!D:D,"SAÍDA") -> 0 | E68: =B68+C68-D68 -> 10
A69: COTONETE | C69: =SUMIFS(Movimentação!F:F,Movimentação!E:E,Estoque!A69,Movimentação!D:D,"ENTRADA") -> 17 | D69: =SUMIFS(Movimentação!F:F,Movimentação!E:E,Estoque!A69,Movimentação!D:D,"SAÍDA") -> 5 | E69: =B69+C69-D69 -> 12
A70: DEDEIRA LUVA | C70: =SUMIFS(Movimentação!F:F,Movimentação!E:E,Estoque!A70,Movimentação!D:D,"ENTRADA") -> 759 | D70: =SUMIFS(Movimentação!F:F,Movimentação!E:E,Estoque!A70,Movimentação!D:D,"SAÍDA") -> 319 | E70: =B70+C70-D70 -> 440
A71: DEDEIRA LUVA (GROSSA) | B71: 102 | C71: =SUMIFS(Movimentação!F:F,Movimentação!E:E,Estoque!A71,Movimentação!D:D,"ENTRADA") -> 0 | D71: =SUMIFS(Movimentação!F:F,Movimentação!E:E,Estoque!A71,Movimentação!D:D,"SAÍDA") -> 102 | E71: =B71+C71-D71 -> 0
A72: DETERGENTE (Coco) | B72: 22 | C72: =SUMIFS(Movimentação!F:F,Movimentação!E:E,Estoque!A72,Movimentação!D:D,"ENTRADA") -> 0 | D72: =SUMIFS(Movimentação!F:F,Movimentação!E:E,Estoque!A72,Movimentação!D:D,"SAÍDA") -> 7 | E72: =B72+C72-D72 -> 15
A73: ESPARADRAPO | B73: 21 | C73: =SUMIFS(Movimentação!F:F,Movimentação!E:E,Estoque!A73,Movimentação!D:D,"ENTRADA") -> 83 | D73: =SUMIFS(Movimentação!F:F,Movimentação!E:E,Estoque!A73,Movimentação!D:D,"SAÍDA") -> 70 | E73: =B73+C73-D73 -> 34
A74: EXTRATOR DE GRAMPOS | B74: 0 | C74: =SUMIFS(Movimentação!F:F,Movimentação!E:E,Estoque!A74,Movimentação!D:D,"ENTRADA") -> 1 | D74: =SUMIFS(Movimentação!F:F,Movimentação!E:E,Estoque!A74,Movimentação!D:D,"SAÍDA") -> 1 | E74: =B74+C74-D74 -> 0
A75: FACA 20 | B75: 1 | C75: =SUMIFS(Movimentação!F:F,Movimentação!E:E,Estoque!A75,Movimentação!D:D,"ENTRADA") -> 0 | D75: =SUMIFS(Movimentação!F:F,Movimentação!E:E,Estoque!A75,Movimentação!D:D,"SAÍDA") -> 0 | E75: =B75+C75-D75 -> 1
A76: FELTRO DE BANCADA (G) | C76: =SUMIFS(Movimentação!F:F,Movimentação!E:E,Estoque!A76,Movimentação!D:D,"ENTRADA") -> 12 | D76: =SUMIFS(Movimentação!F:F,Movimentação!E:E,Estoque!A76,Movimentação!D:D,"SAÍDA") -> 0 | E76: =B76+C76-D76 -> 12
A77: FELTRO DE BANCADA (P) | C77: =SUMIFS(Movimentação!F:F,Movimentação!E:E,Estoque!A77,Movimentação!D:D,"ENTRADA") -> 12 | D77: =SUMIFS(Movimentação!F:F,Movimentação!E:E,Estoque!A77,Movimentação!D:D,"SAÍDA") -> 0 | E77: =B77+C77-D77 -> 12
A78: FIEIRA DE OURO PAREDE FINA | B78: 30 | C78: =SUMIFS(Movimentação!F:F,Movimentação!E:E,Estoque!A78,Movimentação!D:D,"ENTRADA") -> 0 | D78: =SUMIFS(Movimentação!F:F,Movimentação!E:E,Estoque!A78,Movimentação!D:D,"SAÍDA") -> 7 | E78: =B78+C78-D78 -> 23
A79: FIEIRA DE PRATA | B79: 15 | C79: =SUMIFS(Movimentação!F:F,Movimentação!E:E,Estoque!A79,Movimentação!D:D,"ENTRADA") -> 0 | D79: =SUMIFS(Movimentação!F:F,Movimentação!E:E,Estoque!A79,Movimentação!D:D,"SAÍDA") -> 2 | E79: =B79+C79-D79 -> 13
A80: FILTRO 33 (dm) - 0,13 (mm) | C80: =SUMIFS(Movimentação!F:F,Movimentação!E:E,Estoque!A80,Movimentação!D:D,"ENTRADA") -> 359 | D80: =SUMIFS(Movimentação!F:F,Movimentação!E:E,Estoque!A80,Movimentação!D:D,"SAÍDA") -> 149 | E80: =B80+C80-D80 -> 210
A81: FILTRO 50x50 80g | C81: =SUMIFS(Movimentação!F:F,Movimentação!E:E,Estoque!A81,Movimentação!D:D,"ENTRADA") -> 100 | D81: =SUMIFS(Movimentação!F:F,Movimentação!E:E,Estoque!A81,Movimentação!D:D,"SAÍDA") -> 100 | E81: =B81+C81-D81 -> 0
A82: FILTRO 85x85 80g | B82: 200 | C82: =SUMIFS(Movimentação!F:F,Movimentação!E:E,Estoque!A82,Movimentação!D:D,"ENTRADA") -> 0 | D82: =SUMIFS(Movimentação!F:F,Movimentação!E:E,Estoque!A82,Movimentação!D:D,"SAÍDA") -> 0 | E82: =B82+C82-D82 -> 200
A83: FITA DUREX MARRON (45mm X 100m) | B83: 8 | C83: =SUMIFS(Movimentação!F:F,Movimentação!E:E,Estoque!A83,Movimentação!D:D,"ENTRADA") -> 0 | D83: =SUMIFS(Movimentação!F:F,Movimentação!E:E,Estoque!A83,Movimentação!D:D,"SAÍDA") -> 2 | E83: =B83+C83-D83 -> 6
A84: FITA DUREX MARRON (48mm X 100m) | B84: 10 | C84: =SUMIFS(Movimentação!F:F,Movimentação!E:E,Estoque!A84,Movimentação!D:D,"ENTRADA") -> 0 | D84: =SUMIFS(Movimentação!F:F,Movimentação!E:E,Estoque!A84,Movimentação!D:D,"SAÍDA") -> 5 | E84: =B84+C84-D84 -> 5
A85: FIXADOR PARA CABELOS EXTRA FORTE (JATO SECO) | C85: =SUMIFS(Movimentação!F:F,Movimentação!E:E,Estoque!A85,Movimentação!D:D,"ENTRADA") -> 3 | D85: =SUMIFS(Movimentação!F:F,Movimentação!E:E,Estoque!A85,Movimentação!D:D,"SAÍDA") -> 1 | E85: =B85+C85-D85 -> 2
A86: FLANELA | C86: =SUMIFS(Movimentação!F:F,Movimentação!E:E,Estoque!A86,Movimentação!D:D,"ENTRADA") -> 197 | D86: =SUMIFS(Movimentação!F:F,Movimentação!E:E,Estoque!A86,Movimentação!D:D,"SAÍDA") -> 192 | E86: =B86+C86-D86 -> 5
A87: FLANELA AMARELA | B87: 6 | C87: =SUMIFS(Movimentação!F:F,Movimentação!E:E,Estoque!A87,Movimentação!D:D,"ENTRADA") -> 0 | D87: =SUMIFS(Movimentação!F:F,Movimentação!E:E,Estoque!A87,Movimentação!D:D,"SAÍDA") -> 6 | E87: =B87+C87-D87 -> 0
A88: FLUIDO DE ISQUEIRO | B88: 2 | C88: =SUMIFS(Movimentação!F:F,Movimentação!E:E,Estoque!A88,Movimentação!D:D,"ENTRADA") -> 10 | D88: =SUMIFS(Movimentação!F:F,Movimentação!E:E,Estoque!A88,Movimentação!D:D,"SAÍDA") -> 4 | E88: =B88+C88-D88 -> 8
A89: FLUXO DE SOLDA PARA JOIAS | B89: 4 | C89: =SUMIFS(Movimentação!F:F,Movimentação!E:E,Estoque!A89,Movimentação!D:D,"ENTRADA") -> 0 | D89: =SUMIFS(Movimentação!F:F,Movimentação!E:E,Estoque!A89,Movimentação!D:D,"SAÍDA") -> 0 | E89: =B89+C89-D89 -> 4
A90: FRESA BOLA | B90: 168 | C90: =SUMIFS(Movimentação!F:F,Movimentação!E:E,Estoque!A90,Movimentação!D:D,"ENTRADA") -> 0 | D90: =SUMIFS(Movimentação!F:F,Movimentação!E:E,Estoque!A90,Movimentação!D:D,"SAÍDA") -> 6 | E90: =B90+C90-D90 -> 162
A91: FRESA ESPIGA | B91: 12 | C91: =SUMIFS(Movimentação!F:F,Movimentação!E:E,Estoque!A91,Movimentação!D:D,"ENTRADA") -> 0 | D91: =SUMIFS(Movimentação!F:F,Movimentação!E:E,Estoque!A91,Movimentação!D:D,"SAÍDA") -> 3 | E91: =B91+C91-D91 -> 9
A92: GRAFITE BASTÃO | B92: 10 | C92: =SUMIFS(Movimentação!F:F,Movimentação!E:E,Estoque!A92,Movimentação!D:D,"ENTRADA") -> 0 | D92: =SUMIFS(Movimentação!F:F,Movimentação!E:E,Estoque!A92,Movimentação!D:D,"SAÍDA") -> 0 | E92: =B92+C92-D92 -> 10
A93: GRAVADOR ELÉTRICO | B93: 3 | C93: =SUMIFS(Movimentação!F:F,Movimentação!E:E,Estoque!A93,Movimentação!D:D,"ENTRADA") -> 0 | D93: =SUMIFS(Movimentação!F:F,Movimentação!E:E,Estoque!A93,Movimentação!D:D,"SAÍDA") -> 0 | E93: =B93+C93-D93 -> 3
A94: LIMA | B94: 3 | C94: =SUMIFS(Movimentação!F:F,Movimentação!E:E,Estoque!A94,Movimentação!D:D,"ENTRADA") -> 0 | D94: =SUMIFS(Movimentação!F:F,Movimentação!E:E,Estoque!A94,Movimentação!D:D,"SAÍDA") -> 0 | E94: =B94+C94-D94 -> 3
A95: LIXA 1000 | B95: 27 | C95: =SUMIFS(Movimentação!F:F,Movimentação!E:E,Estoque!A95,Movimentação!D:D,"ENTRADA") -> 175 | D95: =SUMIFS(Movimentação!F:F,Movimentação!E:E,Estoque!A95,Movimentação!D:D,"SAÍDA") -> 52 | E95: =B95+C95-D95 -> 150
A96: LIXA 280 | B96: 100 | C96: =SUMIFS(Movimentação!F:F,Movimentação!E:E,Estoque!A96,Movimentação!D:D,"ENTRADA") -> 0 | D96: =SUMIFS(Movimentação!F:F,Movimentação!E:E,Estoque!A96,Movimentação!D:D,"SAÍDA") -> 30 | E96: =B96+C96-D96 -> 70
A97: LIXA 400 | B97: 169 | C97: =SUMIFS(Movimentação!F:F,Movimentação!E:E,Estoque!A97,Movimentação!D:D,"ENTRADA") -> 560 | D97: =SUMIFS(Movimentação!F:F,Movimentação!E:E,Estoque!A97,Movimentação!D:D,"SAÍDA") -> 439 | E97: =B97+C97-D97 -> 290
A98: LIXA 600 | B98: 76 | C98: =SUMIFS(Movimentação!F:F,Movimentação!E:E,Estoque!A98,Movimentação!D:D,"ENTRADA") -> 500 | D98: =SUMIFS(Movimentação!F:F,Movimentação!E:E,Estoque!A98,Movimentação!D:D,"SAÍDA") -> 418 | E98: =B98+C98-D98 -> 158
... A104: LUVA MANUTENÇÃO (G) | B104: 12 | C104: =SUMIFS(Movimentação!F:F,Movimentação!E:E,Estoque!A104,Movimentação!D:D,"ENTRADA") -> 0 | D104: =SUMIFS(Movimentação!F:F,Movimentação!E:E,Estoque!A104,Movimentação!D:D,"SAÍDA") -> 0 | E104: =B104+C104-D104 -> 12
A105: LUVA PARA PURIFICAÇÃO | C105: =SUMIFS(Movimentação!F:F,Movimentação!E:E,Estoque!A105,Movimentação!D:D,"ENTRADA") -> 5 | D105: =SUMIFS(Movimentação!F:F,Movimentação!E:E,Estoque!A105,Movimentação!D:D,"SAÍDA") -> 2 | E105: =B105+C105-D105 -> 3
A106: LUVA TATEX BRANCA | B106: 21 | C106: =SUMIFS(Movimentação!F:F,Movimentação!E:E,Estoque!A106,Movimentação!D:D,"ENTRADA") -> 64 | D106: =SUMIFS(Movimentação!F:F,Movimentação!E:E,Estoque!A106,Movimentação!D:D,"SAÍDA") -> 59 | E106: =B106+C106-D106 -> 26
A107: LUVA TATEX PRETA | B107: 24 | C107: =SUMIFS(Movimentação!F:F,Movimentação!E:E,Estoque!A107,Movimentação!D:D,"ENTRADA") -> 0 | D107: =SUMIFS(Movimentação!F:F,Movimentação!E:E,Estoque!A107,Movimentação!D:D,"SAÍDA") -> 21 | E107: =B107+C107-D107 -> 3
A108: MAÇARICO LITTLE TORCH COM 5 PONTAS | B108: 4 | C108: =SUMIFS(Movimentação!F:F,Movimentação!E:E,Estoque!A108,Movimentação!D:D,"ENTRADA") -> 0 | D108: =SUMIFS(Movimentação!F:F,Movimentação!E:E,Estoque!A108,Movimentação!D:D,"SAÍDA") -> 1 | E108: =B108+C108-D108 -> 3
A109: MANDRIL DISCO | C109: =SUMIFS(Movimentação!F:F,Movimentação!E:E,Estoque!A109,Movimentação!D:D,"ENTRADA") -> 62 | D109: =SUMIFS(Movimentação!F:F,Movimentação!E:E,Estoque!A109,Movimentação!D:D,"SAÍDA") -> 35 | E109: =B109+C109-D109 -> 27
A110: MANDRIL PARAFUSO | C110: =SUMIFS(Movimentação!F:F,Movimentação!E:E,Estoque!A110,Movimentação!D:D,"ENTRADA") -> 20 | D110: =SUMIFS(Movimentação!F:F,Movimentação!E:E,Estoque!A110,Movimentação!D:D,"SAÍDA") -> 0 | E110: =B110+C110-D110 -> 20
A111: MANDRIL ROLINHO | B111: 18 | C111: =SUMIFS(Movimentação!F:F,Movimentação!E:E,Estoque!A111,Movimentação!D:D,"ENTRADA") -> 0 | D111: =SUMIFS(Movimentação!F:F,Movimentação!E:E,Estoque!A111,Movimentação!D:D,"SAÍDA") -> 18 | E111: =B111+C111-D111 -> 0
A112: MAQUINA DE CRAVAÇÃO (90-x/Au-35) | C112: =SUMIFS(Movimentação!F:F,Movimentação!E:E,Estoque!A112,Movimentação!D:D,"ENTRADA") -> 1 | D112: =SUMIFS(Movimentação!F:F,Movimentação!E:E,Estoque!A112,Movimentação!D:D,"SAÍDA") -> 1 | E112: =B112+C112-D112 -> 0
A113: MAQUINA DE CRAVAÇÃO (ACO-9610) | C113: =SUMIFS(Movimentação!F:F,Movimentação!E:E,Estoque!A113,Movimentação!D:D,"ENTRADA") -> 1 | D113: =SUMIFS(Movimentação!F:F,Movimentação!E:E,Estoque!A113,Movimentação!D:D,"SAÍDA") -> 1 | E113: =B113+C113-D113 -> 0
A114: MARTELO CINZELAR 150g | B114: 5 | C114: =SUMIFS(Movimentação!F:F,Movimentação!E:E,Estoque!A114,Movimentação!D:D,"ENTRADA") -> 0 | D114: =SUMIFS(Movimentação!F:F,Movimentação!E:E,Estoque!A114,Movimentação!D:D,"SAÍDA") -> 0 | E114: =B114+C114-D114 -> 5
A115: MARTELO DE NYLON | B115: 5 | C115: =SUMIFS(Movimentação!F:F,Movimentação!E:E,Estoque!A115,Movimentação!D:D,"ENTRADA") -> 0 | D115: =SUMIFS(Movimentação!F:F,Movimentação!E:E,Estoque!A115,Movimentação!D:D,"SAÍDA") -> 4 | E115: =B115+C115-D115 -> 1
A116: MÁSCARA | B116: 25 | C116: =SUMIFS(Movimentação!F:F,Movimentação!E:E,Estoque!A116,Movimentação!D:D,"ENTRADA") -> 131 | D116: =SUMIFS(Movimentação!F:F,Movimentação!E:E,Estoque!A116,Movimentação!D:D,"SAÍDA") -> 151 | E116: =B116+C116-D116 -> 5
A117: MAXCRIL | B117: 23 | C117: =SUMIFS(Movimentação!F:F,Movimentação!E:E,Estoque!A117,Movimentação!D:D,"ENTRADA") -> 0 | D117: =SUMIFS(Movimentação!F:F,Movimentação!E:E,Estoque!A117,Movimentação!D:D,"SAÍDA") -> 2 | E117: =B117+C117-D117 -> 21
A118: MIOLO (PAREDE FINA DE OURO) | B118: 67 | C118: =SUMIFS(Movimentação!F:F,Movimentação!E:E,Estoque!A118,Movimentação!D:D,"ENTRADA") -> 0 | D118: =SUMIFS(Movimentação!F:F,Movimentação!E:E,Estoque!A118,Movimentação!D:D,"SAÍDA") -> 0 | E118: =B118+C118-D118 -> 67
A119: MIOLO (PAREDE FINA DE PRATA) | B119: 68 | C119: =SUMIFS(Movimentação!F:F,Movimentação!E:E,Estoque!A119,Movimentação!D:D,"ENTRADA") -> 0 | D119: =SUMIFS(Movimentação!F:F,Movimentação!E:E,Estoque!A119,Movimentação!D:D,"SAÍDA") -> 0 | E119: =B119+C119-D119 -> 68
A120: MIOLO (PAREDE GROSSA DE PRATA) | B120: 55 | C120: =SUMIFS(Movimentação!F:F,Movimentação!E:E,Estoque!A120,Movimentação!D:D,"ENTRADA") -> 0 | D120: =SUMIFS(Movimentação!F:F,Movimentação!E:E,Estoque!A120,Movimentação!D:D,"SAÍDA") -> 0 | E120: =B120+C120-D120 -> 55
A121: MOTOR DE BANCA | B121: 2 | C121: =SUMIFS(Movimentação!F:F,Movimentação!E:E,Estoque!A121,Movimentação!D:D,"ENTRADA") -> 2 | D121: =SUMIFS(Movimentação!F:F,Movimentação!E:E,Estoque!A121,Movimentação!D:D,"SAÍDA") -> 3 | E121: =B121+C121-D121 -> 1
A122: MOUSE COM FIO | B122: 5 | C122: =SUMIFS(Movimentação!F:F,Movimentação!E:E,Estoque!A122,Movimentação!D:D,"ENTRADA") -> 0 | D122: =SUMIFS(Movimentação!F:F,Movimentação!E:E,Estoque!A122,Movimentação!D:D,"SAÍDA") -> 2 | E122: =B122+C122-D122 -> 3
A123: ÓCULOS DE SEGURANÇA SPECTRA 2000 | B123: 6 | C123: =SUMIFS(Movimentação!F:F,Movimentação!E:E,Estoque!A123,Movimentação!D:D,"ENTRADA") -> 10 | D123: =SUMIFS(Movimentação!F:F,Movimentação!E:E,Estoque!A123,Movimentação!D:D,"SAÍDA") -> 6 | E123: =B123+C123-D123 -> 10
A124: ONGLET Nº 4 | B124: 2 | C124: =SUMIFS(Movimentação!F:F,Movimentação!E:E,Estoque!A124,Movimentação!D:D,"ENTRADA") -> 0 | D124: =SUMIFS(Movimentação!F:F,Movimentação!E:E,Estoque!A124,Movimentação!D:D,"SAÍDA") -> 0 | E124: =B124+C124-D124 -> 2
A125: PÁ DE BANCADA | C125: =SUMIFS(Movimentação!F:F,Movimentação!E:E,Estoque!A125,Movimentação!D:D,"ENTRADA") -> 8 | D125: =SUMIFS(Movimentação!F:F,Movimentação!E:E,Estoque!A125,Movimentação!D:D,"SAÍDA") -> 0 | E125: =B125+C125-D125 -> 8
A126: PANO DE CHÃO | B126: 10 | C126: =SUMIFS(Movimentação!F:F,Movimentação!E:E,Estoque!A126,Movimentação!D:D,"ENTRADA") -> 87 | D126: =SUMIFS(Movimentação!F:F,Movimentação!E:E,Estoque!A126,Movimentação!D:D,"SAÍDA") -> 49 | E126: =B126+C126-D126 -> 48
A127: PAPEL FILTRO 500 MICA | B127: 200 | C127: =SUMIFS(Movimentação!F:F,Movimentação!E:E,Estoque!A127,Movimentação!D:D,"ENTRADA") -> 0 | D127: =SUMIFS(Movimentação!F:F,Movimentação!E:E,Estoque!A127,Movimentação!D:D,"SAÍDA") -> 35 | E127: =B127+C127-D127 -> 165
A128: PAPEL FILTRO 850 MICA | B128: 200 | C128: =SUMIFS(Movimentação!F:F,Movimentação!E:E,Estoque!A128,Movimentação!D:D,"ENTRADA") -> 0 | D128: =SUMIFS(Movimentação!F:F,Movimentação!E:E,Estoque!A128,Movimentação!D:D,"SAÍDA") -> 30 | E128: =B128+C128-D128 -> 170
A129: PAQUÍMETRO (Analógico) | B129: 2 | C129: =SUMIFS(Movimentação!F:F,Movimentação!E:E,Estoque!A129,Movimentação!D:D,"ENTRADA") -> 0 | D129: =SUMIFS(Movimentação!F:F,Movimentação!E:E,Estoque!A129,Movimentação!D:D,"SAÍDA") -> 0 | E129: =B129+C129-D129 -> 2
A130: PAQUÍMETRO (Digital) | B130: 5 | C130: =SUMIFS(Movimentação!F:F,Movimentação!E:E,Estoque!A130,Movimentação!D:D,"ENTRADA") -> 8 | D130: =SUMIFS(Movimentação!F:F,Movimentação!E:E,Estoque!A130,Movimentação!D:D,"SAÍDA") -> 12 | E130: =B130+C130-D130 -> 1
A131: PASTA DE JACARÉ BRANCA | B131: 4 | C131: =SUMIFS(Movimentação!F:F,Movimentação!E:E,Estoque!A131,Movimentação!D:D,"ENTRADA") -> 20 | D131: =SUMIFS(Movimentação!F:F,Movimentação!E:E,Estoque!A131,Movimentação!D:D,"SAÍDA") -> 16 | E131: =B131+C131-D131 -> 8
A132: PASTA DE JACARÉ ROUGE | B132: 5 | C132: =SUMIFS(Movimentação!F:F,Movimentação!E:E,Estoque!A132,Movimentação!D:D,"ENTRADA") -> 15 | D132: =SUMIFS(Movimentação!F:F,Movimentação!E:E,Estoque!A132,Movimentação!D:D,"SAÍDA") -> 1 | E132: =B132+C132-D132 -> 19
A133: PASTA DE JACARÉ VERDE | B133: 23 | C133: =SUMIFS(Movimentação!F:F,Movimentação!E:E,Estoque!A133,Movimentação!D:D,"ENTRADA") -> 31 | D133: =SUMIFS(Movimentação!F:F,Movimentação!E:E,Estoque!A133,Movimentação!D:D,"SAÍDA") -> 39 | E133: =B133+C133-D133 -> 15
A134: PENEIRA (P) | C134: =SUMIFS(Movimentação!F:F,Movimentação!E:E,Estoque!A134,Movimentação!D:D,"ENTRADA") -> 5 | D134: =SUMIFS(Movimentação!F:F,Movimentação!E:E,Estoque!A134,Movimentação!D:D,"SAÍDA") -> 5 | E134: =B134+C134-D134 -> 0
A135: PINÇA | B135: 4 | C135: =SUMIFS(Movimentação!F:F,Movimentação!E:E,Estoque!A135,Movimentação!D:D,"ENTRADA") -> 0 | D135: =SUMIFS(Movimentação!F:F,Movimentação!E:E,Estoque!A135,Movimentação!D:D,"SAÍDA") -> 1 | E135: =B135+C135-D135 -> 3
A136: PINÇA DE BANCADA | C136: =SUMIFS(Movimentação!F:F,Movimentação!E:E,Estoque!A136,Movimentação!D:D,"ENTRADA") -> 3 | D136: =SUMIFS(Movimentação!F:F,Movimentação!E:E,Estoque!A136,Movimentação!D:D,"SAÍDA") -> 1 | E136: =B136+C136-D136 -> 2
A137: PINÇA DE FUNDIÇÃO | B137: 2 | C137: =SUMIFS(Movimentação!F:F,Movimentação!E:E,Estoque!A137,Movimentação!D:D,"ENTRADA") -> 0 | D137: =SUMIFS(Movimentação!F:F,Movimentação!E:E,Estoque!A137,Movimentação!D:D,"SAÍDA") -> 0 | E137: =B137+C137-D137 -> 2
A138: PINÇA DE MOLA | B138: 5 | C138: =SUMIFS(Movimentação!F:F,Movimentação!E:E,Estoque!A138,Movimentação!D:D,"ENTRADA") -> 0 | D138: =SUMIFS(Movimentação!F:F,Movimentação!E:E,Estoque!A138,Movimentação!D:D,"SAÍDA") -> 0 | E138: =B138+C138-D138 -> 5
A139: PINCEL 1 (25.4mm) | B139: 2 | C139: =SUMIFS(Movimentação!F:F,Movimentação!E:E,Estoque!A139,Movimentação!D:D,"ENTRADA") -> 10 | D139: =SUMIFS(Movimentação!F:F,Movimentação!E:E,Estoque!A139,Movimentação!D:D,"SAÍDA") -> 2 | E139: =B139+C139-D139 -> 10
A140: PINCEL 1/2 (12.7mm) | B140: 6 | C140: =SUMIFS(Movimentação!F:F,Movimentação!E:E,Estoque!A140,Movimentação!D:D,"ENTRADA") -> 10 | D140: =SUMIFS(Movimentação!F:F,Movimentação!E:E,Estoque!A140,Movimentação!D:D,"SAÍDA") -> 11 | E140: =B140+C140-D140 -> 5
A141: PINCEL 2 (50.8mm) | B141: 2 | C141: =SUMIFS(Movimentação!F:F,Movimentação!E:E,Estoque!A141,Movimentação!D:D,"ENTRADA") -> 10 | D141: =SUMIFS(Movimentação!F:F,Movimentação!E:E,Estoque!A141,Movimentação!D:D,"SAÍDA") -> 3 | E141: =B141+C141-D141 -> 9
A142: PINCEL 4 (101.6mm) | B142: 1 | C142: =SUMIFS(Movimentação!F:F,Movimentação!E:E,Estoque!A142,Movimentação!D:D,"ENTRADA") -> 10 | D142: =SUMIFS(Movimentação!F:F,Movimentação!E:E,Estoque!A142,Movimentação!D:D,"SAÍDA") -> 2 | E142: =B142+C142-D142 -> 9
A143: PINO FIEIRA DE PRATA | B143: 15 | C143: =SUMIFS(Movimentação!F:F,Movimentação!E:E,Estoque!A143,Movimentação!D:D,"ENTRADA") -> 0 | D143: =SUMIFS(Movimentação!F:F,Movimentação!E:E,Estoque!A143,Movimentação!D:D,"SAÍDA") -> 3 | E143: =B143+C143-D143 -> 12
...

Sheet Movimentação
A1: Data | B1: MÊS | C1: ANO | D1: TIPO | E1: Equipamento | F1: QUANTIDADE
A2: 45157 | B2: =UPPER(TEXT(TblMovi[[#This Row],[Data]],"MMM")) -> AGO | C2: =TEXT(TblMovi[[#This Row],[Data]],"aaaa") -> 2023 | D2: SAÍDA | E2: ALGODÃO HIDRÓFILO | F2: 1
A3: 45159 | B3: =UPPER(TEXT(TblMovi[[#This Row],[Data]],"MMM")) -> AGO | C3: =TEXT(TblMovi[[#This Row],[Data]],"aaaa") -> 2023 | D3: SAÍDA | E3: LIXA 400 | F3: 4
A4: 45159 | B4: =UPPER(TEXT(TblMovi[[#This Row],[Data]],"MMM")) -> AGO | C4: =TEXT(TblMovi[[#This Row],[Data]],"aaaa") -> 2023 | D4: SAÍDA | E4: ESPARADRAPO | F4: 1
A5: 45159 | B5: =UPPER(TEXT(TblMovi[[#This Row],[Data]],"MMM")) -> AGO | C5: =TEXT(TblMovi[[#This Row],[Data]],"aaaa") -> 2023 | D5: SAÍDA | E5: LIXA P1200 | F5: 5
A6: 45160 | B6: =UPPER(TEXT(TblMovi[[#This Row],[Data]],"MMM")) -> AGO | C6: =TEXT(TblMovi[[#This Row],[Data]],"aaaa") -> 2023 | D6: SAÍDA | E6: MOTOR DE BANCA | F6: 1
A7: 45160 | B7: =UPPER(TEXT(TblMovi[[#This Row],[Data]],"MMM")) -> AGO | C7: =TEXT(TblMovi[[#This Row],[Data]],"aaaa") -> 2023 | D7: SAÍDA | E7: RODA DE LUSTRE | F7: 1
A8: 45160 | B8: =UPPER(TEXT(TblMovi[[#This Row],[Data]],"MMM")) -> AGO | C8: =TEXT(TblMovi[[#This Row],[Data]],"aaaa") -> 2023 | D8: SAÍDA | E8: RODA DE FELTRO | F8: 5
A9: 45160 | B9: =UPPER(TEXT(TblMovi[[#This Row],[Data]],"MMM")) -> AGO | C9: =TEXT(TblMovi[[#This Row],[Data]],"aaaa") -> 2023 | D9: SAÍDA | E9: LIXA P1200 | F9: 7
A10: 45160 | B10: =UPPER(TEXT(TblMovi[[#This Row],[Data]],"MMM")) -> AGO | C10: =TEXT(TblMovi[[#This Row],[Data]],"aaaa") -> 2023 | D10: SAÍDA | E10: LIXA P1200 | F10: 7
A11: 45160 | B11: =UPPER(TEXT(TblMovi[[#This Row],[Data]],"MMM")) -> AGO | C11: =TEXT(TblMovi[[#This Row],[Data]],"aaaa") -> 2023 | D11: SAÍDA | E11: PROTETOR AUDITIVO | F11: 1
A12: 45160 | B12: =UPPER(TEXT(TblMovi[[#This Row],[Data]],"MMM")) -> AGO | C12: =TEXT(TblMovi[[#This Row],[Data]],"aaaa") -> 2023 | D12: SAÍDA | E12: FLANELA | F12: 1
A13: 45161 | B13: =UPPER(TEXT(TblMovi[[#This Row],[Data]],"MMM")) -> AGO | C13: =TEXT(TblMovi[[#This Row],[Data]],"aaaa") -> 2023 | D13: SAÍDA | E13: CADINHO (1) | F13: 1
... A329: 45210 | B329: =UPPER(TEXT(TblMovi[[#This Row],[Data]],"MMM")) -> OUT | C329: =TEXT(TblMovi[[#This Row],[Data]],"aaaa") -> 2023 | D329: ENTRADA | E329: FELTRO DE BANCADA (P) | F329: 12
A330: 45210 | B330: =UPPER(TEXT(TblMovi[[#This Row],[Data]],"MMM")) -> OUT | C330: =TEXT(TblMovi[[#This Row],[Data]],"aaaa") -> 2023 | D330: ENTRADA | E330: AGULHA DE MAGNETO | F330: =2000/1000 -> 2
A331: 45210 | B331: =UPPER(TEXT(TblMovi[[#This Row],[Data]],"MMM")) -> OUT | C331: =TEXT(TblMovi[[#This Row],[Data]],"aaaa") -> 2023 | D331: ENTRADA | E331: MAQUINA DE CRAVAÇÃO (90-x/Au-35) | F331: 1
A332: 45210 | B332: =UPPER(TEXT(TblMovi[[#This Row],[Data]],"MMM")) -> OUT | C332: =TEXT(TblMovi[[#This Row],[Data]],"aaaa") -> 2023 | D332: ENTRADA | E332: MAQUINA DE CRAVAÇÃO (ACO-9610) | F332: 1
A333: 45210 | B333: =UPPER(TEXT(TblMovi[[#This Row],[Data]],"MMM")) -> OUT | C333: =TEXT(TblMovi[[#This Row],[Data]],"aaaa") -> 2023 | D333: ENTRADA | E333: DEDEIRA LUVA | F333: 759
A334: 45210 | B334: =UPPER(TEXT(TblMovi[[#This Row],[Data]],"MMM")) -> OUT | C334: =TEXT(TblMovi[[#This Row],[Data]],"aaaa") -> 2023 | D334: SAÍDA | E334: CONE 62 | F334: 2
A335: 45210 | B335: =UPPER(TEXT(TblMovi[[#This Row],[Data]],"MMM")) -> OUT | C335: =TEXT(TblMovi[[#This Row],[Data]],"aaaa") -> 2023 | D335: SAÍDA | E335: AGULHA DE MAGNETO | F335: =2000/1000 -> 2
A336: 45210 | B336: =UPPER(TEXT(TblMovi[[#This Row],[Data]],"MMM")) -> OUT | C336: =TEXT(TblMovi[[#This Row],[Data]],"aaaa") -> 2023 | D336: SAÍDA | E336: DEDEIRA LUVA | F336: 2
A337: 45210 | B337: =UPPER(TEXT(TblMovi[[#This Row],[Data]],"MMM")) -> OUT | C337: =TEXT(TblMovi[[#This Row],[Data]],"aaaa") -> 2023 | D337: SAÍDA | E337: LUMINÁRIA COM GARRA E MOLA | F337: 1
A338: 45210 | B338: =UPPER(TEXT(TblMovi[[#This Row],[Data]],"MMM")) -> OUT | C338: =TEXT(TblMovi[[#This Row],[Data]],"aaaa") -> 2023 | D338: SAÍDA | E338: ALICATE DE CORTE P/JOIAS | F338: 1
A339: 45210 | B339: =UPPER(TEXT(TblMovi[[#This Row],[Data]],"MMM")) -> OUT | C339: =TEXT(TblMovi[[#This Row],[Data]],"aaaa") -> 2023 | D339: SAÍDA | E339: DEDEIRA LUVA | F339: 3
A340: 45210 | B340: =UPPER(TEXT(TblMovi[[#This Row],[Data]],"MMM")) -> OUT | C340: =TEXT(TblMovi[[#This Row],[Data]],"aaaa") -> 2023 | D340: SAÍDA | E340: PINÇA DE BANCADA | F340: 1
A341: 45210 | B341: =UPPER(TEXT(TblMovi[[#This Row],[Data]],"MMM")) -> OUT | C341: =TEXT(TblMovi[[#This Row],[Data]],"aaaa") -> 2023 | D341: SAÍDA | E341: DEDEIRA LUVA | F341: 6
A342: 45210 | B342: =UPPER(TEXT(TblMovi[[#This Row],[Data]],"MMM")) -> OUT | C342: =TEXT(TblMovi[[#This Row],[Data]],"aaaa") -> 2023 | D342: SAÍDA | E342: LIXA 400 | F342: 1
A343: 45211 | B343: =UPPER(TEXT(TblMovi[[#This Row],[Data]],"MMM")) -> OUT | C343: =TEXT(TblMovi[[#This Row],[Data]],"aaaa") -> 2023 | D343: SAÍDA | E343: CONE 62 | F343: 1
A344: 45211 | B344: =UPPER(TEXT(TblMovi[[#This Row],[Data]],"MMM")) -> OUT | C344: =TEXT(TblMovi[[#This Row],[Data]],"aaaa") -> 2023 | D344: SAÍDA | E344: RODA DE LUSTRE | F344: 1
A345: 45211 | B345: =UPPER(TEXT(TblMovi[[#This Row],[Data]],"MMM")) -> OUT | C345: =TEXT(TblMovi[[#This Row],[Data]],"aaaa") -> 2023 | D345: SAÍDA | E345: RODA JEANS (P) | F345: 1
A346: 45211 | B346: =UPPER(TEXT(TblMovi[[#This Row],[Data]],"MMM")) -> OUT | C346: =TEXT(TblMovi[[#This Row],[Data]],"aaaa") -> 2023 | D346: SAÍDA | E346: RODA DE FELTRO | F346: 1
A347: 45211 | B347: =UPPER(TEXT(TblMovi[[#This Row],[Data]],"MMM")) -> OUT | C347: =TEXT(TblMovi[[#This Row],[Data]],"aaaa") -> 2023 | D347: SAÍDA | E347: LIXA P1200 | F347: 5
... A1928: 45378 | B1928: =UPPER(TEXT(TblMovi[[#This Row],[Data]],"MMM")) -> MAR | C1928: =TEXT(TblMovi[[#This Row],[Data]],"aaaa") -> 2024 | D1928: SAÍDA | E1928: LIXA 400 | F1928: 2
A1929: 45379 | B1929: #REF! | C1929: #REF! | D1929: SAÍDA | E1929: LUVA TATEX PRETA | F1929: 1
A1930: 45379 | B1930: #REF! | C1930: #REF! | D1930: SAÍDA | E1930: CADINHO (5) | F1930: 1
A1931: 45379 | B1931: MAR | C1931: 2024 | D1931: ENTRADA | E1931: ESPARADRAPO | F1931: 36
A1932: 45379 | B1932: MAR | C1932: 2024 | D1932: SAÍDA | E1932: DETERGENTE (Coco) | F1932: 1
A1933: 45379 | B1933: MAR | C1933: 2024 | D1933: SAÍDA | E1933: FIEIRA DE OURO PAREDE FINA | F1933: 1
A1934: 45379 | B1934: MAR | C1934: 2024 | D1934: SAÍDA | E1934: CADINHO (PAREDE FINA DE OURO) | F1934: 1
A1935: 45379 | B1935: MAR | C1935: 2024 | D1935: SAÍDA | E1935: MÁSCARA | F1935: 1
A1936: 45379 | B1936: MAR | C1936: 2024 | D1936: SAÍDA | E1936: ESPARADRAPO | F1936: 1
A1937: 45379 | B1937: MAR | C1937: 2024 | D1937: ENTRADA | E1937: PINCEL 1 (25.4mm) | F1937: 10
A1938: 45379 | B1938: MAR | C1938: 2024 | D1938: ENTRADA | E1938: PINCEL 1/2 (12.7mm) | F1938: 10
A1939: 45379 | B1939: MAR | C1939: 2024 | D1939: ENTRADA | E1939: PINCEL 2 (50.8mm) | F1939: 10
A1940: 45379 | B1940: MAR | C1940: 2024 | D1940: ENTRADA | E1940: PINCEL 4 (101.6mm) | F1940: 10
A1941: 45379 | B1941: MAR | C1941: 2024 | D1941: SAÍDA | E1941: PINCEL 2 (50.8mm) | F1941: 1
A1942: 45383 | B1942: ABR | C1942: 2024 | D1942: SAÍDA | E1942: MÁSCARA | F1942: 1
... A1971: 45383 | B1971: ABR | C1971: 2024 | D1971: SAÍDA | E1971: MÁSCARA | F1971: 1

Sheet Retirada Material
A1: Data | B1: Mês | C1: Ano | D1: Tipo | E1: Equipamento | F1: Qtde. | G1: Material | H1: Entregue Por | I1: Recebido Por | J1: Asinatura | K1: Qtd | L1: Aux
A2: 45187 | B2: =UPPER(TEXT(ControleProdução[[#This Row],[Data]],"mmm")) -> SET | C2: =YEAR(ControleProdução[[#This Row],[Data]]) -> 2023 | D2: SAÍDA | E2: FLANELA | F2: 1 | G2: =_xlfn.XLOOKUP(E2,TbdeEPI[EPI],TbdeEPI[TIPO],"Produção",0) -> Produção | H2: RHUAN | I2: ALEXANDRE | K2: =COUNTIF($I$2:I2,I2) -> 1 | L2: =ControleProdução[[#This Row],[Recebido Por]]&ControleProdução[[#This Row],[Qtd]] -> ALEXANDRE1
A3: 45192 | B3: =UPPER(TEXT(ControleProdução[[#This Row],[Data]],"mmm")) -> SET | C3: =YEAR(ControleProdução[[#This Row],[Data]]) -> 2023 | D3: SAÍDA | E3: FLANELA | F3: 1 | G3: =_xlfn.XLOOKUP(E3,TbdeEPI[EPI],TbdeEPI[TIPO],"Produção",0) -> Produção | H3: RHUAN | I3: ASNAN | K3: =COUNTIF($I$2:I3,I3) -> 1 | L3: =ControleProdução[[#This Row],[Recebido Por]]&ControleProdução[[#This Row],[Qtd]] -> ASNAN1
A4: 45194 | B4: =UPPER(TEXT(ControleProdução[[#This Row],[Data]],"mmm")) -> SET | C4: =YEAR(ControleProdução[[#This Row],[Data]]) -> 2023 | D4: SAÍDA | E4: FLANELA | F4: 3 | G4: =_xlfn.XLOOKUP(E4,TbdeEPI[EPI],TbdeEPI[TIPO],"Produção",0) -> Produção | H4: RHUAN | I4: ALAN | K4: =COUNTIF($I$2:I4,I4) -> 1 | L4: =ControleProdução[[#This Row],[Recebido Por]]&ControleProdução[[#This Row],[Qtd]] -> ALAN1
A5: 45194 | B5: =UPPER(TEXT(ControleProdução[[#This Row],[Data]],"mmm")) -> SET | C5: =YEAR(ControleProdução[[#This Row],[Data]]) -> 2023 | D5: SAÍDA | E5: RODA DE LUSTRE | F5: 1 | G5: =_xlfn.XLOOKUP(E5,TbdeEPI[EPI],TbdeEPI[TIPO],"Produção",0) -> Produção | H5: RHUAN | I5: FELIPE | K5: =COUNTIF($I$2:I5,I5) -> 1 | L5: =ControleProdução[[#This Row],[Recebido Por]]&ControleProdução[[#This Row],[Qtd]] -> FELIPE1
A6: 45195 | B6: =UPPER(TEXT(ControleProdução[[#This Row],[Data]],"mmm")) -> SET | C6: =YEAR(ControleProdução[[#This Row],[Data]]) -> 2023 | D6: SAÍDA | E6: FLANELA | F6: 2 | G6: =_xlfn.XLOOKUP(E6,TbdeEPI[EPI],TbdeEPI[TIPO],"Produção",0) -> Produção | H6: RHUAN | I6: ASNAN | K6: =COUNTIF($I$2:I6,I6) -> 2 | L6: =ControleProdução[[#This Row],[Recebido Por]]&ControleProdução[[#This Row],[Qtd]] -> ASNAN2
A7: 45196 | B7: =UPPER(TEXT(ControleProdução[[#This Row],[Data]],"mmm")) -> SET | C7: =YEAR(ControleProdução[[#This Row],[Data]]) -> 2023 | D7: SAÍDA | E7: FLANELA | F7: 1 | G7: =_xlfn.XLOOKUP(E7,TbdeEPI[EPI],TbdeEPI[TIPO],"Produção",0) -> Produção | H7: RHUAN | I7: RHUAN | K7: =COUNTIF($I$2:I7,I7) -> 1 | L7: =ControleProdução[[#This Row],[Recebido Por]]&ControleProdução[[#This Row],[Qtd]] -> RHUAN1
A8: 45196 | B8: =UPPER(TEXT(ControleProdução[[#This Row],[Data]],"mmm")) -> SET | C8: =YEAR(ControleProdução[[#This Row],[Data]]) -> 2023 | D8: SAÍDA | E8: RODA DE LUSTRE | F8: 1 | G8: =_xlfn.XLOOKUP(E8,TbdeEPI[EPI],TbdeEPI[TIPO],"Produção",0) -> Produção | H8: RHUAN | I8: MANUA | K8: =COUNTIF($I$2:I8,I8) -> 1 | L8: =ControleProdução[[#This Row],[Recebido Por]]&ControleProdução[[#This Row],[Qtd]] -> MANUA1
A9: 45197 | B9: =UPPER(TEXT(ControleProdução[[#This Row],[Data]],"mmm")) -> SET | C9: =YEAR(ControleProdução[[#This Row],[Data]]) -> 2023 | D9: SAÍDA | E9: FLANELA | F9: 1 | G9: =_xlfn.XLOOKUP(E9,TbdeEPI[EPI],TbdeEPI[TIPO],"Produção",0) -> Produção | H9: RHUAN | I9: MOISES | K9: =COUNTIF($I$2:I9,I9) -> 1 | L9: =ControleProdução[[#This Row],[Recebido Por]]&ControleProdução[[#This Row],[Qtd]] -> MOISES1
A10: 45197 | B10: =UPPER(TEXT(ControleProdução[[#This Row],[Data]],"mmm")) -> SET | C10: =YEAR(ControleProdução[[#This Row],[Data]]) -> 2023 | D10: SAÍDA | E10: RODA DE LUSTRE | F10: 1 | G10: =_xlfn.XLOOKUP(E10,TbdeEPI[EPI],TbdeEPI[TIPO],"Produção",0) -> Produção | H10: RHUAN | I10: JOÃO CARLOS | K10: =COUNTIF($I$2:I10,I10) -> 1 | L10: =ControleProdução[[#This Row],[Recebido Por]]&ControleProdução[[#This Row],[Qtd]] -> JOÃO CARLOS1
A11: 45197 | B11: =UPPER(TEXT(ControleProdução[[#This Row],[Data]],"mmm")) -> SET | C11: =YEAR(ControleProdução[[#This Row],[Data]]) -> 2023 | D11: SAÍDA | E11: RODA DE LUSTRE | F11: 1 | G11: =_xlfn.XLOOKUP(E11,TbdeEPI[EPI],TbdeEPI[TIPO],"Produção",0) -> Produção | H11: RHUAN | I11: ASNAN | K11: =COUNTIF($I$2:I11,I11) -> 3 | L11: =ControleProdução[[#This Row],[Recebido Por]]&ControleProdução[[#This Row],[Qtd]] -> ASNAN3
A12: 45198 | B12: =UPPER(TEXT(ControleProdução[[#This Row],[Data]],"mmm")) -> SET | C12: =YEAR(ControleProdução[[#This Row],[Data]]) -> 2023 | D12: SAÍDA | E12: RODA DE LUSTRE | F12: 1 | G12: =_xlfn.XLOOKUP(E12,TbdeEPI[EPI],TbdeEPI[TIPO],"Produção",0) -> Produção | H12: RHUAN | I12: GILDSON | K12: =COUNTIF($I$2:I12,I12) -> 1 | L12: =ControleProdução[[#This Row],[Recebido Por]]&ControleProdução[[#This Row],[Qtd]] -> GILDSON1
A13: 45201 | B13: =UPPER(TEXT(ControleProdução[[#This Row],[Data]],"mmm")) -> OUT | C13: =YEAR(ControleProdução[[#This Row],[Data]]) -> 2023 | D13: SAÍDA | E13: LIXA 600 | F13: 6 | G13: =_xlfn.XLOOKUP(E13,TbdeEPI[EPI],TbdeEPI[TIPO],"Produção",0) -> Produção | H13: RHUAN | I13: ALAN | K13: =COUNTIF($I$2:I13,I13) -> 2 | L13: =ControleProdução[[#This Row],[Recebido Por]]&ControleProdução[[#This Row],[Qtd]] -> ALAN2
... A97: 45210 | B97: =UPPER(TEXT(ControleProdução[[#This Row],[Data]],"mmm")) -> OUT | C97: =YEAR(ControleProdução[[#This Row],[Data]]) -> 2023 | D97: ENTRADA | E97: FELTRO DE BANCADA (P) | F97: 12 | G97: =_xlfn.XLOOKUP(E97,TbdeEPI[EPI],TbdeEPI[TIPO],"Produção",0) -> Produção | H97: RAFAEL | I97: RHUAN | K97: =COUNTIF($I$2:I97,I97) -> 20 | L97: =ControleProdução[[#This Row],[Recebido Por]]&ControleProdução[[#This Row],[Qtd]] -> RHUAN20
A98: 45210 | B98: =UPPER(TEXT(ControleProdução[[#This Row],[Data]],"mmm")) -> OUT | C98: =YEAR(ControleProdução[[#This Row],[Data]]) -> 2023 | D98: ENTRADA | E98: AGULHA DE MAGNETO | F98: =2000/1000 -> 2 | G98: =_xlfn.XLOOKUP(E98,TbdeEPI[EPI],TbdeEPI[TIPO],"Produção",0) -> Produção | H98: RAFAEL | I98: RHUAN | K98: =COUNTIF($I$2:I98,I98) -> 21 | L98: =ControleProdução[[#This Row],[Recebido Por]]&ControleProdução[[#This Row],[Qtd]] -> RHUAN21
A99: 45210 | B99: =UPPER(TEXT(ControleProdução[[#This Row],[Data]],"mmm")) -> OUT | C99: =YEAR(ControleProdução[[#This Row],[Data]]) -> 2023 | D99: ENTRADA | E99: MAQUINA DE CRAVAÇÃO (90-x/Au-35) | F99: 1 | G99: =_xlfn.XLOOKUP(E99,TbdeEPI[EPI],TbdeEPI[TIPO],"Produção",0) -> Produção | H99: RAFAEL | I99: RHUAN | K99: =COUNTIF($I$2:I99,I99) -> 22 | L99: =ControleProdução[[#This Row],[Recebido Por]]&ControleProdução[[#This Row],[Qtd]] -> RHUAN22
A100: 45210 | B100: =UPPER(TEXT(ControleProdução[[#This Row],[Data]],"mmm")) -> OUT | C100: =YEAR(ControleProdução[[#This Row],[Data]]) -> 2023 | D100: ENTRADA | E100: MAQUINA DE CRAVAÇÃO (ACO-9610) | F100: 1 | G100: =_xlfn.XLOOKUP(E100,TbdeEPI[EPI],TbdeEPI[TIPO],"Produção",0) -> Produção | H100: RAFAEL | I100: RHUAN | K100: =COUNTIF($I$2:I100,I100) -> 23 | L100: =ControleProdução[[#This Row],[Recebido Por]]&ControleProdução[[#This Row],[Qtd]] -> RHUAN23
A101: 45210 | B101: =UPPER(TEXT(ControleProdução[[#This Row],[Data]],"mmm")) -> OUT | C101: =YEAR(ControleProdução[[#This Row],[Data]]) -> 2023 | D101: ENTRADA | E101: DEDEIRA LUVA | F101: 759 | G101: =_xlfn.XLOOKUP(E101,TbdeEPI[EPI],TbdeEPI[TIPO],"Produção",0) -> Produção | H101: RAFAEL | I101: RHUAN | K101: =COUNTIF($I$2:I101,I101) -> 24 | L101: =ControleProdução[[#This Row],[Recebido Por]]&ControleProdução[[#This Row],[Qtd]] -> RHUAN24
A102: 45210 | B102: =UPPER(TEXT(ControleProdução[[#This Row],[Data]],"mmm")) -> OUT | C102: =YEAR(ControleProdução[[#This Row],[Data]]) -> 2023 | D102: SAÍDA | E102: CONE 62 | F102: 2 | G102: =_xlfn.XLOOKUP(E102,TbdeEPI[EPI],TbdeEPI[TIPO],"Produção",0) -> Produção | H102: RHUAN | I102: ARTHUR | K102: =COUNTIF($I$2:I102,I102) -> 2 | L102: =ControleProdução[[#This Row],[Recebido Por]]&ControleProdução[[#This Row],[Qtd]] -> ARTHUR2
A103: 45210 | B103: =UPPER(TEXT(ControleProdução[[#This Row],[Data]],"mmm")) -> OUT | C103: =YEAR(ControleProdução[[#This Row],[Data]]) -> 2023 | D103: SAÍDA | E103: AGULHA DE MAGNETO | F103: =2000/1000 -> 2 | G103: =_xlfn.XLOOKUP(E103,TbdeEPI[EPI],TbdeEPI[TIPO],"Produção",0) -> Produção | H103: RHUAN | I103: ALEXANDRE | K103: =COUNTIF($I$2:I103,I103) -> 2 | L103: =ControleProdução[[#This Row],[Recebido Por]]&ControleProdução[[#This Row],[Qtd]] -> ALEXANDRE2
A104: 45210 | B104: =UPPER(TEXT(ControleProdução[[#This Row],[Data]],"mmm")) -> OUT | C104: =YEAR(ControleProdução[[#This Row],[Data]]) -> 2023 | D104: SAÍDA | E104: DEDEIRA LUVA | F104: 2 | G104: =_xlfn.XLOOKUP(E104,TbdeEPI[EPI],TbdeEPI[TIPO],"Produção",0) -> Produção | H104: RHUAN | I104: RAFAEL | K104: =COUNTIF($I$2:I104,I104) -> 2 | L104: =ControleProdução[[#This Row],[Recebido Por]]&ControleProdução[[#This Row],[Qtd]] -> RAFAEL2
A105: 45210 | B105: =UPPER(TEXT(ControleProdução[[#This Row],[Data]],"mmm")) -> OUT | C105: =YEAR(ControleProdução[[#This Row],[Data]]) -> 2023 | D105: SAÍDA | E105: LUMINÁRIA COM GARRA E MOLA | F105: 1 | G105: =_xlfn.XLOOKUP(E105,TbdeEPI[EPI],TbdeEPI[TIPO],"Produção",0) -> Produção | H105: ROBSON | I105: ALEXANDRE | K105: =COUNTIF($I$2:I105,I105) -> 3 | L105: =ControleProdução[[#This Row],[Recebido Por]]&ControleProdução[[#This Row],[Qtd]] -> ALEXANDRE3
A106: 45210 | B106: =UPPER(TEXT(ControleProdução[[#This Row],[Data]],"mmm")) -> OUT | C106: =YEAR(ControleProdução[[#This Row],[Data]]) -> 2023 | D106: SAÍDA | E106: ALICATE DE CORTE P/JOIAS | F106: 1 | G106: =_xlfn.XLOOKUP(E106,TbdeEPI[EPI],TbdeEPI[TIPO],"Produção",0) -> Produção | H106: RHUAN | I106: ALEXANDRE | K106: =COUNTIF($I$2:I106,I106) -> 4 | L106: =ControleProdução[[#This Row],[Recebido Por]]&ControleProdução[[#This Row],[Qtd]] -> ALEXANDRE4
A107: 45210 | B107: =UPPER(TEXT(ControleProdução[[#This Row],[Data]],"mmm")) -> OUT | C107: =YEAR(ControleProdução[[#This Row],[Data]]) -> 2023 | D107: SAÍDA | E107: DEDEIRA LUVA | F107: 3 | G107: =_xlfn.XLOOKUP(E107,TbdeEPI[EPI],TbdeEPI[TIPO],"Produção",0) -> Produção | H107: RHUAN | I107: ALEXANDRE | K107: =COUNTIF($I$2:I107,I107) -> 5 | L107: =ControleProdução[[#This Row],[Recebido Por]]&ControleProdução[[#This Row],[Qtd]] -> ALEXANDRE5
A108: 45210 | B108: =UPPER(TEXT(ControleProdução[[#This Row],[Data]],"mmm")) -> OUT | C108: =YEAR(ControleProdução[[#This Row],[Data]]) -> 2023 | D108: SAÍDA | E108: PINÇA DE BANCADA | F108: 1 | G108: =_xlfn.XLOOKUP(E108,TbdeEPI[EPI],TbdeEPI[TIPO],"Produção",0) -> Produção | H108: RHUAN | I108: ALEXANDRE | K108: =COUNTIF($I$2:I108,I108) -> 6 | L108: =ControleProdução[[#This Row],[Recebido Por]]&ControleProdução[[#This Row],[Qtd]] -> ALEXANDRE6
A109: 45210 | B109: =UPPER(TEXT(ControleProdução[[#This Row],[Data]],"mmm")) -> OUT | C109: =YEAR(ControleProdução[[#This Row],[Data]]) -> 2023 | D109: SAÍDA | E109: DEDEIRA LUVA | F109: 6 | G109: =_xlfn.XLOOKUP(E109,TbdeEPI[EPI],TbdeEPI[TIPO],"Produção",0) -> Produção | H109: RHUAN | I109: ALAN | K109: =COUNTIF($I$2:I109,I109) -> 8 | L109: =ControleProdução[[#This Row],[Recebido Por]]&ControleProdução[[#This Row],[Qtd]] -> ALAN8
A110: 45210 | B110: =UPPER(TEXT(ControleProdução[[#This Row],[Data]],"mmm")) -> OUT | C110: =YEAR(ControleProdução[[#This Row],[Data]]) -> 2023 | D110: SAÍDA | E110: LIXA 400 | F110: 1 | G110: =_xlfn.XLOOKUP(E110,TbdeEPI[EPI],TbdeEPI[TIPO],"Produção",0) -> Produção | H110: RHUAN | I110: ALAN | K110: =COUNTIF($I$2:I110,I110) -> 9 | L110: =ControleProdução[[#This Row],[Recebido Por]]&ControleProdução[[#This Row],[Qtd]] -> ALAN9
A111: 45211 | B111: =UPPER(TEXT(ControleProdução[[#This Row],[Data]],"mmm")) -> OUT | C111: =YEAR(ControleProdução[[#This Row],[Data]]) -> 2023 | D111: SAÍDA | E111: CONE 62 | F111: 1 | G111: =_xlfn.XLOOKUP(E111,TbdeEPI[EPI],TbdeEPI[TIPO],"Produção",0) -> Produção | H111: RHUAN | I111: FELIPE | K111: =COUNTIF($I$2:I111,I111) -> 36 | L111: =ControleProdução[[#This Row],[Recebido Por]]&ControleProdução[[#This Row],[Qtd]] -> FELIPE36
A112: 45211 | B112: =UPPER(TEXT(ControleProdução[[#This Row],[Data]],"mmm")) -> OUT | C112: =YEAR(ControleProdução[[#This Row],[Data]]) -> 2023 | D112: SAÍDA | E112: RODA JEANS (P) | F112: 1 | G112: =_xlfn.XLOOKUP(E112,TbdeEPI[EPI],TbdeEPI[TIPO],"Produção",0) -> Produção | H112: RHUAN | I112: FELIPE | K112: =COUNTIF($I$2:I112,I112) -> 37 | L112: =ControleProdução[[#This Row],[Recebido Por]]&ControleProdução[[#This Row],[Qtd]] -> FELIPE37
A113: 45211 | B113: =UPPER(TEXT(ControleProdução[[#This Row],[Data]],"mmm")) -> OUT | C113: =YEAR(ControleProdução[[#This Row],[Data]]) -> 2023 | D113: SAÍDA | E113: RODA DE FELTRO | F113: 1 | G113: =_xlfn.XLOOKUP(E113,TbdeEPI[EPI],TbdeEPI[TIPO],"Produção",0) -> Produção | H113: RHUAN | I113: FELIPE | K113: =COUNTIF($I$2:I113,I113) -> 38 | L113: =ControleProdução[[#This Row],[Recebido Por]]&ControleProdução[[#This Row],[Qtd]] -> FELIPE38
A114: 45211 | B114: =UPPER(TEXT(ControleProdução[[#This Row],[Data]],"mmm")) -> OUT | C114: =YEAR(ControleProdução[[#This Row],[Data]]) -> 2023 | D114: SAÍDA | E114: LIXA P1200 | F114: 5 | G114: =_xlfn.XLOOKUP(E114,TbdeEPI[EPI],TbdeEPI[TIPO],"Produção",0) -> Produção | H114: RHUAN | I114: FELIPE | K114: =COUNTIF($I$2:I114,I114) -> 39 | L114: =ControleProdução[[#This Row],[Recebido Por]]&ControleProdução[[#This Row],[Qtd]] -> FELIPE39
A115: 45211 | B115: =UPPER(TEXT(ControleProdução[[#This Row],[Data]],"mmm")) -> OUT | C115: =YEAR(ControleProdução[[#This Row],[Data]]) -> 2023 | D115: SAÍDA | E115: ESPARADRAPO | F115: 1 | G115: =_xlfn.XLOOKUP(E115,TbdeEPI[EPI],TbdeEPI[TIPO],"Produção",0) -> Produção | H115: RHUAN | I115: FELIPE | K115: =COUNTIF($I$2:I115,I115) -> 40 | L115: =ControleProdução[[#This Row],[Recebido Por]]&ControleProdução[[#This Row],[Qtd]] -> FELIPE40
... A254: 45229 | B254: =UPPER(TEXT(ControleProdução[[#This Row],[Data]],"mmm")) -> OUT | C254: =YEAR(ControleProdução[[#This Row],[Data]]) -> 2023 | D254: SAÍDA | E254: RODA DE LUSTRE | F254: 1 | G254: =_xlfn.XLOOKUP(E254,TbdeEPI[EPI],TbdeEPI[TIPO],"Produção",0) -> Produção | H254: RHUAN | I254: ALAIM | K254: =COUNTIF($I$2:I254,I254) -> 10 | L254: =ControleProdução[[#This Row],[Recebido Por]]&ControleProdução[[#This Row],[Qtd]] -> ALAIM10
A255: 45230 | B255: OUT | C255: =YEAR(ControleProdução[[#This Row],[Data]]) -> 2023 | D255: SAÍDA | E255: CONE 62 | F255: 2 | G255: =_xlfn.XLOOKUP(E255,TbdeEPI[EPI],TbdeEPI[TIPO],"Produção",0) -> Produção | H255: RHUAN | I255: RAFAEL | K255: =COUNTIF($I$2:I255,I255) -> 3 | L255: =ControleProdução[[#This Row],[Recebido Por]]&ControleProdução[[#This Row],[Qtd]] -> RAFAEL3
A256: 45230 | B256: OUT | C256: =YEAR(ControleProdução[[#This Row],[Data]]) -> 2023 | D256: SAÍDA | E256: BISTURI | F256: 1 | G256: =_xlfn.XLOOKUP(E256,TbdeEPI[EPI],TbdeEPI[TIPO],"Produção",0) -> Produção | H256: RHUAN | I256: RAFAEL | K256: =COUNTIF($I$2:I256,I256) -> 4 | L256: =ControleProdução[[#This Row],[Recebido Por]]&ControleProdução[[#This Row],[Qtd]] -> RAFAEL4
A257: 45230 | B257: OUT | C257: =YEAR(ControleProdução[[#This Row],[Data]]) -> 2023 | D257: SAÍDA | E257: MÁSCARA | F257: 1 | G257: =_xlfn.XLOOKUP(E257,TbdeEPI[EPI],TbdeEPI[TIPO],"Produção",0) -> EPI | H257: RHUAN | I257: MOISES | K257: =COUNTIF($I$2:I257,I257) -> 10 | L257: =ControleProdução[[#This Row],[Recebido Por]]&ControleProdução[[#This Row],[Qtd]] -> MOISES10
A258: 45230 | B258: OUT | C258: =YEAR(ControleProdução[[#This Row],[Data]]) -> 2023 | D258: SAÍDA | E258: LIXA 400 | F258: 6 | G258: =_xlfn.XLOOKUP(E258,TbdeEPI[EPI],TbdeEPI[TIPO],"Produção",0) -> Produção | H258: RHUAN | I258: JOÃO CARLOS | K258: =COUNTIF($I$2:I258,I258) -> 10 | L258: =ControleProdução[[#This Row],[Recebido Por]]&ControleProdução[[#This Row],[Qtd]] -> JOÃO CARLOS10
A259: 45230 | B259: OUT | C259: =YEAR(ControleProdução[[#This Row],[Data]]) -> 2023 | D259: SAÍDA | E259: CONE 60 | F259: 1 | G259: =_xlfn.XLOOKUP(E259,TbdeEPI[EPI],TbdeEPI[TIPO],"Produção",0) -> Produção | H259: RHUAN | I259: FELIPE | K259: =COUNTIF($I$2:I259,I259) -> 88 | L259: =ControleProdução[[#This Row],[Recebido Por]]&ControleProdução[[#This Row],[Qtd]] -> FELIPE88
A260: 45230 | B260: =UPPER(TEXT(ControleProdução[[#This Row],[Data]],"mmm")) -> OUT | C260: =YEAR(ControleProdução[[#This Row],[Data]]) -> 2023 | D260: SAÍDA | E260: LIXA P1200 | F260: 1 | G260: =_xlfn.XLOOKUP(E260,TbdeEPI[EPI],TbdeEPI[TIPO],"Produção",0) -> Produção | H260: RHUAN | I260: ALAN | K260: =COUNTIF($I$2:I260,I260) -> 22 | L260: =ControleProdução[[#This Row],[Recebido Por]]&ControleProdução[[#This Row],[Qtd]] -> ALAN22
A261: 45230 | B261: =UPPER(TEXT(ControleProdução[[#This Row],[Data]],"mmm")) -> OUT | C261: =YEAR(ControleProdução[[#This Row],[Data]]) -> 2023 | D261: ENTRADA | E261: FIXADOR PARA CABELOS EXTRA FORTE (JATO SECO) | F261: 3 | G261: =_xlfn.XLOOKUP(E261,TbdeEPI[EPI],TbdeEPI[TIPO],"Produção",0) -> Produção | H261: ROBSON | I261: RHUAN | K261: =COUNTIF($I$2:I261,I261) -> 39 | L261: =ControleProdução[[#This Row],[Recebido Por]]&ControleProdução[[#This Row],[Qtd]] -> RHUAN39
A262: 45230 | B262: =UPPER(TEXT(ControleProdução[[#This Row],[Data]],"mmm")) -> OUT | C262: =YEAR(ControleProdução[[#This Row],[Data]]) -> 2023 | D262: SAÍDA | E262: FIXADOR PARA CABELOS EXTRA FORTE (JATO SECO) | F262: 1 | G262: =_xlfn.XLOOKUP(E262,TbdeEPI[EPI],TbdeEPI[TIPO],"Produção",0) -> Produção | H262: RHUAN | I262: ALEXANDRE | K262: =COUNTIF($I$2:I262,I262) -> 15 | L262: =ControleProdução[[#This Row],[Recebido Por]]&ControleProdução[[#This Row],[Qtd]] -> ALEXANDRE15
A263: 45230 | B263: =UPPER(TEXT(ControleProdução[[#This Row],[Data]],"mmm")) -> OUT | C263: =YEAR(ControleProdução[[#This Row],[Data]]) -> 2023 | D263: SAÍDA | E263: MÁSCARA | F263: 2 | G263: =_xlfn.XLOOKUP(E263,TbdeEPI[EPI],TbdeEPI[TIPO],"Produção",0) -> EPI | H263: RHUAN | I263: ALDENOR | K263: =COUNTIF($I$2:I263,I263) -> 5 | L263: =ControleProdução[[#This Row],[Recebido Por]]&ControleProdução[[#This Row],[Qtd]] -> ALDENOR5
A264: 45230 | B264: OUT | C264: =YEAR(ControleProdução[[#This Row],[Data]]) -> 2023 | D264: SAÍDA | E264: FLANELA | F264: 1 | G264: =_xlfn.XLOOKUP(E264,TbdeEPI[EPI],TbdeEPI[TIPO],"Produção",0) -> Produção | H264: RHUAN | I264: ASNAN | K264: =COUNTIF($I$2:I264,I264) -> 7 | L264: =ControleProdução[[#This Row],[Recebido Por]]&ControleProdução[[#This Row],[Qtd]] -> ASNAN7
A265: 45230 | B265: =UPPER(TEXT(ControleProdução[[#This Row],[Data]],"mmm")) -> OUT | C265: =YEAR(ControleProdução[[#This Row],[Data]]) -> 2023 | D265: SAÍDA | E265: FLANELA | F265: 1 | G265: =_xlfn.XLOOKUP(E265,TbdeEPI[EPI],TbdeEPI[TIPO],"Produção",0) -> Produção | H265: RHUAN | I265: CALEB | K265: =COUNTIF($I$2:I265,I265) -> 6 | L265: =ControleProdução[[#This Row],[Recebido Por]]&ControleProdução[[#This Row],[Qtd]] -> CALEB6
A266: 45230 | B266: OUT | C266: =YEAR(ControleProdução[[#This Row],[Data]]) -> 2023 | D266: SAÍDA | E266: RODA DE LUSTRE | F266: 1 | G266: =_xlfn.XLOOKUP(E266,TbdeEPI[EPI],TbdeEPI[TIPO],"Produção",0) -> Produção | H266: RHUAN | I266: JOÃO CARLOS | K266: =COUNTIF($I$2:I266,I266) -> 11 | L266: =ControleProdução[[#This Row],[Recebido Por]]&ControleProdução[[#This Row],[Qtd]] -> JOÃO CARLOS11
A267: 45231 | B267: =UPPER(TEXT(ControleProdução[[#This Row],[Data]],"mmm")) -> NOV | C267: =YEAR(ControleProdução[[#This Row],[Data]]) -> 2023 | D267: SAÍDA | E267: MÁSCARA | F267: 1 | G267: =_xlfn.XLOOKUP(E267,TbdeEPI[EPI],TbdeEPI[TIPO],"Produção",0) -> EPI | H267: RHUAN | I267: MANUA | K267: =COUNTIF($I$2:I267,I267) -> 9 | L267: =ControleProdução[[#This Row],[Recebido Por]]&ControleProdução[[#This Row],[Qtd]] -> MANUA9
A268: 45231 | B268: =UPPER(TEXT(ControleProdução[[#This Row],[Data]],"mmm")) -> NOV | C268: =YEAR(ControleProdução[[#This Row],[Data]]) -> 2023 | D268: ENTRADA | E268: LUMINÁRIA DE BANCADA | F268: 1 | G268: =_xlfn.XLOOKUP(E268,TbdeEPI[EPI],TbdeEPI[TIPO],"Produção",0) -> Produção | H268: ROBSON | I268: RHUAN | K268: =COUNTIF($I$2:I268,I268) -> 40 | L268: =ControleProdução[[#This Row],[Recebido Por]]&ControleProdução[[#This Row],[Qtd]] -> RHUAN40
A269: 45231 | B269: =UPPER(TEXT(ControleProdução[[#This Row],[Data]],"mmm")) -> NOV | C269: =YEAR(ControleProdução[[#This Row],[Data]]) -> 2023 | D269: SAÍDA | E269: PROTETOR AUDITIVO | F269: 1 | G269: =_xlfn.XLOOKUP(E269,TbdeEPI[EPI],TbdeEPI[TIPO],"Produção",0) -> EPI | H269: RHUAN | I269: ALAIM | K269: =COUNTIF($I$2:I269,I269) -> 11 | L269: =ControleProdução[[#This Row],[Recebido Por]]&ControleProdução[[#This Row],[Qtd]] -> ALAIM11
A270: 45231 | B270: =UPPER(TEXT(ControleProdução[[#This Row],[Data]],"mmm")) -> NOV | C270: =YEAR(ControleProdução[[#This Row],[Data]]) -> 2023 | D270: SAÍDA | E270: MÁSCARA | F270: 1 | G270: =_xlfn.XLOOKUP(E270,TbdeEPI[EPI],TbdeEPI[TIPO],"Produção",0) -> EPI | H270: RHUAN | I270: JEFERSON | K270: =COUNTIF($I$2:I270,I270) -> 2 | L270: =ControleProdução[[#This Row],[Recebido Por]]&ControleProdução[[#This Row],[Qtd]] -> JEFERSON2
A271: 45231 | B271: =UPPER(TEXT(ControleProdução[[#This Row],[Data]],"mmm")) -> NOV | C271: =YEAR(ControleProdução[[#This Row],[Data]]) -> 2023 | D271: SAÍDA | E271: RODA JEANS (P) | F271: 1 | G271: =_xlfn.XLOOKUP(E271,TbdeEPI[EPI],TbdeEPI[TIPO],"Produção",0) -> Produção | H271: RHUAN | I271: JOÃO CARLOS | K271: =COUNTIF($I$2:I271,I271) -> 12 | L271: =ControleProdução[[#This Row],[Recebido Por]]&ControleProdução[[#This Row],[Qtd]] -> JOÃO CARLOS12
A272: 45231 | B272: =UPPER(TEXT(ControleProdução[[#This Row],[Data]],"mmm")) -> NOV | C272: =YEAR(ControleProdução[[#This Row],[Data]]) -> 2023 | D272: SAÍDA | E272: ESPARADRAPO | F272: 1 | G272: =_xlfn.XLOOKUP(E272,TbdeEPI[EPI],TbdeEPI[TIPO],"Produção",0) -> Produção | H272: RHUAN | I272: FELIPE | K272: =COUNTIF($I$2:I272,I272) -> 89 | L272: =ControleProdução[[#This Row],[Recebido Por]]&ControleProdução[[#This Row],[Qtd]] -> FELIPE89
A273: 45231 | B273: =UPPER(TEXT(ControleProdução[[#This Row],[Data]],"mmm")) -> NOV | C273: =YEAR(ControleProdução[[#This Row],[Data]]) -> 2023 | D273: SAÍDA | E273: LIXA P1200 | F273: 9 | G273: =_xlfn.XLOOKUP(E273,TbdeEPI[EPI],TbdeEPI[TIPO],"Produção",0) -> Produção | H273: RHUAN | I273: FELIPE | K273: =COUNTIF($I$2:I273,I273) -> 90 | L273: =ControleProdução[[#This Row],[Recebido Por]]&ControleProdução[[#This Row],[Qtd]] -> FELIPE90
A274: 45231 | B274: =UPPER(TEXT(ControleProdução[[#This Row],[Data]],"mmm")) -> NOV | C274: =YEAR(ControleProdução[[#This Row],[Data]]) -> 2023 | D274: SAÍDA | E274: WHITE ROUGE | F274: 1 | G274: =_xlfn.XLOOKUP(E274,TbdeEPI[EPI],TbdeEPI[TIPO],"Produção",0) -> Produção | H274: RHUAN | I274: FELIPE | K274: =COUNTIF($I$2:I274,I274) -> 91 | L274: =ControleProdução[[#This Row],[Recebido Por]]&ControleProdução[[#This Row],[Qtd]] -> FELIPE91
A275: 45231 | B275: =UPPER(TEXT(ControleProdução[[#This Row],[Data]],"mmm")) -> NOV | C275: =YEAR(ControleProdução[[#This Row],[Data]]) -> 2023 | D275: SAÍDA | E275: CONE 60 | F275: 2 | G275: =_xlfn.XLOOKUP(E275,TbdeEPI[EPI],TbdeEPI[TIPO],"Produção",0) -> Produção | H275: RHUAN | I275: FELIPE | K275: =COUNTIF($I$2:I275,I275) -> 92 | L275: =ControleProdução[[#This Row],[Recebido Por]]&ControleProdução[[#This Row],[Qtd]] -> FELIPE92
A276: 45231 | B276: =UPPER(TEXT(ControleProdução[[#This Row],[Data]],"mmm")) -> NOV | C276: =YEAR(ControleProdução[[#This Row],[Data]]) -> 2023 | D276: SAÍDA | E276: CONE 62 | F276: 1 | G276: =_xlfn.XLOOKUP(E276,TbdeEPI[EPI],TbdeEPI[TIPO],"Produção",0) -> Produção | H276: RHUAN | I276: FELIPE | K276: =COUNTIF($I$2:I276,I276) -> 93 | L276: =ControleProdução[[#This Row],[Recebido Por]]&ControleProdução[[#This Row],[Qtd]] -> FELIPE93
A277: 45231 | B277: =UPPER(TEXT(ControleProdução[[#This Row],[Data]],"mmm")) -> NOV | C277: =YEAR(ControleProdução[[#This Row],[Data]]) -> 2023 | D277: SAÍDA | E277: LIXA 400 | F277: 1 | G277: =_xlfn.XLOOKUP(E277,TbdeEPI[EPI],TbdeEPI[TIPO],"Produção",0) -> Produção | H277: RHUAN | I277: EVERARDO | K277: =COUNTIF($I$2:I277,I277) -> 1 | L277: =ControleProdução[[#This Row],[Recebido Por]]&ControleProdução[[#This Row],[Qtd]] -> EVERARDO1
A278: 45231 | B278: =UPPER(TEXT(ControleProdução[[#This Row],[Data]],"mmm")) -> NOV | C278: =YEAR(ControleProdução[[#This Row],[Data]]) -> 2023 | D278: SAÍDA | E278: LIXA 400 | F278: 5 | G278: =_xlfn.XLOOKUP(E278,TbdeEPI[EPI],TbdeEPI[TIPO],"Produção",0) -> Produção | H278: RHUAN | I278: MANUA | K278: =COUNTIF($I$2:I278,I278) -> 10 | L278: =ControleProdução[[#This Row],[Recebido Por]]&ControleProdução[[#This Row],[Qtd]] -> MANUA10
... A933: 45302 | B933: =UPPER(TEXT(ControleProdução[[#This Row],[Data]],"mmm")) -> JAN | C933: =YEAR(ControleProdução[[#This Row],[Data]]) -> 2024 | D933: SAÍDA | E933: PASTA DE JACARÉ VERDE | F933: 1 | G933: =_xlfn.XLOOKUP(E933,TbdeEPI[EPI],TbdeEPI[TIPO],"Produção",0) -> Produção | H933: RHUAN | I933: ALEX | K933: =COUNTIF($I$2:I933,I933) -> 9 | L933: =ControleProdução[[#This Row],[Recebido Por]]&ControleProdução[[#This Row],[Qtd]] -> ALEX9
A934: 45302 | B934: JAN | C934: =YEAR(ControleProdução[[#This Row],[Data]]) -> 2024 | D934: SAÍDA | E934: BISTURI | F934: 1 | G934: =_xlfn.XLOOKUP(E934,TbdeEPI[EPI],TbdeEPI[TIPO],"Produção",0) -> Produção | H934: RHUAN | I934: MOISES | K934: =COUNTIF($I$2:I934,I934) -> 32 | L934: =ControleProdução[[#This Row],[Recebido Por]]&ControleProdução[[#This Row],[Qtd]] -> MOISES32
A935: 45302 | B935: JAN | C935: =YEAR(ControleProdução[[#This Row],[Data]]) -> 2024 | D935: SAÍDA | E935: ESPARADRAPO | F935: 1 | G935: =_xlfn.XLOOKUP(E935,TbdeEPI[EPI],TbdeEPI[TIPO],"Produção",0) -> Produção | H935: RHUAN | I935: MOISES | K935: =COUNTIF($I$2:I935,I935) -> 33 | L935: =ControleProdução[[#This Row],[Recebido Por]]&ControleProdução[[#This Row],[Qtd]] -> MOISES33
A936: 45302 | B936: =UPPER(TEXT(ControleProdução[[#This Row],[Data]],"mmm")) -> JAN | C936: =YEAR(ControleProdução[[#This Row],[Data]]) -> 2024 | D936: SAÍDA | E936: PINÇA | F936: 1 | G936: =_xlfn.XLOOKUP(E936,TbdeEPI[EPI],TbdeEPI[TIPO],"Produção",0) -> Produção | H936: RHUAN | I936: EDIMA | K936: =COUNTIF($I$2:I936,I936) -> 1 | L936: =ControleProdução[[#This Row],[Recebido Por]]&ControleProdução[[#This Row],[Qtd]] -> EDIMA1
A937: 45303 | B937: =UPPER(TEXT(ControleProdução[[#This Row],[Data]],"mmm")) -> JAN | C937: =YEAR(ControleProdução[[#This Row],[Data]]) -> 2024 | D937: SAÍDA | E937: PENEIRA (P) | F937: 1 | G937: =_xlfn.XLOOKUP(E937,TbdeEPI[EPI],TbdeEPI[TIPO],"Produção",0) -> Produção | H937: RHUAN | I937: JOSE ORLANDO | K937: =COUNTIF($I$2:I937,I937) -> 12 | L937: =ControleProdução[[#This Row],[Recebido Por]]&ControleProdução[[#This Row],[Qtd]] -> JOSE ORLANDO12
A938: 45303 | B938: =UPPER(TEXT(ControleProdução[[#This Row],[Data]],"mmm")) -> JAN | C938: =YEAR(ControleProdução[[#This Row],[Data]]) -> 2024 | D938: SAÍDA | E938: PROTETOR AUDITIVO | F938: 1 | G938: =_xlfn.XLOOKUP(E938,TbdeEPI[EPI],TbdeEPI[TIPO],"Produção",0) -> EPI | H938: RHUAN | I938: ASNAN | K938: =COUNTIF($I$2:I938,I938) -> 31 | L938: =ControleProdução[[#This Row],[Recebido Por]]&ControleProdução[[#This Row],[Qtd]] -> ASNAN31
A939: 45303 | B939: =UPPER(TEXT(ControleProdução[[#This Row],[Data]],"mmm")) -> JAN | C939: =YEAR(ControleProdução[[#This Row],[Data]]) -> 2024 | D939: SAÍDA | E939: ROUGE VERMELHO | F939: 2 | G939: =_xlfn.XLOOKUP(E939,TbdeEPI[EPI],TbdeEPI[TIPO],"Produção",0) -> Produção | H939: RHUAN | I939: MOISES | K939: =COUNTIF($I$2:I939,I939) -> 34 | L939: =ControleProdução[[#This Row],[Recebido Por]]&ControleProdução[[#This Row],[Qtd]] -> MOISES34
A940: 45303 | B940: =UPPER(TEXT(ControleProdução[[#This Row],[Data]],"mmm")) -> JAN | C940: =YEAR(ControleProdução[[#This Row],[Data]]) -> 2024 | D940: SAÍDA | E940: BISTURI | F940: 1 | G940: =_xlfn.XLOOKUP(E940,TbdeEPI[EPI],TbdeEPI[TIPO],"Produção",0) -> Produção | H940: RHUAN | I940: ROBERTO | K940: =COUNTIF($I$2:I940,I940) -> 14 | L940: =ControleProdução[[#This Row],[Recebido Por]]&ControleProdução[[#This Row],[Qtd]] -> ROBERTO14
A941: 45303 | B941: =UPPER(TEXT(ControleProdução[[#This Row],[Data]],"mmm")) -> JAN | C941: =YEAR(ControleProdução[[#This Row],[Data]]) -> 2024 | D941: SAÍDA | E941: PANO DE CHÃO | F941: 2 | G941: =_xlfn.XLOOKUP(E941,TbdeEPI[EPI],TbdeEPI[TIPO],"Produção",0) -> Produção | H941: RHUAN | I941: FELIPE | K941: =COUNTIF($I$2:I941,I941) -> 249 | L941: =ControleProdução[[#This Row],[Recebido Por]]&ControleProdução[[#This Row],[Qtd]] -> FELIPE249
A942: 45306 | B942: =UPPER(TEXT(ControleProdução[[#This Row],[Data]],"mmm")) -> JAN | C942: =YEAR(ControleProdução[[#This Row],[Data]]) -> 2024 | D942: SAÍDA | E942: MÁSCARA | F942: 1 | G942: =_xlfn.XLOOKUP(E942,TbdeEPI[EPI],TbdeEPI[TIPO],"Produção",0) -> EPI | H942: RHUAN | I942: ALAIM | K942: =COUNTIF($I$2:I942,I942) -> 51 | L942: =ControleProdução[[#This Row],[Recebido Por]]&ControleProdução[[#This Row],[Qtd]] -> ALAIM51
A943: 45306 | B943: =UPPER(TEXT(ControleProdução[[#This Row],[Data]],"mmm")) -> JAN | C943: =YEAR(ControleProdução[[#This Row],[Data]]) -> 2024 | D943: SAÍDA | E943: FILTRO 50x50 80g | F943: 10 | G943: =_xlfn.XLOOKUP(E943,TbdeEPI[EPI],TbdeEPI[TIPO],"Produção",0) -> Produção | H943: RHUAN | I943: ARTHUR | K943: =COUNTIF($I$2:I943,I943) -> 29 | L943: =ControleProdução[[#This Row],[Recebido Por]]&ControleProdução[[#This Row],[Qtd]] -> ARTHUR29
A944: 45307 | B944: =UPPER(TEXT(ControleProdução[[#This Row],[Data]],"mmm")) -> JAN | C944: =YEAR(ControleProdução[[#This Row],[Data]]) -> 2024 | D944: SAÍDA | E944: PROTETOR AUDITIVO | F944: 1 | G944: =_xlfn.XLOOKUP(E944,TbdeEPI[EPI],TbdeEPI[TIPO],"Produção",0) -> EPI | H944: RHUAN | I944: JUCIELY | K944: =COUNTIF($I$2:I944,I944) -> 7 | L944: =ControleProdução[[#This Row],[Recebido Por]]&ControleProdução[[#This Row],[Qtd]] -> JUCIELY7
A945: 45307 | B945: =UPPER(TEXT(ControleProdução[[#This Row],[Data]],"mmm")) -> JAN | C945: =YEAR(ControleProdução[[#This Row],[Data]]) -> 2024 | D945: SAÍDA | E945: CONE 60 | F945: 1 | G945: =_xlfn.XLOOKUP(E945,TbdeEPI[EPI],TbdeEPI[TIPO],"Produção",0) -> Produção | H945: RHUAN | I945: JEFERSON | K945: =COUNTIF($I$2:I945,I945) -> 15 | L945: =ControleProdução[[#This Row],[Recebido Por]]&ControleProdução[[#This Row],[Qtd]] -> JEFERSON15
A946: 45307 | B946: =UPPER(TEXT(ControleProdução[[#This Row],[Data]],"mmm")) -> JAN | C946: =YEAR(ControleProdução[[#This Row],[Data]]) -> 2024 | D946: SAÍDA | E946: PASTA DE JACARÉ VERDE | F946: 1 | G946: =_xlfn.XLOOKUP(E946,TbdeEPI[EPI],TbdeEPI[TIPO],"Produção",0) -> Produção | H946: RHUAN | I946: JEFERSON | K946: =COUNTIF($I$2:I946,I946) -> 16 | L946: =ControleProdução[[#This Row],[Recebido Por]]&ControleProdução[[#This Row],[Qtd]] -> JEFERSON16
A947: 45307 | B947: =UPPER(TEXT(ControleProdução[[#This Row],[Data]],"mmm")) -> JAN | C947: =YEAR(ControleProdução[[#This Row],[Data]]) -> 2024 | D947: SAÍDA | E947: RODA JEANS (G) | F947: 1 | G947: =_xlfn.XLOOKUP(E947,TbdeEPI[EPI],TbdeEPI[TIPO],"Produção",0) -> Produção | H947: RHUAN | I947: JEFERSON | K947: =COUNTIF($I$2:I947,I947) -> 17 | L947: =ControleProdução[[#This Row],[Recebido Por]]&ControleProdução[[#This Row],[Qtd]] -> JEFERSON17
... A1105: 45322 | B1105: =UPPER(TEXT(ControleProdução[[#This Row],[Data]],"mmm")) -> JAN | C1105: =YEAR(ControleProdução[[#This Row],[Data]]) -> 2024 | D1105: SAÍDA | E1105: BISTURI | F1105: 1 | G1105: =_xlfn.XLOOKUP(E1105,TbdeEPI[EPI],TbdeEPI[TIPO],"Produção",0) -> Produção | H1105: RHUAN | I1105: LUIZA | K1105: =COUNTIF($I$2:I1105,I1105) -> 1 | L1105: =ControleProdução[[#This Row],[Recebido Por]]&ControleProdução[[#This Row],[Qtd]] -> LUIZA1
A1106: 45323 | B1106: #REF! | C1106: =YEAR(ControleProdução[[#This Row],[Data]]) -> 2024 | D1106: SAÍDA | E1106: MÁSCARA | F1106: 1 | G1106: =_xlfn.XLOOKUP(E1106,TbdeEPI[EPI],TbdeEPI[TIPO],"Produção",0) -> EPI | H1106: RHUAN | I1106: DEYVID | K1106: =COUNTIF($I$2:I1106,I1106) -> 17 | L1106: =ControleProdução[[#This Row],[Recebido Por]]&ControleProdução[[#This Row],[Qtd]] -> DEYVID17
A1107: 45323 | B1107: #REF! | C1107: =YEAR(ControleProdução[[#This Row],[Data]]) -> 2024 | D1107: SAÍDA | E1107: ROUGE VERMELHO | F1107: 1 | G1107: =_xlfn.XLOOKUP(E1107,TbdeEPI[EPI],TbdeEPI[TIPO],"Produção",0) -> Produção | H1107: RHUAN | I1107: YVENS | K1107: =COUNTIF($I$2:I1107,I1107) -> 56 | L1107: =ControleProdução[[#This Row],[Recebido Por]]&ControleProdução[[#This Row],[Qtd]] -> YVENS56
A1108: 45323 | B1108: #REF! | C1108: =YEAR(ControleProdução[[#This Row],[Data]]) -> 2024 | D1108: SAÍDA | E1108: DEDEIRA LUVA | F1108: 6 | G1108: =_xlfn.XLOOKUP(E1108,TbdeEPI[EPI],TbdeEPI[TIPO],"Produção",0) -> Produção | H1108: RHUAN | I1108: YVENS | K1108: =COUNTIF($I$2:I1108,I1108) -> 57 | L1108: =ControleProdução[[#This Row],[Recebido Por]]&ControleProdução[[#This Row],[Qtd]] -> YVENS57
A1109: 45323 | B1109: =UPPER(TEXT(ControleProdução[[#This Row],[Data]],"mmm")) -> FEV | C1109: =YEAR(ControleProdução[[#This Row],[Data]]) -> 2024 | D1109: SAÍDA | E1109: LIXA 400 | F1109: 4 | G1109: =_xlfn.XLOOKUP(E1109,TbdeEPI[EPI],TbdeEPI[TIPO],"Produção",0) -> Produção | H1109: RHUAN | I1109: ROBERTO | K1109: =COUNTIF($I$2:I1109,I1109) -> 15 | L1109: =ControleProdução[[#This Row],[Recebido Por]]&ControleProdução[[#This Row],[Qtd]] -> ROBERTO15
A1110: 45323 | B1110: =UPPER(TEXT(ControleProdução[[#This Row],[Data]],"mmm")) -> FEV | C1110: =YEAR(ControleProdução[[#This Row],[Data]]) -> 2024 | D1110: SAÍDA | E1110: RODA DE LUSTRE | F1110: 1 | G1110: =_xlfn.XLOOKUP(E1110,TbdeEPI[EPI],TbdeEPI[TIPO],"Produção",0) -> Produção | H1110: RHUAN | I1110: YVENS | K1110: =COUNTIF($I$2:I1110,I1110) -> 58 | L1110: =ControleProdução[[#This Row],[Recebido Por]]&ControleProdução[[#This Row],[Qtd]] -> YVENS58
A1111: 45323 | B1111: =UPPER(TEXT(ControleProdução[[#This Row],[Data]],"mmm")) -> FEV | C1111: =YEAR(ControleProdução[[#This Row],[Data]]) -> 2024 | D1111: SAÍDA | E1111: ROUGE VERMELHO | F1111: 1 | G1111: =_xlfn.XLOOKUP(E1111,TbdeEPI[EPI],TbdeEPI[TIPO],"Produção",0) -> Produção | H1111: RHUAN | I1111: YVENS | K1111: =COUNTIF($I$2:I1111,I1111) -> 59 | L1111: =ControleProdução[[#This Row],[Recebido Por]]&ControleProdução[[#This Row],[Qtd]] -> YVENS59
A1112: 45323 | B1112: =UPPER(TEXT(ControleProdução[[#This Row],[Data]],"mmm")) -> FEV | C1112: =YEAR(ControleProdução[[#This Row],[Data]]) -> 2024 | D1112: ENTRADA | E1112: STOP MICRO FUNDIÇÃO | F1112: 5 | G1112: =_xlfn.XLOOKUP(E1112,TbdeEPI[EPI],TbdeEPI[TIPO],"Produção",0) -> Produção | H1112: ROBSON | I1112: RHUAN | K1112: =COUNTIF($I$2:I1112,I1112) -> 83 | L1112: =ControleProdução[[#This Row],[Recebido Por]]&ControleProdução[[#This Row],[Qtd]] -> RHUAN83
A1113: 45323 | B1113: =UPPER(TEXT(ControleProdução[[#This Row],[Data]],"mmm")) -> FEV | C1113: =YEAR(ControleProdução[[#This Row],[Data]]) -> 2024 | D1113: ENTRADA | E1113: CONE 62 | F1113: 15 | G1113: =_xlfn.XLOOKUP(E1113,TbdeEPI[EPI],TbdeEPI[TIPO],"Produção",0) -> Produção | H1113: ROBSON | I1113: RHUAN | K1113: =COUNTIF($I$2:I1113,I1113) -> 84 | L1113: =ControleProdução[[#This Row],[Recebido Por]]&ControleProdução[[#This Row],[Qtd]] -> RHUAN84
A1114: 45323 | B1114: =UPPER(TEXT(ControleProdução[[#This Row],[Data]],"mmm")) -> FEV | C1114: =YEAR(ControleProdução[[#This Row],[Data]]) -> 2024 | D1114: ENTRADA | E1114: CONE 60 | F1114: 15 | G1114: =_xlfn.XLOOKUP(E1114,TbdeEPI[EPI],TbdeEPI[TIPO],"Produção",0) -> Produção | H1114: ROBSON | I1114: RHUAN | K1114: =COUNTIF($I$2:I1114,I1114) -> 85 | L1114: =ControleProdução[[#This Row],[Recebido Por]]&ControleProdução[[#This Row],[Qtd]] -> RHUAN85
A1115: 45323 | B1115: =UPPER(TEXT(ControleProdução[[#This Row],[Data]],"mmm")) -> FEV | C1115: =YEAR(ControleProdução[[#This Row],[Data]]) -> 2024 | D1115: ENTRADA | E1115: MANDRIL DISCO | F1115: 20 | G1115: =_xlfn.XLOOKUP(E1115,TbdeEPI[EPI],TbdeEPI[TIPO],"Produção",0) -> Produção | H1115: ROBSON | I1115: RHUAN | K1115: =COUNTIF($I$2:I1115,I1115) -> 86 | L1115: =ControleProdução[[#This Row],[Recebido Por]]&ControleProdução[[#This Row],[Qtd]] -> RHUAN86
A1116: 45323 | B1116: =UPPER(TEXT(ControleProdução[[#This Row],[Data]],"mmm")) -> FEV | C1116: =YEAR(ControleProdução[[#This Row],[Data]]) -> 2024 | D1116: ENTRADA | E1116: CADINHO (1) | F1116: 10 | G1116: =_xlfn.XLOOKUP(E1116,TbdeEPI[EPI],TbdeEPI[TIPO],"Produção",0) -> Produção | H1116: ROBSON | I1116: RHUAN | K1116: =COUNTIF($I$2:I1116,I1116) -> 87 | L1116: =ControleProdução[[#This Row],[Recebido Por]]&ControleProdução[[#This Row],[Qtd]] -> RHUAN87
A1117: 45323 | B1117: =UPPER(TEXT(ControleProdução[[#This Row],[Data]],"mmm")) -> FEV | C1117: =YEAR(ControleProdução[[#This Row],[Data]]) -> 2024 | D1117: ENTRADA | E1117: CADINHO (3) | F1117: 10 | G1117: =_xlfn.XLOOKUP(E1117,TbdeEPI[EPI],TbdeEPI[TIPO],"Produção",0) -> Produção | H1117: ROBSON | I1117: RHUAN | K1117: =COUNTIF($I$2:I1117,I1117) -> 88 | L1117: =ControleProdução[[#This Row],[Recebido Por]]&ControleProdução[[#This Row],[Qtd]] -> RHUAN88
A1118: 45323 | B1118: =UPPER(TEXT(ControleProdução[[#This Row],[Data]],"mmm")) -> FEV | C1118: =YEAR(ControleProdução[[#This Row],[Data]]) -> 2024 | D1118: ENTRADA | E1118: CADINHO (5) | F1118: 10 | G1118: =_xlfn.XLOOKUP(E1118,TbdeEPI[EPI],TbdeEPI[TIPO],"Produção",0) -> Produção | H1118: ROBSON | I1118: RHUAN | K1118: =COUNTIF($I$2:I1118,I1118) -> 89 | L1118: =ControleProdução[[#This Row],[Recebido Por]]&ControleProdução[[#This Row],[Qtd]] -> RHUAN89
A1119: 45323 | B1119: =UPPER(TEXT(ControleProdução[[#This Row],[Data]],"mmm")) -> FEV | C1119: =YEAR(ControleProdução[[#This Row],[Data]]) -> 2024 | D1119: SAÍDA | E1119: PANO DE CHÃO | F1119: 1 | G1119: =_xlfn.XLOOKUP(E1119,TbdeEPI[EPI],TbdeEPI[TIPO],"Produção",0) -> Produção | H1119: RHUAN | I1119: FLAVIO | K1119: =COUNTIF($I$2:I1119,I1119) -> 23 | L1119: =ControleProdução[[#This Row],[Recebido Por]]&ControleProdução[[#This Row],[Qtd]] -> FLAVIO23
A1120: 45323 | B1120: =UPPER(TEXT(ControleProdução[[#This Row],[Data]],"mmm")) -> FEV | C1120: =YEAR(ControleProdução[[#This Row],[Data]]) -> 2024 | D1120: SAÍDA | E1120: BISTURI | F1120: 2 | G1120: =_xlfn.XLOOKUP(E1120,TbdeEPI[EPI],TbdeEPI[TIPO],"Produção",0) -> Produção | H1120: RHUAN | I1120: YARA | K1120: =COUNTIF($I$2:I1120,I1120) -> 4 | L1120: =ControleProdução[[#This Row],[Recebido Por]]&ControleProdução[[#This Row],[Qtd]] -> YARA4
... A1544: 45366 | B1544: =UPPER(TEXT(ControleProdução[[#This Row],[Data]],"mmm")) -> MAR | C1544: =YEAR(ControleProdução[[#This Row],[Data]]) -> 2024 | D1544: SAÍDA | E1544: PASTA DE JACARÉ VERDE | F1544: 1 | G1544: =_xlfn.XLOOKUP(E1544,TbdeEPI[EPI],TbdeEPI[TIPO],"Produção",0) -> Produção | H1544: RHUAN | I1544: RAFAEL | K1544: =COUNTIF($I$2:I1544,I1544) -> 47 | L1544: =ControleProdução[[#This Row],[Recebido Por]]&ControleProdução[[#This Row],[Qtd]] -> RAFAEL47
A1545: 45366 | B1545: =UPPER(TEXT(ControleProdução[[#This Row],[Data]],"mmm")) -> MAR | C1545: =YEAR(ControleProdução[[#This Row],[Data]]) -> 2024 | D1545: SAÍDA | E1545: LUVA TATEX PRETA | F1545: 1 | G1545: =_xlfn.XLOOKUP(E1545,TbdeEPI[EPI],TbdeEPI[TIPO],"Produção",0) -> EPI | H1545: RHUAN | I1545: FLAVIO | K1545: =COUNTIF($I$2:I1710,I1545) -> 38 | L1545: =ControleProdução[[#This Row],[Recebido Por]]&ControleProdução[[#This Row],[Qtd]] -> FLAVIO38
A1546: 45366 | B1546: =UPPER(TEXT(ControleProdução[[#This Row],[Data]],"mmm")) -> MAR | C1546: =YEAR(ControleProdução[[#This Row],[Data]]) -> 2024 | D1546: SAÍDA | E1546: PASTA DE JACARÉ VERDE | F1546: 1 | G1546: =_xlfn.XLOOKUP(E1546,TbdeEPI[EPI],TbdeEPI[TIPO],"Produção",0) -> Produção | H1546: RHUAN | I1546: ESTER | K1546: =COUNTIF($I$2:I1710,I1546) -> 24 | L1546: =ControleProdução[[#This Row],[Recebido Por]]&ControleProdução[[#This Row],[Qtd]] -> ESTER24
A1547: 45366 | B1547: =UPPER(TEXT(ControleProdução[[#This Row],[Data]],"mmm")) -> MAR | C1547: =YEAR(ControleProdução[[#This Row],[Data]]) -> 2024 | D1547: SAÍDA | E1547: DEDEIRA LUVA (GROSSA) | F1547: 10 | G1547: =_xlfn.XLOOKUP(E1547,TbdeEPI[EPI],TbdeEPI[TIPO],"Produção",0) -> Produção | H1547: RHUAN | I1547: YVENS | K1547: =COUNTIF($I$2:I1710,I1547) -> 131 | L1547: =ControleProdução[[#This Row],[Recebido Por]]&ControleProdução[[#This Row],[Qtd]] -> YVENS131
A1548: 45366 | B1548: =UPPER(TEXT(ControleProdução[[#This Row],[Data]],"mmm")) -> MAR | C1548: =YEAR(ControleProdução[[#This Row],[Data]]) -> 2024 | D1548: SAÍDA | E1548: BISTURI | F1548: 1 | G1548: =_xlfn.XLOOKUP(E1548,TbdeEPI[EPI],TbdeEPI[TIPO],"Produção",0) -> Produção | H1548: RHUAN | I1548: YVENS | K1548: =COUNTIF($I$2:I1710,I1548) -> 131 | L1548: =ControleProdução[[#This Row],[Recebido Por]]&ControleProdução[[#This Row],[Qtd]] -> YVENS131
A1549: 45366 | B1549: =UPPER(TEXT(ControleProdução[[#This Row],[Data]],"mmm")) -> MAR | C1549: =YEAR(ControleProdução[[#This Row],[Data]]) -> 2024 | D1549: SAÍDA | E1549: LIXA P1200 | F1549: 10 | G1549: =_xlfn.XLOOKUP(E1549,TbdeEPI[EPI],TbdeEPI[TIPO],"Produção",0) -> Produção | H1549: RHUAN | I1549: YVENS | K1549: =COUNTIF($I$2:I1710,I1549) -> 131 | L1549: =ControleProdução[[#This Row],[Recebido Por]]&ControleProdução[[#This Row],[Qtd]] -> YVENS131
A1550: 45366 | B1550: =UPPER(TEXT(ControleProdução[[#This Row],[Data]],"mmm")) -> MAR | C1550: =YEAR(ControleProdução[[#This Row],[Data]]) -> 2024 | D1550: SAÍDA | E1550: DEDEIRA LUVA | F1550: 2 | G1550: =_xlfn.XLOOKUP(E1550,TbdeEPI[EPI],TbdeEPI[TIPO],"Produção",0) -> Produção | H1550: RHUAN | I1550: JACKSON | K1550: =COUNTIF($I$2:I1710,I1550) -> 92 | L1550: =ControleProdução[[#This Row],[Recebido Por]]&ControleProdução[[#This Row],[Qtd]] -> JACKSON92
A1551: 45369 | B1551: =UPPER(TEXT(ControleProdução[[#This Row],[Data]],"mmm")) -> MAR | C1551: =YEAR(ControleProdução[[#This Row],[Data]]) -> 2024 | D1551: SAÍDA | E1551: RODA DE LUSTRE | F1551: 2 | G1551: =_xlfn.XLOOKUP(E1551,TbdeEPI[EPI],TbdeEPI[TIPO],"Produção",0) -> Produção | H1551: RHUAN | I1551: ESTER | K1551: =COUNTIF($I$2:I1710,I1551) -> 24 | L1551: =ControleProdução[[#This Row],[Recebido Por]]&ControleProdução[[#This Row],[Qtd]] -> ESTER24
A1552: 45369 | B1552: =UPPER(TEXT(ControleProdução[[#This Row],[Data]],"mmm")) -> MAR | C1552: =YEAR(ControleProdução[[#This Row],[Data]]) -> 2024 | D1552: SAÍDA | E1552: LIXA P1200 | F1552: 15 | G1552: =_xlfn.XLOOKUP(E1552,TbdeEPI[EPI],TbdeEPI[TIPO],"Produção",0) -> Produção | H1552: RHUAN | I1552: YVENS | K1552: =COUNTIF($I$2:I1710,I1552) -> 131 | L1552: =ControleProdução[[#This Row],[Recebido Por]]&ControleProdução[[#This Row],[Qtd]] -> YVENS131
A1553: 45369 | B1553: =UPPER(TEXT(ControleProdução[[#This Row],[Data]],"mmm")) -> MAR | C1553: =YEAR(ControleProdução[[#This Row],[Data]]) -> 2024 | D1553: SAÍDA | E1553: PROTETOR AUDITIVO | F1553: 1 | G1553: =_xlfn.XLOOKUP(E1553,TbdeEPI[EPI],TbdeEPI[TIPO],"Produção",0) -> EPI | H1553: RHUAN | I1553: DEYVID | K1553: =COUNTIF($I$2:I1710,I1553) -> 76 | L1553: =ControleProdução[[#This Row],[Recebido Por]]&ControleProdução[[#This Row],[Qtd]] -> DEYVID76
A1554: 45369 | B1554: =UPPER(TEXT(ControleProdução[[#This Row],[Data]],"mmm")) -> MAR | C1554: =YEAR(ControleProdução[[#This Row],[Data]]) -> 2024 | D1554: SAÍDA | E1554: MÁSCARA | F1554: 1 | G1554: =_xlfn.XLOOKUP(E1554,TbdeEPI[EPI],TbdeEPI[TIPO],"Produção",0) -> EPI | H1554: RHUAN | I1554: DEYVID | K1554: =COUNTIF($I$2:I1710,I1554) -> 76 | L1554: =ControleProdução[[#This Row],[Recebido Por]]&ControleProdução[[#This Row],[Qtd]] -> DEYVID76
A1555: 45369 | B1555: =UPPER(TEXT(ControleProdução[[#This Row],[Data]],"mmm")) -> MAR | C1555: =YEAR(ControleProdução[[#This Row],[Data]]) -> 2024 | D1555: SAÍDA | E1555: DEDEIRA LUVA | F1555: 4 | G1555: =_xlfn.XLOOKUP(E1555,TbdeEPI[EPI],TbdeEPI[TIPO],"Produção",0) -> Produção | H1555: RHUAN | I1555: JACKSON | K1555: =COUNTIF($I$2:I1710,I1555) -> 92 | L1555: =ControleProdução[[#This Row],[Recebido Por]]&ControleProdução[[#This Row],[Qtd]] -> JACKSON92
...

Sheet Epi's
A1: CONTROLE DE EPI'S
A2: Data | B2: Equipamento | C2: Qtde. | D2: Observação | E2: Assinatura

Sheet Materias
A1: CONTROLE DE MATERIAIS
A2: Data | B2: Equipamento | C2: Qtde. | D2: Observação | E2: Assinatura

Sheet Funcionários
A1: Nome do Funcionário
A2: SUDEMAR TEIXEIRA DOS SANTOS | B2: TEIXEIRA | C2: SUDEMAR | D2: TEIXEIRA | E2: DOS | F2: SANTOS
A3: CLODIUS ROBERTO PEREIRA FILHO | B3: ROBERTO | C3: CLODIUS | D3: ROBERTO | E3: PEREIRA | F3: FILHO
A4: DANIELA NOGUEIRA DE LIMA | B4: DANIELA | C4: DANIELA | D4: NOGUEIRA | E4: DE | F4: LIMA
A5: EDIMA FERREIRA DE MENEZES | B5: EDIMA | C5: EDIMA | D5: FERREIRA | E5: DE | F5: MENEZES
A6: JAQUELINE DA COSTA VILACO | B6: JAQUELINE | C6: JAQUELINE | D6: DA | E6: COSTA | F6: VILACO
A7: ALDENOR SANTOS DE JESUS | B7: ALDENOR | C7: ALDENOR | D7: SANTOS | E7: DE | F7: JESUS
A8: ALESSANDRA GOMES TAVARES BATISTA | B8: ALESSANDRA | C8: ALESSANDRA | D8: GOMES | E8: TAVARES | F8: BATISTA
A9: ANTONIO MENEZES RODRIGUES | B9: ANTONIO | C9: ANTONIO | D9: MENEZES | E9: RODRIGUES
A10: ARTHUR EMANUEL ALMEIDA GUEDES | B10: ARTHUR | C10: ARTHUR | D10: EMANUEL | E10: ALMEIDA | F10: GUEDES
A11: NEURILENE DE CASTRO ARAUJO | B11: NEURILENE | C11: NEURILENE | D11: DE | E11: CASTRO | F11: ARAUJO
A12: JAIME FERREIRA RIBEIRO | B12: JAIME | C12: JAIME | D12: FERREIRA | E12: RIBEIRO
A13: JOAO CARLOS REPOLHO DE LIMA | B13: JOAO CARLOS | C13: JOAO | D13: CARLOS | E13: REPOLHO | F13: DE | G13: LIMA
A14: MANUA DERIQUE PENALBER | B14: MANUA | C14: MANUA | D14: DERIQUE | E14: PENALBER
A15: ELISSANDRA DOS SANTOS DA SILVA | B15: ELISSANDRA | C15: ELISSANDRA | D15: DOS | E15: SANTOS | F15: DA | G15: SILVA
A16: ASNAN SANTOS SILVA | B16: ASNAN | C16: ASNAN | D16: SANTOS | E16: SILVA
A17: CINTHIA CRISTINA DOS SANTOS FERREIRA | B17: CINTHIA | C17: CINTHIA | D17: CRISTINA | E17: DOS | F17: SANTOS | G17: FERREIRA
A18: ROBSON DE JESUS COSTA | B18: ROBSON | C18: ROBSON | D18: DE | E18: JESUS | F18: COSTA
A19: JUCIELY DA SILVA DOS SANTOS | B19: JUCIELY | C19: JUCIELY | D19: DA | E19: SILVA | F19: DOS | G19: SANTOS
A20: ADRIANO LUCAS PASSOS DA SILVA | B20: ADRIANO | C20: ADRIANO | D20: LUCAS | E20: PASSOS | F20: DA | G20: SILVA
A21: DEISIANE CRISTINA OLIVEIRA DE ALBUQUERQU | B21: DEISIANE | C21: DEISIANE | D21: CRISTINA | E21: OLIVEIRA | F21: DE | G21: ALBUQUERQU
A22: ELINGTON OLIVEIRA SILVA | B22: ELINGTON | C22: ELINGTON | D22: OLIVEIRA | E22: SILVA
A23: GILDSON DA SILVA FLORIANO | B23: GILDSON | C23: GILDSON | D23: DA | E23: SILVA | F23: FLORIANO
A24: JOYCE NONATO MONTEIRO | B24: JOYCE | C24: JOYCE | D24: NONATO | E24: MONTEIRO
A25: ALEX CIPRIANO DA SILVA LUZ | B25: ALEX | C25: ALEX | D25: CIPRIANO | E25: DA | F25: SILVA | G25: LUZ
A26: LEONARDO VIEIRA CORREA | B26: LEONARDO | C26: LEONARDO | D26: VIEIRA | E26: CORREA
A27: ALAIM NOGUEIRA DE LIMA | B27: ALAIM | C27: ALAIM | D27: NOGUEIRA | E27: DE | F27: LIMA
A28: JEFERSON HAIDEN DA SILVA | B28: JEFERSON | C28: JEFERSON | D28: HAIDEN | E28: DA | F28: SILVA
A29: LEANDRO DA SILVA BATALHA NETO | B29: LEANDRO | C29: LEANDRO | D29: DA | E29: SILVA | F29: BATALHA | G29: NETO
A30: AMANDA DA SILVA RODRIGUES | B30: AMANDA | C30: AMANDA | D30: DA | E30: SILVA | F30: RODRIGUES
A31: JACIRENE TAVARES LIMA | B31: JACIRENE | C31: JACIRENE | D31: TAVARES | E31: LIMA
A32: KAYLA REBECA SILVA PINHEIRO | B32: KAYLA | C32: KAYLA | D32: REBECA | E32: SILVA | F32: PINHEIRO
A33: MATHEUS LUCAS NUNES BALIEIRO BARATA | B33: =C33&" "&D33 -> MATHEUS LUCAS | C33: MATHEUS | D33: LUCAS | E33: NUNES | F33: BALIEIRO | G33: BARATA
A34: MOISES DE SOUZA OLIVEIRA | B34: MOISES | C34: MOISES | D34: DE | E34: SOUZA | F34: OLIVEIRA
A35: RHUAN SANTOS ALVES | B35: RHUAN | C35: RHUAN | D35: SANTOS | E35: ALVES
A36: GLAUSE DA SILVA MODESTO | B36: GLAUSE | C36: GLAUSE | D36: DA | E36: SILVA | F36: MODESTO
A37: ALAN DOS SANTOS OLIVEIRA | B37: ALAN | C37: ALAN | D37: DOS | E37: SANTOS | F37: OLIVEIRA
A38: JOSE ORLANDO ALVES DE SOUZA | B38: =C38&" "&D38 -> JOSE ORLANDO | C38: JOSE | D38: ORLANDO | E38: ALVES | F38: DE | G38: SOUZA
A39: CALEB FERREIRA VALENTE | B39: CALEB | C39: CALEB | D39: FERREIRA | E39: VALENTE
A40: ELOISA FERREIRA DA SILVA | B40: ELOISA | C40: ELOISA | D40: FERREIRA | E40: DA | F40: SILVA
A41: JOAO PEDRO SAVENHAGO BELLUZI | B41: =C41&" "&D41 -> JOAO PEDRO | C41: JOAO | D41: PEDRO | E41: SAVENHAGO | F41: BELLUZI
A42: LARISSA DA SILVA SOUZA | B42: LARISSA | C42: LARISSA | D42: DA | E42: SILVA | F42: SOUZA
A43: JACKSON | B43: JACKON
A44: ALEXANDRE | B44: ALEXANDRE

Sheet MATERIAIS
A1: PRODUTO | B1: SAÍDA | C1: entrada | D1: Desempate1 | E1: Desempate2 | F1: Pessoa
A2: AGULHA HIPODÉRMICA | B2: =IFERROR(IF($I$3="Todos",SUMIFS(TblMovi[QUANTIDADE],TblMovi[Equipamento],A2,TblMovi[ANO],MATERIAIS!$I$2,TblMovi[TIPO],$B$1),SUMIFS(TblMovi[QUANTIDADE],TblMovi[Equipamento],A2,TblMovi[ANO],MATERIAIS!$I$2,TblMovi[MÊS],MATERIAIS!$I$3,TblMovi[TIPO],$B$1)),"") -> 0 | C2: =IFERROR(IF($I$3="Todos",SUMIFS(TblMovi[QUANTIDADE],TblMovi[Equipamento],A2,TblMovi[ANO],MATERIAIS!$I$2,TblMovi[TIPO],$C$1),SUMIFS(TblMovi[QUANTIDADE],TblMovi[Equipamento],A2,TblMovi[ANO],MATERIAIS!$I$2,TblMovi[MÊS],MATERIAIS!$I$3,TblMovi[TIPO],$C$1)),"") -> 0 | D2: =IF(B2<>0,INDEX(TblEstoque[Estq. Inicial],MATCH(MATERIAIS!A2,TblEstoque[Equipamento],0))+B2,"") | E2: =IF(C2<>0,INDEX(TblEstoque[Estq. Inicial],MATCH(MATERIAIS!A2,TblEstoque[Equipamento],0))+C2,"") | H2: ANO | I2: =AUX!B1 -> 2024
A3: ALGODÃO HIDRÓFILO | B3: =IFERROR(IF($I$3="Todos",SUMIFS(TblMovi[QUANTIDADE],TblMovi[Equipamento],A3,TblMovi[ANO],MATERIAIS!$I$2,TblMovi[TIPO],$B$1),SUMIFS(TblMovi[QUANTIDADE],TblMovi[Equipamento],A3,TblMovi[ANO],MATERIAIS!$I$2,TblMovi[MÊS],MATERIAIS!$I$3,TblMovi[TIPO],$B$1)),"") -> 0 | C3: =IFERROR(IF($I$3="Todos",SUMIFS(TblMovi[QUANTIDADE],TblMovi[Equipamento],A3,TblMovi[ANO],MATERIAIS!$I$2,TblMovi[TIPO],$C$1),SUMIFS(TblMovi[QUANTIDADE],TblMovi[Equipamento],A3,TblMovi[ANO],MATERIAIS!$I$2,TblMovi[MÊS],MATERIAIS!$I$3,TblMovi[TIPO],$C$1)),"") -> 0 | D3: =IF(B3<>0,INDEX(TblEstoque[Estq. Inicial],MATCH(MATERIAIS!A3,TblEstoque[Equipamento],0))+B3,"") | E3: =IF(C3<>0,INDEX(TblEstoque[Estq. Inicial],MATCH(MATERIAIS!A3,TblEstoque[Equipamento],0))+C3,"") | H3: MÊS | I3: =AUX!B2 -> FEV
A4: ALICATE DE CORTE DIAGONAL | B4: =IFERROR(IF($I$3="Todos",SUMIFS(TblMovi[QUANTIDADE],TblMovi[Equipamento],A4,TblMovi[ANO],MATERIAIS!$I$2,TblMovi[TIPO],$B$1),SUMIFS(TblMovi[QUANTIDADE],TblMovi[Equipamento],A4,TblMovi[ANO],MATERIAIS!$I$2,TblMovi[MÊS],MATERIAIS!$I$3,TblMovi[TIPO],$B$1)),"") -> 0 | C4: =IFERROR(IF($I$3="Todos",SUMIFS(TblMovi[QUANTIDADE],TblMovi[Equipamento],A4,TblMovi[ANO],MATERIAIS!$I$2,TblMovi[TIPO],$C$1),SUMIFS(TblMovi[QUANTIDADE],TblMovi[Equipamento],A4,TblMovi[ANO],MATERIAIS!$I$2,TblMovi[MÊS],MATERIAIS!$I$3,TblMovi[TIPO],$C$1)),"") -> 0 | D4: =IF(B4<>0,INDEX(TblEstoque[Estq. Inicial],MATCH(MATERIAIS!A4,TblEstoque[Equipamento],0))+B4,"") | E4: =IF(C4<>0,INDEX(TblEstoque[Estq. Inicial],MATCH(MATERIAIS!A4,TblEstoque[Equipamento],0))+C4,"")
A5: ALICATE DE CORTE P/JOIAS | B5: =IFERROR(IF($I$3="Todos",SUMIFS(TblMovi[QUANTIDADE],TblMovi[Equipamento],A5,TblMovi[ANO],MATERIAIS!$I$2,TblMovi[TIPO],$B$1),SUMIFS(TblMovi[QUANTIDADE],TblMovi[Equipamento],A5,TblMovi[ANO],MATERIAIS!$I$2,TblMovi[MÊS],MATERIAIS!$I$3,TblMovi[TIPO],$B$1)),"") -> 0 | C5: =IFERROR(IF($I$3="Todos",SUMIFS(TblMovi[QUANTIDADE],TblMovi[Equipamento],A5,TblMovi[ANO],MATERIAIS!$I$2,TblMovi[TIPO],$C$1),SUMIFS(TblMovi[QUANTIDADE],TblMovi[Equipamento],A5,TblMovi[ANO],MATERIAIS!$I$2,TblMovi[MÊS],MATERIAIS!$I$3,TblMovi[TIPO],$C$1)),"") -> 0 | D5: =IF(B5<>0,INDEX(TblEstoque[Estq. Inicial],MATCH(MATERIAIS!A5,TblEstoque[Equipamento],0))+B5,"") | E5: =IF(C5<>0,INDEX(TblEstoque[Estq. Inicial],MATCH(MATERIAIS!A5,TblEstoque[Equipamento],0))+C5,"") | L5: SAIDA | M5: ENTRADA | O5: Estoque
A6: ALICATE 1/2 CANA | B6: =IFERROR(IF($I$3="Todos",SUMIFS(TblMovi[QUANTIDADE],TblMovi[Equipamento],A6,TblMovi[ANO],MATERIAIS!$I$2,TblMovi[TIPO],$B$1),SUMIFS(TblMovi[QUANTIDADE],TblMovi[Equipamento],A6,TblMovi[ANO],MATERIAIS!$I$2,TblMovi[MÊS],MATERIAIS!$I$3,TblMovi[TIPO],$B$1)),"") -> 0 | C6: =IFERROR(IF($I$3="Todos",SUMIFS(TblMovi[QUANTIDADE],TblMovi[Equipamento],A6,TblMovi[ANO],MATERIAIS!$I$2,TblMovi[TIPO],$C$1),SUMIFS(TblMovi[QUANTIDADE],TblMovi[Equipamento],A6,TblMovi[ANO],MATERIAIS!$I$2,TblMovi[MÊS],MATERIAIS!$I$3,TblMovi[TIPO],$C$1)),"") -> 0 | D6: =IF(B6<>0,INDEX(TblEstoque[Estq. Inicial],MATCH(MATERIAIS!A6,TblEstoque[Equipamento],0))+B6,"") | E6: =IF(C6<>0,INDEX(TblEstoque[Estq. Inicial],MATCH(MATERIAIS!A6,TblEstoque[Equipamento],0))+C6,"") | K6: 1 | L6: =IFERROR(LARGE(D:D,K6),"") -> 285 | M6: =IFERROR(LARGE(E:E,K6),"") -> 405 | N6: =IFERROR(INDEX(A:A,MATCH(L6,D:D,0)),"") -> LIXA P1200 | O6: =INDEX(TblEstoque[Estq. Final],MATCH(N6,TblEstoque[Equipamento],0)) -> 95
A7: ALICATE DE CORTE | B7: =IFERROR(IF($I$3="Todos",SUMIFS(TblMovi[QUANTIDADE],TblMovi[Equipamento],A7,TblMovi[ANO],MATERIAIS!$I$2,TblMovi[TIPO],$B$1),SUMIFS(TblMovi[QUANTIDADE],TblMovi[Equipamento],A7,TblMovi[ANO],MATERIAIS!$I$2,TblMovi[MÊS],MATERIAIS!$I$3,TblMovi[TIPO],$B$1)),"") -> 0 | C7: =IFERROR(IF($I$3="Todos",SUMIFS(TblMovi[QUANTIDADE],TblMovi[Equipamento],A7,TblMovi[ANO],MATERIAIS!$I$2,TblMovi[TIPO],$C$1),SUMIFS(TblMovi[QUANTIDADE],TblMovi[Equipamento],A7,TblMovi[ANO],MATERIAIS!$I$2,TblMovi[MÊS],MATERIAIS!$I$3,TblMovi[TIPO],$C$1)),"") -> 0 | D7: =IF(B7<>0,INDEX(TblEstoque[Estq. Inicial],MATCH(MATERIAIS!A7,TblEstoque[Equipamento],0))+B7,"") | E7: =IF(C7<>0,INDEX(TblEstoque[Estq. Inicial],MATCH(MATERIAIS!A7,TblEstoque[Equipamento],0))+C7,"") | K7: 2 | L7: =IFERROR(LARGE(D:D,K7),"") -> 215 | M7: =IFERROR(LARGE(E:E,K7),"") -> 226 | N7: =IFERROR(INDEX(A:A,MATCH(L7,D:D,0)),"") -> LIXA 400 | O7: =INDEX(TblEstoque[Estq. Final],MATCH(N7,TblEstoque[Equipamento],0)) -> 290
A8: AGULHA DE MAGNETO | B8: =IFERROR(IF($I$3="Todos",SUMIFS(TblMovi[QUANTIDADE],TblMovi[Equipamento],A8,TblMovi[ANO],MATERIAIS!$I$2,TblMovi[TIPO],$B$1),SUMIFS(TblMovi[QUANTIDADE],TblMovi[Equipamento],A8,TblMovi[ANO],MATERIAIS!$I$2,TblMovi[MÊS],MATERIAIS!$I$3,TblMovi[TIPO],$B$1)),"") -> 0 | C8: =IFERROR(IF($I$3="Todos",SUMIFS(TblMovi[QUANTIDADE],TblMovi[Equipamento],A8,TblMovi[ANO],MATERIAIS!$I$2,TblMovi[TIPO],$C$1),SUMIFS(TblMovi[QUANTIDADE],TblMovi[Equipamento],A8,TblMovi[ANO],MATERIAIS!$I$2,TblMovi[MÊS],MATERIAIS!$I$3,TblMovi[TIPO],$C$1)),"") -> 0 | D8: =IF(B8<>0,INDEX(TblEstoque[Estq. Inicial],MATCH(MATERIAIS!A8,TblEstoque[Equipamento],0))+B8,"") | E8: =IF(C8<>0,INDEX(TblEstoque[Estq. Inicial],MATCH(MATERIAIS!A8,TblEstoque[Equipamento],0))+C8,"") | K8: 3 | L8: =IFERROR(LARGE(D:D,K8),"") -> 128 | M8: =IFERROR(LARGE(E:E,K8),"") -> 200 | N8: =IFERROR(INDEX(A:A,MATCH(L8,D:D,0)),"") -> LIXA 600 | O8: =INDEX(TblEstoque[Estq. Final],MATCH(N8,TblEstoque[Equipamento],0)) -> 158
A9: BISTURI | B9: =IFERROR(IF($I$3="Todos",SUMIFS(TblMovi[QUANTIDADE],TblMovi[Equipamento],A9,TblMovi[ANO],MATERIAIS!$I$2,TblMovi[TIPO],$B$1),SUMIFS(TblMovi[QUANTIDADE],TblMovi[Equipamento],A9,TblMovi[ANO],MATERIAIS!$I$2,TblMovi[MÊS],MATERIAIS!$I$3,TblMovi[TIPO],$B$1)),"") -> 40 | C9: =IFERROR(IF($I$3="Todos",SUMIFS(TblMovi[QUANTIDADE],TblMovi[Equipamento],A9,TblMovi[ANO],MATERIAIS!$I$2,TblMovi[TIPO],$C$1),SUMIFS(TblMovi[QUANTIDADE],TblMovi[Equipamento],A9,TblMovi[ANO],MATERIAIS!$I$2,TblMovi[MÊS],MATERIAIS!$I$3,TblMovi[TIPO],$C$1)),"") -> 200 | D9: =IF(B9<>0,INDEX(TblEstoque[Estq. Inicial],MATCH(MATERIAIS!A9,TblEstoque[Equipamento],0))+B9,"") -> 40 | E9: =IF(C9<>0,INDEX(TblEstoque[Estq. Inicial],MATCH(MATERIAIS!A9,TblEstoque[Equipamento],0))+C9,"") -> 200 | K9: 4 | L9: =IFERROR(LARGE(D:D,K9),"") -> 101 | M9: =IFERROR(LARGE(E:E,K9),"") -> 177 | N9: =IFERROR(INDEX(A:A,MATCH(L9,D:D,0)),"") -> LIXA 280 | O9: =INDEX(TblEstoque[Estq. Final],MATCH(N9,TblEstoque[Equipamento],0)) -> 70
A10: BOMBA DE AR | B10: =IFERROR(IF($I$3="Todos",SUMIFS(TblMovi[QUANTIDADE],TblMovi[Equipamento],A10,TblMovi[ANO],MATERIAIS!$I$2,TblMovi[TIPO],$B$1),SUMIFS(TblMovi[QUANTIDADE],TblMovi[Equipamento],A10,TblMovi[ANO],MATERIAIS!$I$2,TblMovi[MÊS],MATERIAIS!$I$3,TblMovi[TIPO],$B$1)),"") -> 0 | C10: =IFERROR(IF($I$3="Todos",SUMIFS(TblMovi[QUANTIDADE],TblMovi[Equipamento],A10,TblMovi[ANO],MATERIAIS!$I$2,TblMovi[TIPO],$C$1),SUMIFS(TblMovi[QUANTIDADE],TblMovi[Equipamento],A10,TblMovi[ANO],MATERIAIS!$I$2,TblMovi[MÊS],MATERIAIS!$I$3,TblMovi[TIPO],$C$1)),"") -> 0 | D10: =IF(B10<>0,INDEX(TblEstoque[Estq. Inicial],MATCH(MATERIAIS!A10,TblEstoque[Equipamento],0))+B10,"") | E10: =IF(C10<>0,INDEX(TblEstoque[Estq. Inicial],MATCH(MATERIAIS!A10,TblEstoque[Equipamento],0))+C10,"") | K10: 5 | L10: =IFERROR(LARGE(D:D,K10),"") -> 62 | M10: =IFERROR(LARGE(E:E,K10),"") -> 61 | N10: =IFERROR(INDEX(A:A,MATCH(L10,D:D,0)),"") -> RODA JEANS (G) | O10: =INDEX(TblEstoque[Estq. Final],MATCH(N10,TblEstoque[Equipamento],0)) -> 0
A11: BOMBA DE VACUO | B11: =IFERROR(IF($I$3="Todos",SUMIFS(TblMovi[QUANTIDADE],TblMovi[Equipamento],A11,TblMovi[ANO],MATERIAIS!$I$2,TblMovi[TIPO],$B$1),SUMIFS(TblMovi[QUANTIDADE],TblMovi[Equipamento],A11,TblMovi[ANO],MATERIAIS!$I$2,TblMovi[MÊS],MATERIAIS!$I$3,TblMovi[TIPO],$B$1)),"") -> 0 | C11: =IFERROR(IF($I$3="Todos",SUMIFS(TblMovi[QUANTIDADE],TblMovi[Equipamento],A11,TblMovi[ANO],MATERIAIS!$I$2,TblMovi[TIPO],$C$1),SUMIFS(TblMovi[QUANTIDADE],TblMovi[Equipamento],A11,TblMovi[ANO],MATERIAIS!$I$2,TblMovi[MÊS],MATERIAIS!$I$3,TblMovi[TIPO],$C$1)),"") -> 0 | D11: =IF(B11<>0,INDEX(TblEstoque[Estq. Inicial],MATCH(MATERIAIS!A11,TblEstoque[Equipamento],0))+B11,"") | E11: =IF(C11<>0,INDEX(TblEstoque[Estq. Inicial],MATCH(MATERIAIS!A11,TblEstoque[Equipamento],0))+C11,"") | K11: 6 | L11: =IFERROR(LARGE(D:D,K11),"") -> 44 | M11: =IFERROR(LARGE(E:E,K11),"") -> 58 | N11: =IFERROR(INDEX(A:A,MATCH(L11,D:D,0)),"") -> MÁSCARA | O11: =INDEX(TblEstoque[Estq. Final],MATCH(N11,TblEstoque[Equipamento],0)) -> 5
A12: BROCA 0.50 MM (10 PCS.) | B12: =IFERROR(IF($I$3="Todos",SUMIFS(TblMovi[QUANTIDADE],TblMovi[Equipamento],A12,TblMovi[ANO],MATERIAIS!$I$2,TblMovi[TIPO],$B$1),SUMIFS(TblMovi[QUANTIDADE],TblMovi[Equipamento],A12,TblMovi[ANO],MATERIAIS!$I$2,TblMovi[MÊS],MATERIAIS!$I$3,TblMovi[TIPO],$B$1)),"") -> 0 | C12: =IFERROR(IF($I$3="Todos",SUMIFS(TblMovi[QUANTIDADE],TblMovi[Equipamento],A12,TblMovi[ANO],MATERIAIS!$I$2,TblMovi[TIPO],$C$1),SUMIFS(TblMovi[QUANTIDADE],TblMovi[Equipamento],A12,TblMovi[ANO],MATERIAIS!$I$2,TblMovi[MÊS],MATERIAIS!$I$3,TblMovi[TIPO],$C$1)),"") -> 0 | D12: =IF(B12<>0,INDEX(TblEstoque[Estq. Inicial],MATCH(MATERIAIS!A12,TblEstoque[Equipamento],0))+B12,"") | E12: =IF(C12<>0,INDEX(TblEstoque[Estq. Inicial],MATCH(MATERIAIS!A12,TblEstoque[Equipamento],0))+C12,"")
A13: BROCA 0.50 MM (9 PCS.) | B13: =IFERROR(IF($I$3="Todos",SUMIFS(TblMovi[QUANTIDADE],TblMovi[Equipamento],A13,TblMovi[ANO],MATERIAIS!$I$2,TblMovi[TIPO],$B$1),SUMIFS(TblMovi[QUANTIDADE],TblMovi[Equipamento],A13,TblMovi[ANO],MATERIAIS!$I$2,TblMovi[MÊS],MATERIAIS!$I$3,TblMovi[TIPO],$B$1)),"") -> 0 | C13: =IFERROR(IF($I$3="Todos",SUMIFS(TblMovi[QUANTIDADE],TblMovi[Equipamento],A13,TblMovi[ANO],MATERIAIS!$I$2,TblMovi[TIPO],$C$1),SUMIFS(TblMovi[QUANTIDADE],TblMovi[Equipamento],A13,TblMovi[ANO],MATERIAIS!$I$2,TblMovi[MÊS],MATERIAIS!$I$3,TblMovi[TIPO],$C$1)),"") -> 0 | D13: =IF(B13<>0,INDEX(TblEstoque[Estq. Inicial],MATCH(MATERIAIS!A13,TblEstoque[Equipamento],0))+B13,"") | E13: =IF(C13<>0,INDEX(TblEstoque[Estq. Inicial],MATCH(MATERIAIS!A13,TblEstoque[Equipamento],0))+C13,"")
A14: BROCA 0.6 MM (10 PCS.) | B14: =IFERROR(IF($I$3="Todos",SUMIFS(TblMovi[QUANTIDADE],TblMovi[Equipamento],A14,TblMovi[ANO],MATERIAIS!$I$2,TblMovi[TIPO],$B$1),SUMIFS(TblMovi[QUANTIDADE],TblMovi[Equipamento],A14,TblMovi[ANO],MATERIAIS!$I$2,TblMovi[MÊS],MATERIAIS!$I$3,TblMovi[TIPO],$B$1)),"") -> 0 | C14: =IFERROR(IF($I$3="Todos",SUMIFS(TblMovi[QUANTIDADE],TblMovi[Equipamento],A14,TblMovi[ANO],MATERIAIS!$I$2,TblMovi[TIPO],$C$1),SUMIFS(TblMovi[QUANTIDADE],TblMovi[Equipamento],A14,TblMovi[ANO],MATERIAIS!$I$2,TblMovi[MÊS],MATERIAIS!$I$3,TblMovi[TIPO],$C$1)),"") -> 0 | D14: =IF(B14<>0,INDEX(TblEstoque[Estq. Inicial],MATCH(MATERIAIS!A14,TblEstoque[Equipamento],0))+B14,"") | E14: =IF(C14<>0,INDEX(TblEstoque[Estq. Inicial],MATCH(MATERIAIS!A14,TblEstoque[Equipamento],0))+C14,"")
A15: BROCA 0.60 MM (10 PCS.) | B15: =IFERROR(IF($I$3="Todos",SUMIFS(TblMovi[QUANTIDADE],TblMovi[Equipamento],A15,TblMovi[ANO],MATERIAIS!$I$2,TblMovi[TIPO],$B$1),SUMIFS(TblMovi[QUANTIDADE],TblMovi[Equipamento],A15,TblMovi[ANO],MATERIAIS!$I$2,TblMovi[MÊS],MATERIAIS!$I$3,TblMovi[TIPO],$B$1)),"") -> 0 | C15: =IFERROR(IF($I$3="Todos",SUMIFS(TblMovi[QUANTIDADE],TblMovi[Equipamento],A15,TblMovi[ANO],MATERIAIS!$I$2,TblMovi[TIPO],$C$1),SUMIFS(TblMovi[QUANTIDADE],TblMovi[Equipamento],A15,TblMovi[ANO],MATERIAIS!$I$2,TblMovi[MÊS],MATERIAIS!$I$3,TblMovi[TIPO],$C$1)),"") -> 0 | D15: =IF(B15<>0,INDEX(TblEstoque[Estq. Inicial],MATCH(MATERIAIS!A15,TblEstoque[Equipamento],0))+B15,"") | E15: =IF(C15<>0,INDEX(TblEstoque[Estq. Inicial],MATCH(MATERIAIS!A15,TblEstoque[Equipamento],0))+C15,"")
A16: BROCA 0.60 MM (10 PCS.) #61 | B16: =IFERROR(IF($I$3="Todos",SUMIFS(TblMovi[QUANTIDADE],TblMovi[Equipamento],A16,TblMovi[ANO],MATERIAIS!$I$2,TblMovi[TIPO],$B$1),SUMIFS(TblMovi[QUANTIDADE],TblMovi[Equipamento],A16,TblMovi[ANO],MATERIAIS!$I$2,TblMovi[MÊS],MATERIAIS!$I$3,TblMovi[TIPO],$B$1)),"") -> 0 | C16: =IFERROR(IF($I$3="Todos",SUMIFS(TblMovi[QUANTIDADE],TblMovi[Equipamento],A16,TblMovi[ANO],MATERIAIS!$I$2,TblMovi[TIPO],$C$1),SUMIFS(TblMovi[QUANTIDADE],TblMovi[Equipamento],A16,TblMovi[ANO],MATERIAIS!$I$2,TblMovi[MÊS],MATERIAIS!$I$3,TblMovi[TIPO],$C$1)),"") -> 0 | D16: =IF(B16<>0,INDEX(TblEstoque[Estq. Inicial],MATCH(MATERIAIS!A16,TblEstoque[Equipamento],0))+B16,"") | E16: =IF(C16<>0,INDEX(TblEstoque[Estq. Inicial],MATCH(MATERIAIS!A16,TblEstoque[Equipamento],0))+C16,"")
A17: BROCA 0.60 MM (10 PCS.) #66 | B17: =IFERROR(IF($I$3="Todos",SUMIFS(TblMovi[QUANTIDADE],TblMovi[Equipamento],A17,TblMovi[ANO],MATERIAIS!$I$2,TblMovi[TIPO],$B$1),SUMIFS(TblMovi[QUANTIDADE],TblMovi[Equipamento],A17,TblMovi[ANO],MATERIAIS!$I$2,TblMovi[MÊS],MATERIAIS!$I$3,TblMovi[TIPO],$B$1)),"") -> 0 | C17: =IFERROR(IF($I$3="Todos",SUMIFS(TblMovi[QUANTIDADE],TblMovi[Equipamento],A17,TblMovi[ANO],MATERIAIS!$I$2,TblMovi[TIPO],$C$1),SUMIFS(TblMovi[QUANTIDADE],TblMovi[Equipamento],A17,TblMovi[ANO],MATERIAIS!$I$2,TblMovi[MÊS],MATERIAIS!$I$3,TblMovi[TIPO],$C$1)),"") -> 0 | D17: =IF(B17<>0,INDEX(TblEstoque[Estq. Inicial],MATCH(MATERIAIS!A17,TblEstoque[Equipamento],0))+B17,"") | E17: =IF(C17<>0,INDEX(TblEstoque[Estq. Inicial],MATCH(MATERIAIS!A17,TblEstoque[Equipamento],0))+C17,"")
A18: BROCA 0.60 MM (7 PCS.) | B18: =IFERROR(IF($I$3="Todos",SUMIFS(TblMovi[QUANTIDADE],TblMovi[Equipamento],A18,TblMovi[ANO],MATERIAIS!$I$2,TblMovi[TIPO],$B$1),SUMIFS(TblMovi[QUANTIDADE],TblMovi[Equipamento],A18,TblMovi[ANO],MATERIAIS!$I$2,TblMovi[MÊS],MATERIAIS!$I$3,TblMovi[TIPO],$B$1)),"") -> 0 | C18: =IFERROR(IF($I$3="Todos",SUMIFS(TblMovi[QUANTIDADE],TblMovi[Equipamento],A18,TblMovi[ANO],MATERIAIS!$I$2,TblMovi[TIPO],$C$1),SUMIFS(TblMovi[QUANTIDADE],TblMovi[Equipamento],A18,TblMovi[ANO],MATERIAIS!$I$2,TblMovi[MÊS],MATERIAIS!$I$3,TblMovi[TIPO],$C$1)),"") -> 0 | D18: =IF(B18<>0,INDEX(TblEstoque[Estq. Inicial],MATCH(MATERIAIS!A18,TblEstoque[Equipamento],0))+B18,"") | E18: =IF(C18<>0,INDEX(TblEstoque[Estq. Inicial],MATCH(MATERIAIS!A18,TblEstoque[Equipamento],0))+C18,"")
A19: BROCA 0.60 MM (8 PCS.) | B19: =IFERROR(IF($I$3="Todos",SUMIFS(TblMovi[QUANTIDADE],TblMovi[Equipamento],A19,TblMovi[ANO],MATERIAIS!$I$2,TblMovi[TIPO],$B$1),SUMIFS(TblMovi[QUANTIDADE],TblMovi[Equipamento],A19,TblMovi[ANO],MATERIAIS!$I$2,TblMovi[MÊS],MATERIAIS!$I$3,TblMovi[TIPO],$B$1)),"") -> 0 | C19: =IFERROR(IF($I$3="Todos",SUMIFS(TblMovi[QUANTIDADE],TblMovi[Equipamento],A19,TblMovi[ANO],MATERIAIS!$I$2,TblMovi[TIPO],$C$1),SUMIFS(TblMovi[QUANTIDADE],TblMovi[Equipamento],A19,TblMovi[ANO],MATERIAIS!$I$2,TblMovi[MÊS],MATERIAIS!$I$3,TblMovi[TIPO],$C$1)),"") -> 0 | D19: =IF(B19<>0,INDEX(TblEstoque[Estq. Inicial],MATCH(MATERIAIS!A19,TblEstoque[Equipamento],0))+B19,"") | E19: =IF(C19<>0,INDEX(TblEstoque[Estq. Inicial],MATCH(MATERIAIS!A19,TblEstoque[Equipamento],0))+C19,"")
A20: BROCA 0.70 MM (10 PCS.) | B20: =IFERROR(IF($I$3="Todos",SUMIFS(TblMovi[QUANTIDADE],TblMovi[Equipamento],A20,TblMovi[ANO],MATERIAIS!$I$2,TblMovi[TIPO],$B$1),SUMIFS(TblMovi[QUANTIDADE],TblMovi[Equipamento],A20,TblMovi[ANO],MATERIAIS!$I$2,TblMovi[MÊS],MATERIAIS!$I$3,TblMovi[TIPO],$B$1)),"") -> 0 | C20: =IFERROR(IF($I$3="Todos",SUMIFS(TblMovi[QUANTIDADE],TblMovi[Equipamento],A20,TblMovi[ANO],MATERIAIS!$I$2,TblMovi[TIPO],$C$1),SUMIFS(TblMovi[QUANTIDADE],TblMovi[Equipamento],A20,TblMovi[ANO],MATERIAIS!$I$2,TblMovi[MÊS],MATERIAIS!$I$3,TblMovi[TIPO],$C$1)),"") -> 0 | D20: =IF(B20<>0,INDEX(TblEstoque[Estq. Inicial],MATCH(MATERIAIS!A20,TblEstoque[Equipamento],0))+B20,"") | E20: =IF(C20<>0,INDEX(TblEstoque[Estq. Inicial],MATCH(MATERIAIS!A20,TblEstoque[Equipamento],0))+C20,"")
A21: BROCA 0.70 MM (12 PCS.) | B21: =IFERROR(IF($I$3="Todos",SUMIFS(TblMovi[QUANTIDADE],TblMovi[Equipamento],A21,TblMovi[ANO],MATERIAIS!$I$2,TblMovi[TIPO],$B$1),SUMIFS(TblMovi[QUANTIDADE],TblMovi[Equipamento],A21,TblMovi[ANO],MATERIAIS!$I$2,TblMovi[MÊS],MATERIAIS!$I$3,TblMovi[TIPO],$B$1)),"") -> 0 | C21: =IFERROR(IF($I$3="Todos",SUMIFS(TblMovi[QUANTIDADE],TblMovi[Equipamento],A21,TblMovi[ANO],MATERIAIS!$I$2,TblMovi[TIPO],$C$1),SUMIFS(TblMovi[QUANTIDADE],TblMovi[Equipamento],A21,TblMovi[ANO],MATERIAIS!$I$2,TblMovi[MÊS],MATERIAIS!$I$3,TblMovi[TIPO],$C$1)),"") -> 0 | D21: =IF(B21<>0,INDEX(TblEstoque[Estq. Inicial],MATCH(MATERIAIS!A21,TblEstoque[Equipamento],0))+B21,"") | E21: =IF(C21<>0,INDEX(TblEstoque[Estq. Inicial],MATCH(MATERIAIS!A21,TblEstoque[Equipamento],0))+C21,"")
A22: BROCA 0.70 MM (13 PCS.) | B22: =IFERROR(IF($I$3="Todos",SUMIFS(TblMovi[QUANTIDADE],TblMovi[Equipamento],A22,TblMovi[ANO],MATERIAIS!$I$2,TblMovi[TIPO],$B$1),SUMIFS(TblMovi[QUANTIDADE],TblMovi[Equipamento],A22,TblMovi[ANO],MATERIAIS!$I$2,TblMovi[MÊS],MATERIAIS!$I$3,TblMovi[TIPO],$B$1)),"") -> 0 | C22: =IFERROR(IF($I$3="Todos",SUMIFS(TblMovi[QUANTIDADE],TblMovi[Equipamento],A22,TblMovi[ANO],MATERIAIS!$I$2,TblMovi[TIPO],$C$1),SUMIFS(TblMovi[QUANTIDADE],TblMovi[Equipamento],A22,TblMovi[ANO],MATERIAIS!$I$2,TblMovi[MÊS],MATERIAIS!$I$3,TblMovi[TIPO],$C$1)),"") -> 0 | D22: =IF(B22<>0,INDEX(TblEstoque[Estq. Inicial],MATCH(MATERIAIS!A22,TblEstoque[Equipamento],0))+B22,"") | E22: =IF(C22<>0,INDEX(TblEstoque[Estq. Inicial],MATCH(MATERIAIS!A22,TblEstoque[Equipamento],0))+C22,"")
A23: BROCA 0.80 MM (10 PCS.) | B23: =IFERROR(IF($I$3="Todos",SUMIFS(TblMovi[QUANTIDADE],TblMovi[Equipamento],A23,TblMovi[ANO],MATERIAIS!$I$2,TblMovi[TIPO],$B$1),SUMIFS(TblMovi[QUANTIDADE],TblMovi[Equipamento],A23,TblMovi[ANO],MATERIAIS!$I$2,TblMovi[MÊS],MATERIAIS!$I$3,TblMovi[TIPO],$B$1)),"") -> 0 | C23: =IFERROR(IF($I$3="Todos",SUMIFS(TblMovi[QUANTIDADE],TblMovi[Equipamento],A23,TblMovi[ANO],MATERIAIS!$I$2,TblMovi[TIPO],$C$1),SUMIFS(TblMovi[QUANTIDADE],TblMovi[Equipamento],A23,TblMovi[ANO],MATERIAIS!$I$2,TblMovi[MÊS],MATERIAIS!$I$3,TblMovi[TIPO],$C$1)),"") -> 0 | D23: =IF(B23<>0,INDEX(TblEstoque[Estq. Inicial],MATCH(MATERIAIS!A23,TblEstoque[Equipamento],0))+B23,"") | E23: =IF(C23<>0,INDEX(TblEstoque[Estq. Inicial],MATCH(MATERIAIS!A23,TblEstoque[Equipamento],0))+C23,"")
... A107: PINÇA DE BANCADA | B107: =IFERROR(IF($I$3="Todos",SUMIFS(TblMovi[QUANTIDADE],TblMovi[Equipamento],A107,TblMovi[ANO],MATERIAIS!$I$2,TblMovi[TIPO],$B$1),SUMIFS(TblMovi[QUANTIDADE],TblMovi[Equipamento],A107,TblMovi[ANO],MATERIAIS!$I$2,TblMovi[MÊS],MATERIAIS!$I$3,TblMovi[TIPO],$B$1)),"") -> 0 | C107: =IFERROR(IF($I$3="Todos",SUMIFS(TblMovi[QUANTIDADE],TblMovi[Equipamento],A107,TblMovi[ANO],MATERIAIS!$I$2,TblMovi[TIPO],$C$1),SUMIFS(TblMovi[QUANTIDADE],TblMovi[Equipamento],A107,TblMovi[ANO],MATERIAIS!$I$2,TblMovi[MÊS],MATERIAIS!$I$3,TblMovi[TIPO],$C$1)),"") -> 0 | D107: =IF(B107<>0,INDEX(TblEstoque[Estq. Inicial],MATCH(MATERIAIS!A107,TblEstoque[Equipamento],0))+B107,"") | E107: =IF(C107<>0,INDEX(TblEstoque[Estq. Inicial],MATCH(MATERIAIS!A107,TblEstoque[Equipamento],0))+C107,"")

Sheet AUX
A1: ANO SELECIONADO | B1: =INDEX(ano[ano],C1) -> 2024 | C1: 2 | I1: ano | J1: Mês | N1: EPI | O1: TIPO
A2: MÊS SELECIONADO | B2: =INDEX(ano[Mês],C2) -> FEV | C2: 3 | I2: 2023 | J2: Todos | N2: MÁSCARA | O2: EPI
I3: 2024 | J3: JAN | N3: PROTETOR AUDITIVO | O3: EPI
A4: TOP - 6 | I4: 2025 | J4: FEV | N4: LUVA PARA PURIFICAÇÃO | O4: EPI
B5: MATERIAL | C5: SAÍDA | D5: Etoque | J5: MAR | N5: LUVA TATEX BRANCA | O5: EPI
A6: 1 | B6: =INDEX(MATERIAIS!A:A,MATCH(AUX!C6,MATERIAIS!D:D,0)) -> LIXA P1200 | C6: =IFERROR(LARGE(MATERIAIS!D:D,AUX!A6),"") -> 285 | D6: =INDEX(TblEstoque[Estq. Final],MATCH(B6,TblEstoque[Equipamento],0)) -> 95 | J6: ABR | N6: LUVA TATEX PRETA | O6: EPI
A7: 2 | B7: =INDEX(MATERIAIS!A:A,MATCH(AUX!C7,MATERIAIS!D:D,0)) -> LIXA 400 | C7: =IFERROR(LARGE(MATERIAIS!D:D,AUX!A7),"") -> 215 | D7: =INDEX(TblEstoque[Estq. Final],MATCH(B7,TblEstoque[Equipamento],0)) -> 290 | J7: MAI
A8: 3 | B8: =INDEX(MATERIAIS!A:A,MATCH(AUX!C8,MATERIAIS!D:D,0)) -> LIXA 600 | C8: =IFERROR(LARGE(MATERIAIS!D:D,AUX!A8),"") -> 128 | D8: =INDEX(TblEstoque[Estq. Final],MATCH(B8,TblEstoque[Equipamento],0)) -> 158 | J8: JUN
A9: 4 | B9: =INDEX(MATERIAIS!A:A,MATCH(AUX!C9,MATERIAIS!D:D,0)) -> LIXA 280 | C9: =IFERROR(LARGE(MATERIAIS!D:D,AUX!A9),"") -> 101 | D9: =INDEX(TblEstoque[Estq. Final],MATCH(B9,TblEstoque[Equipamento],0)) -> 70 | J9: JUL
A10: 5 | B10: =INDEX(MATERIAIS!A:A,MATCH(AUX!C10,MATERIAIS!D:D,0)) -> RODA JEANS (G) | C10: =IFERROR(LARGE(MATERIAIS!D:D,AUX!A10),"") -> 62 | D10: =INDEX(TblEstoque[Estq. Final],MATCH(B10,TblEstoque[Equipamento],0)) -> 0 | J10: AGO
A11: 6 | B11: =INDEX(MATERIAIS!A:A,MATCH(AUX!C11,MATERIAIS!D:D,0)) -> MÁSCARA | C11: =IFERROR(LARGE(MATERIAIS!D:D,AUX!A11),"") -> 44 | D11: =INDEX(TblEstoque[Estq. Final],MATCH(B11,TblEstoque[Equipamento],0)) -> 5 | J11: SET
B12: MATERIAL | C12: ENTRADA | D12: Etoque | J12: OUT
A13: 1 | B13: =INDEX(MATERIAIS!A:A,MATCH(AUX!C13,MATERIAIS!E:E,0)) -> LIXA P1200 | C13: =IFERROR(LARGE(MATERIAIS!E:E,AUX!A13),"") -> 405 | D13: =INDEX(TblEstoque[Estq. Final],MATCH(B13,TblEstoque[Equipamento],0)) -> 95 | J13: NOV
A14: 2 | B14: =INDEX(MATERIAIS!A:A,MATCH(AUX!C14,MATERIAIS!E:E,0)) -> LIXA 600 | C14: =IFERROR(LARGE(MATERIAIS!E:E,AUX!A14),"") -> 226 | D14: =INDEX(TblEstoque[Estq. Final],MATCH(B14,TblEstoque[Equipamento],0)) -> 158 | J14: DEZ
A15: 3 | B15: =INDEX(MATERIAIS!A:A,MATCH(AUX!C15,MATERIAIS!E:E,0)) -> BISTURI | C15: =IFERROR(LARGE(MATERIAIS!E:E,AUX!A15),"") -> 200 | D15: =INDEX(TblEstoque[Estq. Final],MATCH(B15,TblEstoque[Equipamento],0)) -> 147
A16: 4 | B16: =INDEX(MATERIAIS!A:A,MATCH(AUX!C16,MATERIAIS!E:E,0)) -> LIXA 1000 | C16: =IFERROR(LARGE(MATERIAIS!E:E,AUX!A16),"") -> 177 | D16: =INDEX(TblEstoque[Estq. Final],MATCH(B16,TblEstoque[Equipamento],0)) -> 150
A17: 5 | B17: =INDEX(MATERIAIS!A:A,MATCH(AUX!C17,MATERIAIS!E:E,0)) -> WHITE ROUGE | C17: =IFERROR(LARGE(MATERIAIS!E:E,AUX!A17),"") -> 61 | D17: =INDEX(TblEstoque[Estq. Final],MATCH(B17,TblEstoque[Equipamento],0)) -> 69
A18: 6 | B18: =INDEX(MATERIAIS!A:A,MATCH(AUX!C18,MATERIAIS!E:E,0)) -> ROUGE VERMELHO | C18: =IFERROR(LARGE(MATERIAIS!E:E,AUX!A18),"") -> 58 | D18: =INDEX(TblEstoque[Estq. Final],MATCH(B18,TblEstoque[Equipamento],0)) -> 47
A20: Top - 3 Funcionarios | B20: Nome | C20: Entrada
A21: 1 | B21: =INDEX(ControleProdução[Recebido Por],MATCH(C21,ControleProdução[Qtd],0)) -> FELIPE | C21: =LARGE(ControleProdução[Qtd],AUX!A21) -> 255
A22: 2 | B22: =INDEX(ControleProdução[Recebido Por],MATCH(C22,ControleProdução[Qtd],0)) -> FELIPE | C22: =LARGE(ControleProdução[Qtd],AUX!A22) -> 254
A23: 3 | B23: =INDEX(ControleProdução[Recebido Por],MATCH(C23,ControleProdução[Qtd],0)) -> FELIPE | C23: =LARGE(ControleProdução[Qtd],AUX!A23) -> 253

Sheet Dashboard
B1: Ano
B2: Mês
C12: Entrada de Material | K12: Saída de Material

Sheet Menu
