Workbook

Sheet Análise de Result. Rec-Desp
C5: Governo do Estado do Rio de Janeiro
C6: Secretaria de Estado da Casa Civil
C7: Imprensa Oficial do Estado do Rio de Janeiro | F7: ATUALIZADA EM: | G7: 43847
B9: DIRETORIA FINANCEIRA ANÁLISE DE RESULTADOS - RECEITA / DESPESA
B10: MÊS | C10: RECEITA - 2018 | D10: PART. PERCENTUAL | E10: RECEITA - 2019 | F10: PART. PERCENTUAL | G10: VARIAÇÃO 2019/2018
B11: JANEIRO | C11: 1526161 | D11: =C11/$C$23 -> 0.02069255 | E11: 2574567.2 | F11: =E11/$E$23 -> 0.035365794 | G11: =E11/C11-1 -> 0.68695653
B12: FEVEREIRO | C12: 5783943.7 | D12: =C12/$C$23 -> 0.078421964 | E12: 4856580.9 | F12: =E12/$E$23 -> 0.066712897 | G12: =E12/C12-1 -> -0.160334
B13: MARÇO | C13: 13502465 | D13: =C13/$C$23 -> 0.18307402 | E13: 11212256 | F13: =E13/$E$23 -> 0.15401825 | G13: =E13/C13-1 -> -0.16961413
B14: ABRIL | C14: 13868247 | D14: =C14/$C$23 -> 0.1880335 | E14: 17501172 | F14: =E14/$E$23 -> 0.24040656 | G14: =E14/C14-1 -> 0.26195994
B15: MAIO | C15: 11559811 | D15: =C15/$C$23 -> 0.15673443 | E15: 11897401 | F15: =E15/$E$23 -> 0.16342981 | G15: =E15/C15-1 -> 0.029203741
B16: JUNHO | C16: 5300575.6 | D16: =C16/$C$23 -> 0.071868188 | E16: 4475691.4 | F16: =E16/$E$23 -> 0.061480772 | G16: =E16/C16-1 -> -0.15562163
B17: JULHO | C17: 4476370.3 | D17: =C17/$C$23 -> 0.060693148 | E17: 4155980.1 | F17: =E17/$E$23 -> 0.057089027 | G17: =E17/C17-1 -> -0.071573648
B18: AGOSTO | C18: 4152597.3 | D18: =C18/$C$23 -> 0.056303251 | E18: 3551891.4 | F18: =E18/$E$23 -> 0.048790903 | G18: =E18/C18-1 -> -0.14465787
B19: SETEMBRO | C19: 3583903.7 | D19: =C19/$C$23 -> 0.048592584 | E19: 3229531.7 | F19: =E19/$E$23 -> 0.044362777 | G19: =E19/C19-1 -> -0.098878776
B20: OUTUBRO | C20: 2225528.5 | D20: =C20/$C$23 -> 0.030174968 | E20: 2394535.2 | F20: =E20/$E$23 -> 0.032892767 | G20: =E20/C20-1 -> 0.075940053
B21: NOVEMBRO | C21: 3264754 | D21: =C21/$C$23 -> 0.044265373 | E21: 2124372 | F21: =E21/$E$23 -> 0.029181643 | G21: =E21/C21-1 -> -0.34930106
B22: DEZEMBRO | C22: 4509772.3 | D22: =C22/$C$23 -> 0.061146031 | E22: 4824251.7 | F22: =E22/$E$23 -> 0.066268804 | G22: =E22/C22-1 -> 0.069732878
B23: TOTAL | C23: =SUM(C11:C22) -> 73754129 | D23: =SUM(D11:D22) -> 1 | E23: =SUM(E11:E22) -> 72798230 | F23: =SUM(F11:F22) -> 1 | G23: =E23/C23-1 -> -0.012960612
B25: MÊS | C25: DESPESA - 2018 | D25: PART. PERCENTUAL | E25: DESPESA - 2019 | F25: PART. PERCENTUAL | G25: VARIAÇÃO 2019/2018
B26: JANEIRO | C26: 4966942.8 | D26: =C26/$C$38 -> 0.071089773 | E26: 4062031.5 | F26: =E26/$E$38 -> 0.063364762 | G26: =E26/C26-1 -> -0.18218677
B27: FEVEREIRO | C27: 4696808.4 | D27: =C27/$C$38 -> 0.067223452 | E27: 4390193.3 | F27: =E27/$E$38 -> 0.068483849 | G27: =E27/C27-1 -> -0.065281583
B28: MARÇO | C28: 7455707.7 | D28: =C28/$C$38 -> 0.10671042 | E28: 5749719.7 | F28: =E28/$E$38 -> 0.089691479 | G28: =E28/C28-1 -> -0.22881638
B29: ABRIL | C29: 5570175.7 | D29: =C29/$C$38 -> 0.079723593 | E29: 4816872.4 | F29: =E29/$E$38 -> 0.075139734 | G29: =E29/C29-1 -> -0.1352387
B30: MAIO | C30: 5772221.1 | D30: =C30/$C$38 -> 0.082615384 | E30: 4987001.1 | F30: =E30/$E$38 -> 0.07779362 | G30: =E30/C30-1 -> -0.1360343
B31: JUNHO | C31: 8618971 | D31: =C31/$C$38 -> 0.12335972 | E31: 8759767 | F31: =E31/$E$38 -> 0.13664605 | G31: =E31/C31-1 -> 0.016335597
B32: JULHO | C32: 5573359.8 | D32: =C32/$C$38 -> 0.079769165 | E32: 4813525.9 | F32: =E32/$E$38 -> 0.075087533 | G32: =E32/C32-1 -> -0.13633318
B33: AGOSTO | C33: 5064639.4 | D33: =C33/$C$38 -> 0.072488063 | E33: 4366136.1 | F33: =E33/$E$38 -> 0.068108573 | G33: =E33/C33-1 -> -0.13791768
B34: SETEMBRO | C34: 5441203.1 | D34: =C34/$C$38 -> 0.077877662 | E34: 5703729.5 | F34: =E34/$E$38 -> 0.088974066 | G34: =E34/C34-1 -> 0.048247861
B35: OUTUBRO | C35: 4674131.4 | D35: =C35/$C$38 -> 0.066898885 | E35: 4744463.4 | F35: =E35/$E$38 -> 0.074010207 | G35: =E35/C35-1 -> 0.015047078
B36: NOVEMBRO | C36: 5079320 | D36: =C36/$C$38 -> 0.072698181 | E36: 5674958.2 | F36: =E36/$E$38 -> 0.088525254 | G36: =E36/C36-1 -> 0.1172673
B37: DEZEMBRO | C37: 6955118.3 | D37: =C37/$C$38 -> 0.099545696 | E37: 6037130 | F37: =E37/$E$38 -> 0.094174874 | G37: =E37/C37-1 -> -0.13198744
B38: TOTAL | C38: =SUM(C26:C37) -> 69868599 | D38: =SUM(D26:D37) -> 1 | E38: =SUM(E26:E37) -> 64105528 | F38: =SUM(F26:F37) -> 1 | G38: =E38/C38-1 -> -0.082484417

Sheet Comparativo Anual 2019 - 2018
C5: Governo do Estado do Rio de Janeiro
C6: Secretaria de Estado da Casa Civil
C7: Imprensa Oficial do Estado do Rio de Janeiro | G7: ATUALIZADA EM: | H7: 43847
B9: DIRETORIA FINANCEIRA ANÁLISE DE RESULTADOS - RECEITA / DESPESA
B10: MÊS | C10: RECEITAS 2018 | D10: DESPESAS 2018 | E10: RESULTADOS 2018 | F10: RECEITAS 2019 | G10: DESPESAS 2019 | H10: RESULTADOS 2019 | I10: VARIAÇÃO DOS RESULTADOS 2019 / 2018
B11: JANEIRO | C11: ='Análise de Result. Rec-Desp'!C11 -> 1526161 | D11: ='Análise de Result. Rec-Desp'!C26 -> 4966942.8 | E11: =C11-D11 -> -3440781.8 | F11: ='Análise de Result. Rec-Desp'!E11 -> 2574567.2 | G11: ='Análise de Result. Rec-Desp'!E26 -> 4062031.5 | H11: =F11-G11 -> -1487464.3 | I11: =H11-E11 -> 1953317.5
B12: FEVEREIRO | C12: ='Análise de Result. Rec-Desp'!C12 -> 5783943.7 | D12: ='Análise de Result. Rec-Desp'!C27 -> 4696808.4 | E12: =C12-D12 -> 1087135.2 | F12: ='Análise de Result. Rec-Desp'!E12 -> 4856580.9 | G12: ='Análise de Result. Rec-Desp'!E27 -> 4390193.3 | H12: =F12-G12 -> 466387.54 | I12: =H12-E12 -> -620747.71
B13: MARÇO | C13: ='Análise de Result. Rec-Desp'!C13 -> 13502465 | D13: ='Análise de Result. Rec-Desp'!C28 -> 7455707.7 | E13: =C13-D13 -> 6046757 | F13: ='Análise de Result. Rec-Desp'!E13 -> 11212256 | G13: ='Análise de Result. Rec-Desp'!E28 -> 5749719.7 | H13: =F13-G13 -> 5462536.2 | I13: =H13-E13 -> -584220.72
B14: ABRIL | C14: ='Análise de Result. Rec-Desp'!C14 -> 13868247 | D14: ='Análise de Result. Rec-Desp'!C29 -> 5570175.7 | E14: =C14-D14 -> 8298071.2 | F14: ='Análise de Result. Rec-Desp'!E14 -> 17501172 | G14: ='Análise de Result. Rec-Desp'!E29 -> 4816872.4 | H14: =F14-G14 -> 12684300 | I14: =H14-E14 -> 4386228.5
B15: MAIO | C15: ='Análise de Result. Rec-Desp'!C15 -> 11559811 | D15: ='Análise de Result. Rec-Desp'!C30 -> 5772221.1 | E15: =C15-D15 -> 5787590.1 | F15: ='Análise de Result. Rec-Desp'!E15 -> 11897401 | G15: ='Análise de Result. Rec-Desp'!E30 -> 4987001.1 | H15: =F15-G15 -> 6910399.8 | I15: =H15-E15 -> 1122809.8
B16: JUNHO | C16: ='Análise de Result. Rec-Desp'!C16 -> 5300575.6 | D16: ='Análise de Result. Rec-Desp'!C31 -> 8618971 | E16: =C16-D16 -> -3318395.4 | F16: ='Análise de Result. Rec-Desp'!E16 -> 4475691.4 | G16: ='Análise de Result. Rec-Desp'!E31 -> 8759767 | H16: =F16-G16 -> -4284075.6 | I16: =H16-E16 -> -965680.26
B17: JULHO | C17: ='Análise de Result. Rec-Desp'!C17 -> 4476370.3 | D17: ='Análise de Result. Rec-Desp'!C32 -> 5573359.8 | E17: =C17-D17 -> -1096989.5 | F17: ='Análise de Result. Rec-Desp'!E17 -> 4155980.1 | G17: ='Análise de Result. Rec-Desp'!E32 -> 4813525.9 | H17: =F17-G17 -> -657545.83 | I17: =H17-E17 -> 439443.71
B18: AGOSTO | C18: ='Análise de Result. Rec-Desp'!C18 -> 4152597.3 | D18: ='Análise de Result. Rec-Desp'!C33 -> 5064639.4 | E18: =C18-D18 -> -912042.13 | F18: ='Análise de Result. Rec-Desp'!E18 -> 3551891.4 | G18: ='Análise de Result. Rec-Desp'!E33 -> 4366136.1 | H18: =F18-G18 -> -814244.66 | I18: =H18-E18 -> 97797.47
B19: SETEMBRO | C19: ='Análise de Result. Rec-Desp'!C19 -> 3583903.7 | D19: ='Análise de Result. Rec-Desp'!C34 -> 5441203.1 | E19: =C19-D19 -> -1857299.4 | F19: ='Análise de Result. Rec-Desp'!E19 -> 3229531.7 | G19: ='Análise de Result. Rec-Desp'!E34 -> 5703729.5 | H19: =F19-G19 -> -2474197.8 | I19: =H19-E19 -> -616898.42
B20: OUTUBRO | C20: ='Análise de Result. Rec-Desp'!C20 -> 2225528.5 | D20: ='Análise de Result. Rec-Desp'!C35 -> 4674131.4 | E20: =C20-D20 -> -2448602.9 | F20: ='Análise de Result. Rec-Desp'!E20 -> 2394535.2 | G20: ='Análise de Result. Rec-Desp'!E35 -> 4744463.4 | H20: =F20-G20 -> -2349928.1 | I20: =H20-E20 -> 98674.73
B21: NOVEMBRO | C21: ='Análise de Result. Rec-Desp'!C21 -> 3264754 | D21: ='Análise de Result. Rec-Desp'!C36 -> 5079320 | E21: =C21-D21 -> -1814566 | F21: ='Análise de Result. Rec-Desp'!E21 -> 2124372 | G21: ='Análise de Result. Rec-Desp'!E36 -> 5674958.2 | H21: =F21-G21 -> -3550586.2 | I21: =H21-E21 -> -1736020.2
B22: DEZEMBRO | C22: ='Análise de Result. Rec-Desp'!C22 -> 4509772.3 | D22: ='Análise de Result. Rec-Desp'!C37 -> 6955118.3 | E22: =C22-D22 -> -2445346 | F22: ='Análise de Result. Rec-Desp'!E22 -> 4824251.7 | G22: ='Análise de Result. Rec-Desp'!E37 -> 6037130 | H22: =F22-G22 -> -1212878.3 | I22: =H22-E22 -> 1232467.7
B23: TOTAL | C23: =SUM(C11:C22) -> 73754129 | D23: =SUM(D11:D22) -> 69868599 | E23: =SUM(E11:E22) -> 3885530.3 | F23: =SUM(F11:F22) -> 72798230 | G23: =SUM(G11:G22) -> 64105528 | H23: =SUM(H11:H22) -> 8692702.3 | I23: =SUM(I11:I22) -> 4807172

Sheet Gráfico - Receitas
C5: Governo do Estado do Rio de Janeiro
C6: Secretaria de Estado da Casa Civil
C7: Imprensa Oficial do Estado do Rio de Janeiro | G7: ATUALIZADA EM: | H7: 43847

Sheet Gráfico - Despesas
C5: Governo do Estado do Rio de Janeiro
C6: Secretaria de Estado da Casa Civil
C7: Imprensa Oficial do Estado do Rio de Janeiro | F7: ATUALIZADA EM: | G7: 43847

Sheet Gráfico - Resultados
C5: Governo do Estado do Rio de Janeiro
C6: Secretaria de Estado da Casa Civil
C7: Imprensa Oficial do Estado do Rio de Janeiro | F7: ATUALIZADA EM: | G7: 43847
